BEGIN:VCALENDAR
VERSION:2.0
PRODID:-//Joe Bradley Auctioneers - ECPv6.15.20//NONSGML v1.0//EN
CALSCALE:GREGORIAN
METHOD:PUBLISH
X-WR-CALNAME:Joe Bradley Auctioneers
X-ORIGINAL-URL:https://jbauctioneers.net
X-WR-CALDESC:Events for Joe Bradley Auctioneers
REFRESH-INTERVAL;VALUE=DURATION:PT1H
X-Robots-Tag:noindex
X-PUBLISHED-TTL:PT1H
BEGIN:VTIMEZONE
TZID:America/Los_Angeles
BEGIN:DAYLIGHT
TZOFFSETFROM:-0800
TZOFFSETTO:-0700
TZNAME:PDT
DTSTART:20190310T100000
END:DAYLIGHT
BEGIN:STANDARD
TZOFFSETFROM:-0700
TZOFFSETTO:-0800
TZNAME:PST
DTSTART:20191103T090000
END:STANDARD
BEGIN:DAYLIGHT
TZOFFSETFROM:-0800
TZOFFSETTO:-0700
TZNAME:PDT
DTSTART:20200308T100000
END:DAYLIGHT
BEGIN:STANDARD
TZOFFSETFROM:-0700
TZOFFSETTO:-0800
TZNAME:PST
DTSTART:20201101T090000
END:STANDARD
BEGIN:DAYLIGHT
TZOFFSETFROM:-0800
TZOFFSETTO:-0700
TZNAME:PDT
DTSTART:20210314T100000
END:DAYLIGHT
BEGIN:STANDARD
TZOFFSETFROM:-0700
TZOFFSETTO:-0800
TZNAME:PST
DTSTART:20211107T090000
END:STANDARD
END:VTIMEZONE
BEGIN:VEVENT
DTSTART;TZID=America/Los_Angeles:20201117T103000
DTEND;TZID=America/Los_Angeles:20201117T143000
DTSTAMP:20260425T175056
CREATED:20201030T221654Z
LAST-MODIFIED:20201114T081101Z
UID:4780-1605609000-1605623400@jbauctioneers.net
SUMMARY:OCEANSIDE - AUTO AUCTION
DESCRIPTION:Attention Valued Customers\, Only Registered bidders will be allowed to attend the auction. We are taking extra precaution to keep you and our staff safe. We will provide portable bathroom & washing station\,  we will all practice social distancing\, all attendees must wear protective face covering in the auction sale yard area.\n\n\nPresented By:Auctions the 1st and 3rd Tuesdays of each monthPUBLIC AUTO AUCTIONUp to 80 Selected Vehicles\nTuesday November 17th @ 10:30am1060 Airport Rd. (in the Oceanside location towing yard)Oceanside 92058Phone. 760-722-6686For a map and directions\, click hereHere are some photos of vehicles available at this week’s S&R Towing auction.Vehicles posted are subject to change without notice.Click on any of the images below to see the larger picture.*** THIS WEEK’S FEATURED VEHICLES ***\n\n\n\nno images were found \n\n\n\n*** NON-RUNNERS ***\n\n\n\nno images were found \n\n\n\nTo download a copy of the list in Adobe pdf format\, Click here\n\n\n\n\n\n\n	INVOICE #YEARMAKEMODELPLATELIC EXPVINODOMTIT / SAL\n\n\n\n\n	1306581997ToyotaRAV43VWZ823JT3GP10V2V7016716\n\n\n	234424W2000DodgeIntrepid4HYT2062B3HD56J4YH129999\n\n\n	334415W2003Mercedes-BenzC2408ESK966WDBRF61J73F414537SAL\n\n\n	434410W1997MercuryGrand Marquis3UZP0922MELM74W5VX690456SAL\n\n\n	5\n\n\n	634421W2004ChevroletCavalier8NZM7961G1JC12F947182290\n\n\n	7276612004MitsubishiLancer5KHP532JA3AJ86E94U028637\n\n\n	8301272004Mercedes-BenzC-Class1WDBRF40J24F508381\n\n\n	934402W2003FordFocus7MSH4171FAFP33P73W304689TIT\n\n\n	1034416W1999ToyotaCamry4ZZP5314T1BG28K6XU401766\n\n\n	1134418W1998ToyotaCorolla4AAG4841NXBR18E6WZ019315\n\n\n	12266781994DodgeRam Wagon6JFR4052B5WB35T5RK584229\n\n\n	13329171999ToyotaCamry7HAE985JT2BF22K2X0218431TIT\n\n\n	14334532000VolkswagenJETTA5NOK5003VWSC29M9YM141916TIT\n\n\n	15291902005HONDAACCORD5XKXN5921HGCM66845A013984\n\n\n	16293262015ChevroletCRUZE7WPN3461G1PE5SBXF7229015\n\n\n	17302411991HondaAccord6CQJ381JHMCB7656MC000428\n\n\n	18328371996InfinitiI30AN56074JNKCA21D6TT002585TIT\n\n\n	19304152002ToyotaSienna8MPR4774T3ZF19C42U445445SAL\n\n\n	2034422W1998HondaCivic7EAJ095JHMEJ6675WS009170SAL\n\n\n	2134420W2002NissanMaxima8AYL696JN1DA31D92T449392\n\n\n	2234406W2007FordCrown Victoria5XTF2402FAFP74V17X137955\n\n\n	2334405W1996FordCrown Victoria7BJU3942FALP74W8TX208445\n\n\n	2434407W2013HyundaiElantra6YHZ6585NPDH4AE4DH240415SAL\n\n\n	2534413W2003ToyotaCorolla8GJH5511NXBR32E63Z181607\n\n\n	2634423W1989PlymouthGrand Voyager7NCU2911P4FH4432KX519085SAL\n\n\n	2734425W2006VolvoV505SOV606YV1MW390662178006\n\n\n	2834414W1996Land RoverDiscovery6THA187SALJN1244TA504800\n\n\n	29218512000ChevroletT75001GBJ7C1C1YJ509115\n\n\n	30275982007ChevroletTILTMASTER W4S0428P23068J8BC4B16377003015\n\n\n	3134419W1988FordRanger93167H11FTCR14T0JPB30074\n\n\n	32317342011NissanVersa6NTW7863N1BC1CP0BL446785TIT\n\n\n	3334412W2001ToyotaCamry5FXC7814T1BG22K61U843382\n\n\n	34294512003KiaRio5AEG004KNADC125536216853\n\n\n	3534404W2002VolvoV707TDY192YV1SZ58D521050628SAL\n\n\n	36268781998PontiacFirebird8RQB0972G2FS22K9W2203981JUNK\n\n\n	37\n\n\n	3834411W1995BuickRegal7FAJ6082G4WB52L9S1465176\n\n\n	39\n\n\n	4034409W2005BMWX58DIX6655UXFA13535LY02048\n\n\n	41337912001ChevroletSilverado 150027755T11GCEC14W51Z269626TIT\n\n\n	42283562015ToyotaPrius7JDG436JTDKN3DU0F1893315\n\n\n	43281492006NissanAltima8JSZ8961N4AL11E46C107271\n\n\n	44302012004KiaSpectra6SVU962KNAFE121645030651SAL\n\n\n	45\n\n\n	4634408W2002BMW745LI5TPX637WBAGN63472DR04129\n\n\n	47\n\n\n	48\n\n\n	49309662001NissanSentra4UDV2053N1CB51DX1L512958\n\n\n	50333061999Mercedes-BenzM-Class6FJK6874JGAB54E4XA139419TIT\n\n\n	51317082009ToyotaCorolla6FGR0481NXBE40E79Z096997TIT\n\n\n	52309562009ToyotaMatrix6FUM1292T1KU40E49C158148\n\n\n	53306352002ToyotaHighlander4WOH226JTEGF21A720046438TIT\n\n\n	54312142003NissanAltima7CNZ0981N4AL11E83C113098TIT\n\n\n	55291071990ToyotaPickup4C26088JT4RN93P3L5020174TIT\n\n\n	56304531991ChevroletAstroDPR88181GNDM15Z1MB154768\n\n\n	57323272006FordMustang7HHK0331ZVFT82H765132054TIT\n\n\n	58289761999HondaCivic4GXL8712HGEJ6670XH560151TIT\n\n\n	59311592006SaturnIon400YDJ1G8AL55F86Z164407\n\n\n	60297231999ChevroletBlazer4GGE3071GNCS18WXXK211251\n\n\n	61310981998ToyotaCorolla6DVL6091NXBR12E8WZ093179\n\n\n	62\n\n\n	63292072000HondaAccord7AJC0891HGCG3262YA010905\n\n\n	64313562006MazdaTribute5VFJ6074F2YZ02Z26KM34924TIT\n\n\n	65284301995ChevroletK15008Y662582GCEK19K0S1111942\n\n\n	66334712006PontiacG65PIU2161G2ZM151664140790TIT\n\n\n	67308201995FordWindstar236EZ2FMDA5148SBD47750SAL\n\n\n	68300981997HondaAccord3XCV6731HGCD5602VA278777\n\n\n	69299811995FordThunderbird3KJV8341FALP62W3SH114369\n\n\n	70281712006ChevroletCobalt7DSC1601G1AK55F567818776\n\n\n	71289662010VolkswagenJetta6MJA69907/183VWJZ7AJ1AM090426152327\n\n\n	72305031985ChevroletCorvette7DME55601/171G1YY0789F5111318208393\n\n\n	73236752003AcuraTL5YGK40001/2019UUA56823A085562117956\n\n\n	74304942002MercuryMountaineer7YZL99207/214M2ZU66E32ZJ20529196821\n\n\n	75279761994IsuzuNPR5A5064709/18JALB4B1K2R7005972182498\n\n\n	76121122010FordF-350 Super DutyAH88N3406/191FTWW3BR0AEA09761178209\n\n\n	77305322008MazdaMazda36EDR62805/19JM1BK32G681139456174236\n\n\n	78\n\n\n	79285822015KiaSoul8PLP23408/21KNDJP3A5XF7123123181112\n\n\n	80307972007ToyotaTacoma12953A306/215TETU62N67Z442241262473\n\n\n	81321602004HondaCivic6EDN1502HGES16364H643933146451TIT\n\n\n	8234302BSA2007NissanAltima6AJU0311N4AL21E47C20995344254TIT\n\n\n	83303642013BMW328I XDRIVE7NOT59110/18WBAKF5C50DE65812740018\n\n\n	84331742007HondaOdyssey6PCL68712/195FNRL38727B027410199277TIT\n\n\n\n\n\n\n\nTERMS AND CONDITIONS\n\nBuyers fees: Dealers & Dismantlers $35.00\nGeneral Public $65.00\n$200.00 cash deposit required to bid\nAll vehicles must be paid for in full CASH ONLY at the conclusion of the auction\nAll vehicles must be removed by Friday following the auction\nFor more info call direct 760-722-6686
URL:https://jbauctioneers.net/event/oceanside-auto-auction-20201117/
LOCATION:S&R Towing\, 1060 Airport Rd.\, Oceanside\, CA\, 92058\, United States
END:VEVENT
END:VCALENDAR