BEGIN:VCALENDAR
VERSION:2.0
PRODID:-//Joe Bradley Auctioneers - ECPv6.15.20//NONSGML v1.0//EN
CALSCALE:GREGORIAN
METHOD:PUBLISH
X-ORIGINAL-URL:https://jbauctioneers.net
X-WR-CALDESC:Events for Joe Bradley Auctioneers
REFRESH-INTERVAL;VALUE=DURATION:PT1H
X-Robots-Tag:noindex
X-PUBLISHED-TTL:PT1H
BEGIN:VTIMEZONE
TZID:America/Los_Angeles
BEGIN:DAYLIGHT
TZOFFSETFROM:-0800
TZOFFSETTO:-0700
TZNAME:PDT
DTSTART:20190310T100000
END:DAYLIGHT
BEGIN:STANDARD
TZOFFSETFROM:-0700
TZOFFSETTO:-0800
TZNAME:PST
DTSTART:20191103T090000
END:STANDARD
BEGIN:DAYLIGHT
TZOFFSETFROM:-0800
TZOFFSETTO:-0700
TZNAME:PDT
DTSTART:20200308T100000
END:DAYLIGHT
BEGIN:STANDARD
TZOFFSETFROM:-0700
TZOFFSETTO:-0800
TZNAME:PST
DTSTART:20201101T090000
END:STANDARD
BEGIN:DAYLIGHT
TZOFFSETFROM:-0800
TZOFFSETTO:-0700
TZNAME:PDT
DTSTART:20210314T100000
END:DAYLIGHT
BEGIN:STANDARD
TZOFFSETFROM:-0700
TZOFFSETTO:-0800
TZNAME:PST
DTSTART:20211107T090000
END:STANDARD
END:VTIMEZONE
BEGIN:VEVENT
DTSTART;TZID=America/Los_Angeles:20201124T123500
DTEND;TZID=America/Los_Angeles:20201124T123500
DTSTAMP:20260425T175050
CREATED:20201030T221356Z
LAST-MODIFIED:20201121T190805Z
UID:4775-1606221300-1606221300@jbauctioneers.net
SUMMARY:OTAY MESA - AUTO AUCTION
DESCRIPTION:Attention Valued Customers\, Only Registered bidders will be allowed to attend the auction. We are taking extra precaution to keep you and our staff safe. We will provide portable bathroom & washing station\, we will all practice social distancing\, all attendees must wear protective face covering in the auction sale yard area.\n\nPresented By: PUBLIC AUTO AUCTIONUp to 70 Lien Sale Vehicles!!! SPECIAL DAY !!! Tuesday November 24th @ 12:35pm(Preview 12:00pm) Auctions held Wednesdays7144 Otay Mesa RoadPhone: 1-619-661-8355For a map and directions\, click here \nHere are some photos of vehicles available at this week’s Western Towing Auto Auction.\nClick on any of the images below to see the larger picture.\n\n\n\nno images were found \n\n\n\nTo download a copy of the list in Adobe pdf format\, Click here.\n\n\n\n\n\n\n	NOCONTROLYEAR/MAKEMODELREF NOLS/T\n\n\n\n\n	120-288099 FORDEXPLORER209435LS\n\n\n	220-295902 TOYOTACAMRY210360LS\n\n\n	320-307004 HONDAACCORD211842LS\n\n\n	420-269806 FORDESCAPE207825LS\n\n\n	520-293500 FORDTAURUS210911LS\n\n\n	620-293695 ACURAINTEGRA211050LS\n\n\n	720-289603 MITSDIAMANTE209503LS\n\n\n	820-265994 CHEVC1500207296LS\n\n\n	920-295004 MITSGALANT210763LS\n\n\n	1020-311897 TOYOTACOROLLA212209LS\n\n\n	1120-251202 M-BENZE320205817LS\n\n\n	1220-314804 NISSANSENTRA212499LS\n\n\n	1320-311105 VOLVOS60212217LS\n\n\n	1420-307195 HONDAACCORD211545LS\n\n\n	1520-273513 FORDFUSION208013LS\n\n\n	1620-218312 KIAFORTE202411LS\n\n\n	1720-267099 HONDAACCORD207245LS\n\n\n	1820-292703 HYUNDAIACCENT209986LS\n\n\n	1920-285294 BUICKLESABRE208940LS\n\n\n	2019-126208 BMW650i146657LS\n\n\n	2120-085904 VOLVOS40187589LS\n\n\n	2220-263503 TOYOTACOROLLA207056LS\n\n\n	2320-296803 M-BENZE320210371LS\n\n\n	2420-283500 GMCSAFARI208846LS\n\n\n	2520-314697 TOYOTACAMRY212338LS\n\n\n	2620-296491 TOYOTAPREVIA210231LS\n\n\n	2720-296190 TOYOTACOROLLA210796LS\n\n\n	2820-295200 FORDTAURUS210510LS\n\n\n	2920-313003 HONDACIVIC212459LS\n\n\n	3020-213712 HONDACIVIC201830LS\n\n\n	3120-316799 ACURA3.2TL212841LS\n\n\n	3220-304403 BUICKCENTURY211671LS\n\n\n	3320-275705 CHRYSLERTWN&CNTRY208140LS\n\n\n	3420-313202 LEXUSIS300212472LS\n\n\n	3520-314000 FORDEXPLORER212352LS\n\n\n	3620-221607 BMW750202644LS\n\n\n	3720-242905 DODGECARAVAN204861LS\n\n\n	3818-311796 HONDACIVIC115925LS\n\n\n	3920-269308 M-BENZC300207645LS\n\n\n	4020-303809 TOYOTAYARIS211563LS\n\n\n	4120-308004 TOYOTATACOMA211987LS\n\n\n	4220-273406 VOLVOXC90208229LS\n\n\n	4320-185604 GMCSAVANA VAN198821LS\n\n\n	4420-304303 JAGUARX-TYPE211515LS\n\n\n	4520-294005 JEEPCHEROKEE210590LS\n\n\n	4620-317796 HONDACIVIC212974LS\n\n\n	4719-297703 INFINITIG35164286LS\n\n\n	4820-304704 CHEVIMPALA211582LS\n\n\n	4920-297604 M-BENZS430210897LS\n\n\n	5020-314498 CHEVS10212727LS\n\n\n	5120-280297 BMW528i208732LS\n\n\n	5220-306602 SATURNSL2211573LS\n\n\n	5320-247201 LEXUSLS430205385LS\n\n\n	5420-295606 TOYOTACAMRY210341LS\n\n\n	5520-215310 VOLKSPASSAT202072LS\n\n\n\n\n\n\n\nTERMS AND CONDITIONS\n\nCash Only – All Sales are Final\n$200.00 refundable cash deposit to bid\nRefunds are available anytime during auction\nAll cars must be paid for and picked up by 4pm on Thursday ( no exceptions )\nAdditional deposits are required on vehicle’s over $1000.00
URL:https://jbauctioneers.net/event/otay-mesa-auto-auction-20201124/
LOCATION:Western Towing\, 738 Heritage Rd.\, San Diego\, CA\, 92154\, United States
END:VEVENT
END:VCALENDAR