BEGIN:VCALENDAR
VERSION:2.0
PRODID:-//Joe Bradley Auctioneers - ECPv6.15.20//NONSGML v1.0//EN
CALSCALE:GREGORIAN
METHOD:PUBLISH
X-WR-CALNAME:Joe Bradley Auctioneers
X-ORIGINAL-URL:https://jbauctioneers.net
X-WR-CALDESC:Events for Joe Bradley Auctioneers
REFRESH-INTERVAL;VALUE=DURATION:PT1H
X-Robots-Tag:noindex
X-PUBLISHED-TTL:PT1H
BEGIN:VTIMEZONE
TZID:America/Los_Angeles
BEGIN:DAYLIGHT
TZOFFSETFROM:-0800
TZOFFSETTO:-0700
TZNAME:PDT
DTSTART:20190310T100000
END:DAYLIGHT
BEGIN:STANDARD
TZOFFSETFROM:-0700
TZOFFSETTO:-0800
TZNAME:PST
DTSTART:20191103T090000
END:STANDARD
BEGIN:DAYLIGHT
TZOFFSETFROM:-0800
TZOFFSETTO:-0700
TZNAME:PDT
DTSTART:20200308T100000
END:DAYLIGHT
BEGIN:STANDARD
TZOFFSETFROM:-0700
TZOFFSETTO:-0800
TZNAME:PST
DTSTART:20201101T090000
END:STANDARD
BEGIN:DAYLIGHT
TZOFFSETFROM:-0800
TZOFFSETTO:-0700
TZNAME:PDT
DTSTART:20210314T100000
END:DAYLIGHT
BEGIN:STANDARD
TZOFFSETFROM:-0700
TZOFFSETTO:-0800
TZNAME:PST
DTSTART:20211107T090000
END:STANDARD
END:VTIMEZONE
BEGIN:VEVENT
DTSTART;TZID=America/Los_Angeles:20201209T123500
DTEND;TZID=America/Los_Angeles:20201209T123500
DTSTAMP:20260425T162833
CREATED:20201123T024311Z
LAST-MODIFIED:20201205T004816Z
UID:5386-1607517300-1607517300@jbauctioneers.net
SUMMARY:OTAY MESA - AUTO AUCTION
DESCRIPTION:Attention Valued Customers\, Only Registered bidders will be allowed to attend the auction. We are taking extra precaution to keep you and our staff safe. We will provide portable bathroom & washing station\, we will all practice social distancing\, all attendees must wear protective face covering in the auction sale yard area.\n\n\nPresented By:		\n		    \nPUBLIC AUTO AUCTION\nUp to 70 Lien Sale Vehicles\nWednesday December 9th @ 12:35pm\n(Preview 12:00pm)\n Auctions held Wednesdays\n7144 Otay Mesa Road\nPhone: 1-619-661-8355\nFor a map and directions\, click here\n\nHere are some photos of vehicles available at this week’s Western Towing Auto Auction.\nClick on any of the images below to see the larger picture.\n\n\n\nno images were found \n\n\n\n\nTo download a copy of the list in Adobe pdf format\, Click here.\n\n\n\n\n\n\n\n	NOCONTROLYEAR/MAKEMODELREF NOLS/T\n\n\n\n\n	120-308598 GMCYUKON211949LS\n\n\n	220-336206 CHRYSLER300214650LS\n\n\n	320-316505 NISSANALTIMA212825LS\n\n\n	420-337400 SUBARULEGACY214715LS\n\n\n	520-335107 PONTIACG6214550LS\n\n\n	620-299807 KIAOPTIMA210591LS\n\n\n	720-338599 HONDACIVIC215015LS\n\n\n	820-309892 TOYOTACOROLLA212134LS\n\n\n	920-323100 MITSUBISHIDIAMANTE213322LS\n\n\n	1020-330290 VOLKSJETTA214038LS\n\n\n	1120-241903 MERCEDESE500204797LS\n\n\n	1220-323903 TOYOTASEQUOIA213266LS\n\n\n	1320-304101 FORDCRWN VIC211472LS\n\n\n	1420-314902 SATURNSL2212695LS\n\n\n	1520-208111 CHRYSLER300201259LS\n\n\n	1620-333808 AUDIA6214445LS\n\n\n	1720-328600 LEXUSRX300213967LS\n\n\n	1820-327792 OLDSMOBILECUTLASS213841LS\n\n\n	1920-325807 FORDFUSION213594LS\n\n\n	2020-309605 JEEPCHEROKEE212071LS\n\n\n	2120-272601 CHEVROLETEXPRESS VAN207803LS\n\n\n	2219-275202 FORDF250162500LS\n\n\n	2320-330700 HONDAACCORD214185LS\n\n\n	2420-315507 PONTIACG6212595LS\n\n\n	2520-323713 MITSUBISHILANCER213468LS\n\n\n	2620-347000 FORDEXCURSION215620LS\n\n\n	2720-357302 HYUNDAIACCENT216653LS\n\n\n	2820-341298 FORDEXPEDITION214872LS\n\n\n	2920-327305 MERCURYSABLE213842LS\n\n\n	3020-291699 MERCURYVILLAGER209853LS\n\n\n	3120-313906 ACURA3.2TL212719LS\n\n\n	3220-320698 FORDEXPLORER213358LS\n\n\n	3320-214207 JEEPCHEROKEE201941LS\n\n\n	3420-336104 BMW325ci214614LS\n\n\n	3520-331897 DODGEDAKOTA214292LS\n\n\n	3620-319598 FORDEXPEDITION213110LS\n\n\n	3720-346905 MAZDA6215563LS\n\n\n	3820-343207 CHRYSLERPACIFICA215258LS\n\n\n	3920-308714 NISSANSENTRA212046LS\n\n\n	4020-317803 CHEVROLETAVALANCHE212995LS\n\n\n	4120-317500 VOLVOS70212996LS\n\n\n	4220-329495 TOYOTACOROLLA214342LS\n\n\n	4320-342498 BMW328i204306LS\n\n\n	4420-327599 HONDAACCORD213823LS\n\n\n	4520-330101 CHEVROLETSILVERADO214112LS\n\n\n	4620-340802 FORDWINDSTAR215072LS\n\n\n	4720-306707 FORDEXPEDITION211849LS\n\n\n	4820-298103 MERCEDESE500210992LS\n\n\n	4920-331688 BUICKREATTA214159LS\n\n\n	5020-252305 CHEVROLETG2500 VAN205814LS\n\n\n	5120-333907 DODGECALIBER214177LS\n\n\n	5220-331904 HYUNDAIELANTRA214305LS\n\n\n	5320-331502 BUICKLESABRE214059LS\n\n\n	5420-323298 CHEVROLETS10213377LS\n\n\n	5520-345199 TOYOTAAVALON215483LS\n\n\n	5620-340606 HYUNDAIELANTRA215063LS\n\n\n	5720-320595 MERCURYCOUGAR213210LS\n\n\n	5820-329396 DODGECARAVAN214256LS\n\n\n	5920-330591 ACURALEGEND214183LS\n\n\n	6020-335998 VOLVOV70214676LS\n\n\n	6120-346300 MITSUBISHIGALANT215614LS\n\n\n	6220-340702 NISSANALTIMA215067LS\n\n\n	6320-319408 HYUNDAISONATA213101LS\n\n\n	6420-289098 DODGERAM 1500 VAN209584LS\n\n\n	6520-234502 FORDF150204107LS\n\n\n	6620-294298 FORDEXPEDITION210747LS\n\n\n	6720-343106 KIASPECTRA215237LS\n\n\n	6820-339891 OLDSMOBILEALERO214725LS\n\n\n	6920-327605 SUZUKIFORENZA213836LS\n\n\n	7020-319199 DODGECARAVAN213080LS\n\n\n\n\n\n\n\nTERMS AND CONDITIONS\nCash Only – All Sales are Final\n$200.00 refundable cash deposit to bid\nRefunds are available anytime during auction\nAll cars must be paid for and picked up by 4pm on Thursday ( no exceptions )\nAdditional deposits are required on vehicle’s over $1000.00
URL:https://jbauctioneers.net/event/otay-mesa-auto-auction-20201209/
LOCATION:Western Towing\, 738 Heritage Rd.\, San Diego\, CA\, 92154\, United States
END:VEVENT
END:VCALENDAR