BEGIN:VCALENDAR
VERSION:2.0
PRODID:-//Joe Bradley Auctioneers - ECPv6.15.20//NONSGML v1.0//EN
CALSCALE:GREGORIAN
METHOD:PUBLISH
X-WR-CALNAME:Joe Bradley Auctioneers
X-ORIGINAL-URL:https://jbauctioneers.net
X-WR-CALDESC:Events for Joe Bradley Auctioneers
REFRESH-INTERVAL;VALUE=DURATION:PT1H
X-Robots-Tag:noindex
X-PUBLISHED-TTL:PT1H
BEGIN:VTIMEZONE
TZID:America/Los_Angeles
BEGIN:DAYLIGHT
TZOFFSETFROM:-0800
TZOFFSETTO:-0700
TZNAME:PDT
DTSTART:20200308T100000
END:DAYLIGHT
BEGIN:STANDARD
TZOFFSETFROM:-0700
TZOFFSETTO:-0800
TZNAME:PST
DTSTART:20201101T090000
END:STANDARD
BEGIN:DAYLIGHT
TZOFFSETFROM:-0800
TZOFFSETTO:-0700
TZNAME:PDT
DTSTART:20210314T100000
END:DAYLIGHT
BEGIN:STANDARD
TZOFFSETFROM:-0700
TZOFFSETTO:-0800
TZNAME:PST
DTSTART:20211107T090000
END:STANDARD
BEGIN:DAYLIGHT
TZOFFSETFROM:-0800
TZOFFSETTO:-0700
TZNAME:PDT
DTSTART:20220313T100000
END:DAYLIGHT
BEGIN:STANDARD
TZOFFSETFROM:-0700
TZOFFSETTO:-0800
TZNAME:PST
DTSTART:20221106T090000
END:STANDARD
END:VTIMEZONE
BEGIN:VEVENT
DTSTART;TZID=America/Los_Angeles:20210105T103000
DTEND;TZID=America/Los_Angeles:20210105T143000
DTSTAMP:20260425T150909
CREATED:20201231T171233Z
LAST-MODIFIED:20210101T160635Z
UID:5846-1609842600-1609857000@jbauctioneers.net
SUMMARY:OCEANSIDE - AUTO AUCTION
DESCRIPTION:Attention Valued Customers\, Only Registered bidders will be allowed to attend the auction. We are taking extra precaution to keep you and our staff safe. We will provide portable bathroom & washing station\,  we will all practice social distancing\, all attendees must wear protective face covering in the auction sale yard area.\n\n\nPresented By:Auctions the 1st and 3rd Tuesdays of each monthPUBLIC AUTO AUCTIONUp to 80 Selected Vehicles\nTuesday January 5th @ 10:30am1060 Airport Rd. (in the Oceanside location towing yard)Oceanside 92058Phone. 760-722-6686For a map and directions\, click hereHere are some photos of vehicles available at this week’s S&R Towing auction.Vehicles posted are subject to change without notice.Click on any of the images below to see the larger picture.*** THIS WEEK’S FEATURED VEHICLES ***\n\n\n\nno images were found \n\n\n\n*** NON-RUNNERS ***\n\n\n\nno images were found \n\n\n\nTo download a copy of the list in Adobe pdf format\, Click here\n\n\n\n\n\n\n	INVOICE #YEARMAKEMODELPLATELIC EXPVINODOMTIT / SAL\n\n\n\n\n	1345792006HondaOdyssey5RTL1165FNRL38646B016947Title\n\n\n	2355802004ToyotaCamry5GNU1914T1BF30K73U566238Title\n\n\n	3305781998HondaCivic4HNM493JHMEJ6674WS001920Sal\n\n\n	4290402000ToyotaCamry4KTG9634T1BG22K7YU665976\n\n\n	5340432005KiaSedona5NDC829KNDJD733755423563\n\n\n	6325701991AcuraLegend7HYJ129JH4KA7666MC042590Sal\n\n\n	7339002008ChevorletCobalt6KCP7181G1AL18F187112005\n\n\n	8200462007AudiA48GAP961WAUAF78E37A113874\n\n\n	9336652013FordFiesta6ZCT0353FADP4TJ5DM172669\n\n\n	10343842010CadillacSRXAU70Z613GYFNBEY3AS541375\n\n\n	11347392000MazdaProtégé5ZLX266JM1BJ222XY0211623Title\n\n\n	12338351995Toyota4Runner8JAS351JT3VN29V9S0046404\n\n\n	13350551997ChevorletS10952 6801GCCS1448V8207349J/S\n\n\n	14298982000DodgeCaravan7YIX4231B4GP44G9YB645414\n\n\n	15340722006ToyotaCorolla8NZN6301NXBR32E06Z580565\n\n\n	16357522008HyundaiSonata6UXH7255NPET46F28H371577\n\n\n	17362092011ToyotaTacoma94821P25TFNX4CN7BX002273Title\n\n\n	18340452007FordCrown Vic8MGZ7682FAFP71W47X115462\n\n\n	19326201999Toyota4Runner5BDA669JT3GM84R0X0047862Sal\n\n\n	20344302001ChevorletS106K890981GCCS19W418135764\n\n\n	21339482LexusRX300AU12P00JTJHF10U720265251\n\n\n	22341322005MitsubishiLancer5MCE768JA3AJ26E05U036625\n\n\n	23312102007JaguarX-Type6RQX035SAJWA51A68WJ29513\n\n\n	24339572005NissanSentra5KZG2553N1CB51D55L474318\n\n\n	25300542005HondaCivic5NFR0341HGEM21905L041030\n\n\n	26339852002ToyotaTacomaVPA4BJA5TEGN92N92Z026189\n\n\n	27332032010Mazda36KEU890JM1BL1H6XA1251618\n\n\n	28334242005VolvoS406TZZ931YV1MS390252066183\n\n\n	29367631992ToyotaPickup3L69692%0RN32001976\n\n\n	30367621982ToyotaPickup3W14783JT4RN38D7C0036161Title\n\n\n	31267172006ScionXA6FRS003JTKKT624060154020Title\n\n\n	32348932000MercedesSLK 230SC SLKWDBKK47F3YF163544\n\n\n	33346582003ToyotaCorolla7LOB7471NXBR32E63Z189562\n\n\n	34291522015ToyotaYaris6LZD684JTDJT923185207194\n\n\n	35334602008NissanMurano89451F75N1AZ2MG2GN101708\n\n\n	36329922007SubaruImprezaNOPLATEJF1GE61618H522161Title\n\n\n	37324282004HondaCivic8FZK053JHMEG865XNS004294\n\n\n	38381542001ChevyImpala7urs2032G1WF52E449132049\n\n\n	39376722004DodgeNeonHZR34681B3ES46C41D238521\n\n\n\n	40326011995Lexusrx 3307DUY629JTJGA31U840041803\n\n\n	41275182000DodgeRam4NWL7782B6HB21X3TK128048\n\n\n	42342011999MercedesML 4304JJB1334JGAB72E3YA152047\n\n\n	43281672004HondaCivic4HDY188JHMEJ667XXS002412\n\n\n	44372862004FordEscape1FMYU03115KA51591\n\n\n	45370012008BMW330ci5FGK066WBABW53474PL43028Title\n\n\n	46329132003HondaCR-V6D0H762JHLRE48738C053239\n\n\n	47338961994HondaOdyssey5DLE1365FNRL18083B120143\n\n\n	48370262003ChevyS1070760D1 \n1GCEC14Z4RZ194326Title\n\n\n	49340842004JeepLiberty7AWY2751J4GL58K43W554677\n\n\n	50354252000GMCEnvoy7HKB2451GKES12S046206656Title\n\n\n	51369622001FordExpedition4LKM6031FMRU1560YLB29974Title\n\n\n	52367062001FordTaurus7AJF9411FAFP52261A292272Title\n\n\n	53347181985BMW735i7YHW886WBAFH8403F0636011\n\n\n	54348602003VolkswagenGolf5UYU0289BWGK61J534020914\n\n\n	55358862001ToyotaTundra6M726145TBRT38171S164916Title\n\n\n	56287952007ScionTC8MOG094JTKDE167180222614Sal\n\n\n	57348492007AcuraTSXF592L0JH4CL96977C007923Sal\n\n\n	58296492003HyundaiAccent5bhs033KMHCG45C13U429613\n\n\n	59349052002MercedesC2406YEL231WDBRF61J62E007023\n\n\n	60327092004HondaCivicNO PLATEJHMES96604S003361Sal\n\n\n	61353331999DodgeRam Van7buc2892B4HB15X7XK531243Title\n\n\n	62372881991FordEconoline6MSR4371FDEE14H4MHA14564\n\n\n	63330512007ToyotaCamry5XFL21110/18JTNBB46K473025443197\,336\n\n\n	64339452003KiaSpectra7DME55612/20KNAFB121435299092131\,596\n\n\n	65319862004FordExplorer5FRD63812/171FMZU62K34ZA62230176\,052\n\n\n	66310652005PontiacGT5CZT75611/191G2ZH158664130262205\,119\n\n\n	67317842002HondaCivic7ABB5001/211HGEM22992L022938195\,138Sal\n\n\n	68300951997FordRanger7HMZ69510/181FTCR10A6VVB38465159\,929\n\n\n	69302122002ToyotaTacoma7VEK6646/215TESN92N32Z110180282\,490\n\n\n	70313512005MercedesC2305KRY20910/20WDBRF40J05F622526201\,571\n\n\n	71299492005NissanSentraAV20B489/213N1CB51D24L48730262\,599\n\n\n	72331201989ToyotaPickup3X039836/19JT4RN81R5K0019439299\,729\n\n\n	73318781994HondaCivic938KYV10/19JHMEH9694RS000236134\,319\n\n\n	74302201998ToyotaSienna3XHP81512/204T3ZF13C9WU015327129\,526\n\n\n	75350232006NissanAura8JBM43311/205N1AA08AX6N700226\n212\,111\n\n\n	76333112000ChevorletSuburban7CIX0278/183GNEC16TXYG215968209\,452\n\n\n	77272461993FordF-1504U933757/191FTDF15Y9PLA99379169\,729\n\n\n	78310522001DodgeRam6V55981\n21-Jan1B7HL2AX01S333466240\,139\n\n\n	79335192000FordE-1508SUP188\n6/211FMRE11LXYHA32602\n203\,347Title\n\n\n	80300172000NissanMaxima4LUJ1275/21JN1CA31D7YT722396156\,941Title\n\n\n	81346592012DodgeAvenger8ETT518\n9/201C3CDZAB0CN103324135\,513\n\n\n	82326772003HondaCivic5EWU4129/20JHMES96613S028882163\,815\n\n\n\n\n\n\n\nTERMS AND CONDITIONS\n\nBuyers fees: Dealers & Dismantlers $35.00\nGeneral Public $65.00\n$200.00 cash deposit required to bid\nAll vehicles must be paid for in full CASH ONLY at the conclusion of the auction\nAll vehicles must be removed by Friday following the auction\nFor more info call direct 760-722-6686
URL:https://jbauctioneers.net/event/oceanside-auto-auction-20210105/
LOCATION:S&R Towing\, 1060 Airport Rd.\, Oceanside\, CA\, 92058\, United States
END:VEVENT
END:VCALENDAR