BEGIN:VCALENDAR
VERSION:2.0
PRODID:-//Joe Bradley Auctioneers - ECPv6.15.20//NONSGML v1.0//EN
CALSCALE:GREGORIAN
METHOD:PUBLISH
X-ORIGINAL-URL:https://jbauctioneers.net
X-WR-CALDESC:Events for Joe Bradley Auctioneers
REFRESH-INTERVAL;VALUE=DURATION:PT1H
X-Robots-Tag:noindex
X-PUBLISHED-TTL:PT1H
BEGIN:VTIMEZONE
TZID:America/Los_Angeles
BEGIN:DAYLIGHT
TZOFFSETFROM:-0800
TZOFFSETTO:-0700
TZNAME:PDT
DTSTART:20200308T100000
END:DAYLIGHT
BEGIN:STANDARD
TZOFFSETFROM:-0700
TZOFFSETTO:-0800
TZNAME:PST
DTSTART:20201101T090000
END:STANDARD
BEGIN:DAYLIGHT
TZOFFSETFROM:-0800
TZOFFSETTO:-0700
TZNAME:PDT
DTSTART:20210314T100000
END:DAYLIGHT
BEGIN:STANDARD
TZOFFSETFROM:-0700
TZOFFSETTO:-0800
TZNAME:PST
DTSTART:20211107T090000
END:STANDARD
BEGIN:DAYLIGHT
TZOFFSETFROM:-0800
TZOFFSETTO:-0700
TZNAME:PDT
DTSTART:20220313T100000
END:DAYLIGHT
BEGIN:STANDARD
TZOFFSETFROM:-0700
TZOFFSETTO:-0800
TZNAME:PST
DTSTART:20221106T090000
END:STANDARD
END:VTIMEZONE
BEGIN:VEVENT
DTSTART;TZID=America/Los_Angeles:20210202T103000
DTEND;TZID=America/Los_Angeles:20210202T143000
DTSTAMP:20260425T150909
CREATED:20210130T061229Z
LAST-MODIFIED:20210130T061229Z
UID:6246-1612261800-1612276200@jbauctioneers.net
SUMMARY:OCEANSIDE - AUTO AUCTION
DESCRIPTION:Attention Valued Customers\, Only Registered bidders will be allowed to attend the auction. We are taking extra precaution to keep you and our staff safe. We will provide portable bathroom & washing station\,  we will all practice social distancing\, all attendees must wear protective face covering in the auction sale yard area.\n\n\nPresented By:Auctions the 1st and 3rd Tuesdays of each monthPUBLIC AUTO AUCTIONUp to 80 Selected Vehicles\nTuesday February 2nd @ 10:30am1060 Airport Rd. (in the Oceanside location towing yard)Oceanside 92058Phone. 760-722-6686For a map and directions\, click hereHere are some photos of vehicles available at this week’s S&R Towing auction.Vehicles posted are subject to change without notice.Click on any of the images below to see the larger picture.*** THIS WEEK’S FEATURED VEHICLES ***\n\n\n\nno images were found \n\n\n\n*** NON-RUNNERS ***\n\n\n\nno images were found \n\n\n\nTo download a copy of the list in Adobe pdf format\, Click here\n\n\n\n\n\n\n	INVOICE #YEARMAKEMODELPLATELIC EXPVINODOMTIT / SAL\n\n\n\n\n	1372672009HondaCivic8JSZ9762HGFA16539H307589T/S\n\n\n	2363492003InfinitiG355DDL835JNKCV51E23M305954\n\n\n	3335661999LincolnNavigator8GCJ9905LMRU27L9XLJ09677\n\n\n	4369842013PlymouthReliant6AUY343VP23G4B401408\n\n\n	5366262001PontiacSunfire8JDR1291G2JB524117282576\n\n\n	6364372001HondaCivic6YWH526JHMES16541S002444\n\n\n	7377122002FordExplorer Sport5AEZ6471FMYU60E62UD22042T\n\n\n	8331012009BMW528i6GIV357WBANU53529C121331\n\n\n	9373951999Toyota4Runner5los165JT3GN86R8X0125637T\n\n\n	10388842004AcuraRSX5HGY933JH4DC54834S003991T\n\n\n	11363692000HondaAccord4HYA9881HGCG3273YA004376T\n\n\n	12376062001FordMustang7HKU7381FAFP40461F149551T\n\n\n	13397611990FordF-35037141J12FDKF37M5LCB01609\n\n\n	14294092003FordExpedition7XAJ4081FMPU16L03LC09182\n\n\n	15368702004ChevroletSilverado 15007H549102GCEC19V741156631\n\n\n	16365302008ChryslerSebring7ZWU4361C3LC55R28N157069\n\n\n	17371652016FordFocus8HNH5301FADP3F27GL405634\n\n\n	18372452005ToyotaCamry8BKL7774T1BE32K55U517431\n\n\n	19372012000FordTaurus7PYJ9971FAFP5226YG147398\n\n\n	20371622002ChevroletS106Y965141GCCS145828257043\n\n\n	21373561999AcuraCL4GGV13519UYA2259XL008404T\n\n\n	22369101990Volvo2402VSY389YV1AA8844L1398202\n\n\n	23318461997GeoMetro5BFD1402C1MR5292V6725255\n\n\n	24344802003VolkswagenPassat5HML697WVWVD63B33E461680\n\n\n	25302441996ToyotaTacoma5H052274TANL42N5TZ139680T\n\n\n	26363192004NissanXterra5HYM9825N1ED28T24C632194\n\n\n	27370272003HondaAccord8STX2061HGCM665X3A092130T\n\n\n	28324652006HyundaiElantra7SDG810KMHDN56D46U187993\n\n\n	29363382000HondaCivic7DWP0561HGEJ8241YL061936S\n\n\n	30366331998SaturnS-Series5FTA7541G8ZK5270WZ179681\n\n\n	31348592004SaturnVue9YD5335GZCZ23D54S867254\n\n\n	32326321992FordRangerNO PLATE1FTCR10U5NTA02084\n\n\n	33353101999HondaCivic5RXF6462HGEJ8645XH535831\n\n\n	34305822005DodgeNeonLALIN871B3ES56C35D203402\n\n\n	35367641962VolkswagenMANXFWV3464427583T\n\n\n	36362192013VolkswagenCCSALQASWVWBP7AN4DE554531\n\n\n	37382852003AcuraTL8STX43719UUA56813A023361T\n\n\n	38370312001MazdaProtege4PPB918JM1BJ226X10403603\n\n\n	39357882000BMW528IT8TCK325WBADM6349YGU23358\n\n\n	40348772004ToyotaCorolla8NMG8631NXBR32E94Z246161\n\n\n	41362211996ChevroletC/K 1500 Series7W848381GCEC19R6TE259734\n\n\n	42329711999FordExpeditionNO PLATE1FMPU18L6XLB02723\n\n\n	43275381994Toyota4Runner5AOA089JT3VN29V1R0034550\n\n\n	44338051999FordWindstar5CXB3622FMZA5140XBA21955\n\n\n	45362561997HondaCivic6VYH6451HGEJ6227VL111530S\n\n\n	46374522002ToyotaTundra81323U15TBRT34142S260414T\n\n\n	47353781995LincolnTown Car3MFU2091LNLM82W2SY753126\n\n\n	48372241999ChryslerConcorde4CFT2142C3HD46J2XH553726\n\n\n	49371942008FordRanger8N802891FTYR14EX8PA62514\n\n\n	50357642000BMW323I6ZKP792WBAAR3343YJM01961T\n\n\n	51364362000VolkswagenPassat4NDE74808/20WVWND23B5YE336020156642\n\n\n	52389042004FordExplorer8MBL93506/211FMZU63W04ZA84574147531T\n\n\n	53319281994Toyota4Runner3GAC45810/18JT3VN29V4R0021906213825\n\n\n	54369171987CHRYSLERFIFTH AVE2EIK76103/191C3BF66P2HX77111449119\n\n\n	55320511999ChevroletSilverado 15006C2392009/202GCEK19T6X1288656347363\n\n\n	56\n\n\n	57383092003ChevroletTrailBlazer5BBY63102/211GNES16S136181276204720T\n\n\n	58343971998HondaCivic4BIT30304/201HGEJ8243WL031768167249\n\n\n	59338481992ToyotaPickup4M2770503/20JT4RN93P0N5056276149718\n\n\n	60313602008FordFusionDP291SW11/193FAHP07Z68R115125189733\n\n\n	61369052012NissanVersa8DXM32204/203N1CN7AP0CL901642134707\n\n\n	62364652000DodgeDurango7HF13309/161B4HR28Z3YF107346203703\n\n\n	63350342002VolkswagenBeetle7ZWR52905/203VWCD21C62M449895\n\n\n	64369832005Nissan350Z6TYL39606/19JN1AZ34E05M654548124384\n\n\n	65327921999ToyotaSienna4FRP02005/194T3ZF13CXXU155145155101\n\n\n	66361502005FordFreestar7AIE50906/192FMZA57675BA74495132466\n\n\n\n\n\n\n\nTERMS AND CONDITIONS\n\nBuyers fees: Dealers & Dismantlers $35.00\nGeneral Public $65.00\n$200.00 cash deposit required to bid\nAll vehicles must be paid for in full CASH ONLY at the conclusion of the auction\nAll vehicles must be removed by Friday following the auction\nFor more info call direct 760-722-6686
URL:https://jbauctioneers.net/event/oceanside-auto-auction-20210202/
LOCATION:S&R Towing\, 1060 Airport Rd.\, Oceanside\, CA\, 92058\, United States
END:VEVENT
END:VCALENDAR