BEGIN:VCALENDAR
VERSION:2.0
PRODID:-//Joe Bradley Auctioneers - ECPv6.15.20//NONSGML v1.0//EN
CALSCALE:GREGORIAN
METHOD:PUBLISH
X-WR-CALNAME:Joe Bradley Auctioneers
X-ORIGINAL-URL:https://jbauctioneers.net
X-WR-CALDESC:Events for Joe Bradley Auctioneers
REFRESH-INTERVAL;VALUE=DURATION:PT1H
X-Robots-Tag:noindex
X-PUBLISHED-TTL:PT1H
BEGIN:VTIMEZONE
TZID:America/Los_Angeles
BEGIN:DAYLIGHT
TZOFFSETFROM:-0800
TZOFFSETTO:-0700
TZNAME:PDT
DTSTART:20200308T100000
END:DAYLIGHT
BEGIN:STANDARD
TZOFFSETFROM:-0700
TZOFFSETTO:-0800
TZNAME:PST
DTSTART:20201101T090000
END:STANDARD
BEGIN:DAYLIGHT
TZOFFSETFROM:-0800
TZOFFSETTO:-0700
TZNAME:PDT
DTSTART:20210314T100000
END:DAYLIGHT
BEGIN:STANDARD
TZOFFSETFROM:-0700
TZOFFSETTO:-0800
TZNAME:PST
DTSTART:20211107T090000
END:STANDARD
BEGIN:DAYLIGHT
TZOFFSETFROM:-0800
TZOFFSETTO:-0700
TZNAME:PDT
DTSTART:20220313T100000
END:DAYLIGHT
BEGIN:STANDARD
TZOFFSETFROM:-0700
TZOFFSETTO:-0800
TZNAME:PST
DTSTART:20221106T090000
END:STANDARD
END:VTIMEZONE
BEGIN:VEVENT
DTSTART;TZID=America/Los_Angeles:20210216T103000
DTEND;TZID=America/Los_Angeles:20210216T143000
DTSTAMP:20260425T132805
CREATED:20210130T061405Z
LAST-MODIFIED:20210213T050451Z
UID:6248-1613471400-1613485800@jbauctioneers.net
SUMMARY:OCEANSIDE - AUTO AUCTION
DESCRIPTION:Attention Valued Customers\, Only Registered bidders will be allowed to attend the auction. We are taking extra precaution to keep you and our staff safe. We will provide portable bathroom & washing station\,  we will all practice social distancing\, all attendees must wear protective face covering in the auction sale yard area.\n\n\nPresented By:Auctions the 1st and 3rd Tuesdays of each monthPUBLIC AUTO AUCTIONUp to 80 Selected Vehicles\nTuesday February 2nd @ 10:30am1060 Airport Rd. (in the Oceanside location towing yard)Oceanside 92058Phone. 760-722-6686For a map and directions\, click hereHere are some photos of vehicles available at this week’s S&R Towing auction.Vehicles posted are subject to change without notice.Click on any of the images below to see the larger picture.*** THIS WEEK’S FEATURED VEHICLES ***\n\n\n\nno images were found \n\n\n\n*** NON-RUNNERS ***\n\n\n\nno images were found \n\n\n\nTo download a copy of the list in Adobe pdf format\, Click here\n\n\n\n\n\n\n	INVOICE #YEARMAKEMODELPLATELIC EXPVINODOMTIT / SAL\n\n\n\n\n	1\n\n\n	2379382006NissanSentra8NMG5273N1CB51D66L544121\n\n\n	3365602006LincolnNavigatorOOOOOOO5LMFU275X6LJ28869JUNK\n\n\n	4339351997ChevroletTahoe3VCP8071GNEK13R4VJ383871\n\n\n	5379232002HondaAccord4WXC9851HGCG16562A002254\n\n\n	6381442004HondaCivic5JIY7542HGES16594H554777\n\n\n	7374062004ToyotaTacoma21655C15TESM92N14Z435853\n\n\n	8342912010ChryslerSebringEGE40941C3CC4FB2AN170826SAL\n\n\n	9399711989ToyotaCressida6PRD734JT2MX83E8K0032970\n\n\n	10371022002HondaAccord5NKA3221HGCG56612A001917\n\n\n	11379332005HondaAccord5LJM383JHMCM56405C006250\n\n\n	12250791993ChevroletS-10NONE1GCCS14R5P0180057\n\n\n	13363382000HondaCivic7DWP0561HGEJ8241YL061936SAL\n\n\n	14405301999ToyotaCorolla7FIT9771NXBR12E0XZ264217TIT\n\n\n	15337002006DodgeRam Pickup 15008A562841D7HA18N96J115856\n\n\n	16369532000VolvoS704NDR108YV1LS61J1Y2651763\n\n\n	17365001997HondaCivic6SKZ1432HGEJ667XVH558565\n\n\n	18349832003HONDACIVIC8LLZ3401HGEM21543L062943\n\n\n	19368682005HondaAccord5PFC1821HGCM56135A160343SAL\n\n\n	20387832002HondaAccord8TTS393JHMCG66872C015748TIT\n\n\n	21382942007FordFocus8NZR0861FAFP34N57W178349\n\n\n	22390091996Toyota4Runner3PZX920JT3GM84R6T0001768TIT\n\n\n	23379782007LexusRX3505YCA597JTJGK31U470009559TIT\n\n\n	24406732001HondaCR-V4UBW182JHLRD28491S014695TIT\n\n\n	25399372008NissanAltima6CSK9011N4AL21E58N437949TIT\n\n\n	26378862000NissanMaxima6KJL254JN1CA31D6YT550278\n\n\n	27381361999ToyotaCamry4EMU6164T1BG22KXXU477273\n\n\n	28372261995ToyotaAvalonBAM08894T1GB11E3SU001398\n\n\n	29377832004ChevroletMalibu680 SZT1G1ND52F94M621883\n\n\n	30347112002ToyotaCelicaJMK1890JTDDR32T320120488\n\n\n	31340702004Toyotacamry7VFG6164T1BE32K44U890748\n\n\n	32369192009ChevroletCobalt63KV5761G1AT58H497235534\n\n\n	33\n\n\n	34\n\n\n	35\n\n\n	36409612006NISSANARMADA8NHY82910/205N1AA08A36N743841\n\n\n	37380952003HONDAACCORD5BSF37503/07JHMCM56693C067403\n\n\n	38364552002DODGEDURANGO6PFD48009/201B4HR48Z32F204484\n\n\n	39294862003TOYOTA4RUNNER4YOF96710/17JTEZT17R830001132\n\n\n	40377732003HONDAACCORD5DNV77208/21JHMCM56673C083079\n\n\n	41\n\n\n	42\n\n\n	43378722001TOYOTATACOMA6P9441005/165TEGN92NX1Z829690\n\n\n	44380082012FORDFOCUSPJD1684OFS1FAHP3F20CL387523\n\n\n	45377222002NISSANPATHFINDER7WJZ45508/20JN8DR09X62W666937\n\n\n	46372051986JEEPCOMANCHE6A7944510/211JCWL6591GT059237\n\n\n	47380902009HYUNDAIELANTRA7HKB38301/21KMHDU46D99U815371\n\n\n\n\n\n\n\nTERMS AND CONDITIONS\n\nBuyers fees: Dealers & Dismantlers $35.00\nGeneral Public $65.00\n$200.00 cash deposit required to bid\nAll vehicles must be paid for in full CASH ONLY at the conclusion of the auction\nAll vehicles must be removed by Friday following the auction\nFor more info call direct 760-722-6686
URL:https://jbauctioneers.net/event/oceanside-auto-auction-20210216/
LOCATION:S&R Towing\, 1060 Airport Rd.\, Oceanside\, CA\, 92058\, United States
END:VEVENT
END:VCALENDAR