BEGIN:VCALENDAR
VERSION:2.0
PRODID:-//Joe Bradley Auctioneers - ECPv6.15.20//NONSGML v1.0//EN
CALSCALE:GREGORIAN
METHOD:PUBLISH
X-WR-CALNAME:Joe Bradley Auctioneers
X-ORIGINAL-URL:https://jbauctioneers.net
X-WR-CALDESC:Events for Joe Bradley Auctioneers
REFRESH-INTERVAL;VALUE=DURATION:PT1H
X-Robots-Tag:noindex
X-PUBLISHED-TTL:PT1H
BEGIN:VTIMEZONE
TZID:America/Los_Angeles
BEGIN:DAYLIGHT
TZOFFSETFROM:-0800
TZOFFSETTO:-0700
TZNAME:PDT
DTSTART:20200308T100000
END:DAYLIGHT
BEGIN:STANDARD
TZOFFSETFROM:-0700
TZOFFSETTO:-0800
TZNAME:PST
DTSTART:20201101T090000
END:STANDARD
BEGIN:DAYLIGHT
TZOFFSETFROM:-0800
TZOFFSETTO:-0700
TZNAME:PDT
DTSTART:20210314T100000
END:DAYLIGHT
BEGIN:STANDARD
TZOFFSETFROM:-0700
TZOFFSETTO:-0800
TZNAME:PST
DTSTART:20211107T090000
END:STANDARD
BEGIN:DAYLIGHT
TZOFFSETFROM:-0800
TZOFFSETTO:-0700
TZNAME:PDT
DTSTART:20220313T100000
END:DAYLIGHT
BEGIN:STANDARD
TZOFFSETFROM:-0700
TZOFFSETTO:-0800
TZNAME:PST
DTSTART:20221106T090000
END:STANDARD
END:VTIMEZONE
BEGIN:VEVENT
DTSTART;TZID=America/Los_Angeles:20210302T103000
DTEND;TZID=America/Los_Angeles:20210302T143000
DTSTAMP:20260425T115310
CREATED:20210225T145913Z
LAST-MODIFIED:20210302T004051Z
UID:6513-1614681000-1614695400@jbauctioneers.net
SUMMARY:OCEANSIDE - AUTO AUCTION
DESCRIPTION:Attention Valued Customers\, Only Registered bidders will be allowed to attend the auction. We are taking extra precaution to keep you and our staff safe. We will provide portable bathroom & washing station\,  we will all practice social distancing\, all attendees must wear protective face covering in the auction sale yard area.\n\n\nPresented By:Auctions the 1st and 3rd Tuesdays of each monthPUBLIC AUTO AUCTIONUp to 80 Selected Vehicles\nTuesday March 2nd @ 10:30am1060 Airport Rd. (in the Oceanside location towing yard)Oceanside 92058Phone. 760-722-6686For a map and directions\, click hereHere are some photos of vehicles available at this week’s S&R Towing auction.Vehicles posted are subject to change without notice.Click on any of the images below to see the larger picture.*** TRAILERS FEATURED THIS WEEK ***\n\n\n\nno images were found \n\n\n\n*** THIS WEEK’S FEATURED VEHICLES ***\n\n\n\nno images were found \n\n\n\n*** NON-RUNNERS ***\n\n\n\nno images were found \n\n\n\nTo download a copy of the list in Adobe pdf format\, Click here\n\n\n\n\n\n\n	INVOICE #YEARMAKEMODELPLATELIC EXPVINODOMTIT / SAL\n\n\n\n\n	15590SPCNSTRAILER4AF3734CAL136593\n\n\n	2417882007SPCNSTRAILER1FH3853CA756368\n\n\n	3381692006TrailerUTILITY4SD4407LN2UT08166G002540\n\n\n	4418822000SPCNSTRAILER1CL8322CA632625\n\n\n	541723AZTEXTRAILER4AD91664ZBSU21822F008140\n\n\n	633518SPCNSTRAILER2FK8337CA478664\n\n\n	7383852010KiaOptima7UME813KNAGG4A82A5381499\n\n\n	8406382007ToyotaYaris8LUTO66JTDBT923671143521T\n\n\n	9383632006VolvoS407CQY722YV1MS682362190582\n\n\n	1041885W1997NissanQuest6JYY3174N2DN111XVD826030\n\n\n	1141886W2004FordFocus6KRE1321FAFP38Z84W119465\n\n\n	12386291998MercuryVillager5JPB5234M2ZV111XWDJ07204T\n\n\n	13363252002FordExplorer4ZTS1771FMYU60EX2UC86209\n\n\n	14392932000ChevroletS-10NONE1GCCS195XY8296606\n\n\n	15389402006HondaPilot5THG0045FNYF28416B025861\n\n\n	16384722006ChryslerPT Cruiser5SVJ9463A4FY48B06T319825\n\n\n	17402052009NissanAltima8GDC2821N4AL21E89C111821T\n\n\n	18375022004GMCEnvoy8MZJ3061GKET12S946181432\n\n\n	19392922008HondaFitGVS5504JHMGD37408S807369\n\n\n	20392882005FordFocus6BFP3723FAFP31N55R123856\n\n\n	21386502006SaturnIon8NYG4581G8AZ55F26Z117548S\n\n\n	22381412001LexusRX 3006CHB320JTJGF10U310100128\n\n\n	23369302001NissanPathfinderNO PLATESJN8DR07X11W509625\n\n\n	24363241987NissanTruck8F87322JN6HD15H0HW000422J/S\n\n\n	25363392000FordF-15065492K11FTZX1726YKB07375S\n\n\n	26385842000Mercedes-BenzML320DK479DP4JGAB54E6YA193726\n\n\n	27410342005ChevroletAstro7U264061GCDM19X95B120712T\n\n\n	28388532005MercuryMariner5NPA6614M2YU56195DJ14576T\n\n\n	29392902003MitsubishiEclipseY9297144A3AC34GX3E019888\n\n\n	30385442003ToyotaCamry5EWR260JTDBE32K930225841\n\n\n	3141905W2007ToyotaCorolla5YPA9301NXBR32E57Z892303\n\n\n	3241904W1991LexusLS4008BWK962JT8UF11E5M0047061\n\n\n	33392722008ScionxB8SXM600JTLKE50E481039736\n\n\n	34284682014Fiat500L7CRP385ZFBCFACHXEZ016506\n\n\n	3541910W2013BMW3 SeriesNONEWBA3B5C58DF592176\n\n\n	36361472007FORDMUSTANG7LFT0381ZVFT80N675311096\n\n\n	37369722008NissanAltima7XCB6911N4BL21E68N411591\n\n\n	38391201995NissanTruck5E903901N6SD11S9SC390789\n\n\n	39391211997FordExplorerNONE1FMDU32EXVZA89008\n\n\n	40340512004NissanArmadaBHC87545N1AA08A44N708965\n\n\n	41382212003FordE-Series Cargo7R572581FTRE14243HC01836\n\n\n	42353112020MitsubishiOUTLANDER8PAC621JA4AP3AU0LU005807\n\n\n	43387782003FordMustangVAYACHE1FAFP44493F310522\n\n\n	44389032005DodgeGrand Caravan6FZT7041D4GP24R85B365796\n\n\n	45413962002VolvoS404UPS821YV1VS29532F833201JS\n\n\n	46304242009Mazda67UXB3121YVHP82B195M14507\n\n\n	47392641999SubaruLegacy547QTZ4S3BD4352X7253768\n\n\n	4841944W2007NissanQuest5XTL0165N1BV28U07N132021\n\n\n	4941945W2000MitsubishiMirage6HNG350JA3AY11A2YU043882\n\n\n	50392851982DodgeRAM 150HJP64561B7FD14E1CS264234\n\n\n	5141634J1993LincolnTown Car3EPB3261LNLM82W8PY697605T\n\n\n	5241635J1997LincolnTown Car6MWZ3971LNLM82WXVY636043APP\n\n\n	5341909W2000HondaCivicNONEJHMEJ6677YS013613\n\n\n	54418721972FordFLATBED6Z75451N61DVN10121T\n\n\n	5541965W1997NissanAltimaBJS19971N4BU31D4VC109167\n\n\n	5641966W2000HondaCivic7ZZD0871HGEJ7127YL021533\n\n\n	5742000P2002MitsubishiMONTERO SPORT4XZL326JA4LS41R32J066352\n\n\n	5842003W2007VolkswagenNew Beetle8TQC2693VWRG31Y87M409277\n\n\n	5942004W2000BMW528i7BVE038WBADP6345YBV63797\n\n\n	60391241995JeepGrand Cherokee5HXD9181J4GZ58SXSC771682\n\n\n	61352201997HondaAccord7VHL9281HGCD5634VA180747T\n\n\n	6242005W1997HondaCR-V5TTT096JHLRD1854VC019418\n\n\n	6340961P2006NissanArmada8NHY82910/205N1AA08A36N743841155921\n\n\n	64392062011HyundaiSonata8SKH80006/215NPEC4AC0BH084615123432\n\n\n	65391981996HondaCivic4EZG46101/211HGEJ7122TL069661238953\n\n\n	66388292006FordFusion5TAM27407/203FAHP07Z06R246113165334\n\n\n	67384452012HondaCivic6UXU24404/2019XFB5F50CE000970123856\n\n\n	68383212006FordFusionV03 7HD03/183FAFP07186R189368151499\n\n\n	69381331994DodgeRam Pickup7N4714910/191B7HC16X9RS654484\n\n\n	70380251993NissanAltimaEKY656OOS1N4BU31F1PC134080102185\n\n\n	71349881999FordExpedition482RAZ05/211FMPU18L9XLB43556178800\n\n\n	72326772003HondaCivic5EWU41209/20JHMES96613S028882163815\n\n\n	73383802010AUDIA36LLD30101/20WAUKEAFM6AA091097124333\n\n\n	74387672006CHEVROLETMONTE CARLO6TXC97305/202G1WK151369343386168988\n\n\n	75342222005FORDTAURUSDP017AZ08/201FAFP53U35A216370185953\n\n\n	76386992001DODGERAM 15008T9865304/193B7HC13Y91G783155328389\n\n\n\n\n\n\n\nTERMS AND CONDITIONS\n\nBuyers fees: Dealers & Dismantlers $35.00\nGeneral Public $65.00\n$200.00 cash deposit required to bid\nAll vehicles must be paid for in full CASH ONLY at the conclusion of the auction\nAll vehicles must be removed by Friday following the auction\nFor more info call direct 760-722-6686
URL:https://jbauctioneers.net/event/oceanside-auto-auction-20210302/
LOCATION:S&R Towing\, 1060 Airport Rd.\, Oceanside\, CA\, 92058\, United States
END:VEVENT
END:VCALENDAR