BEGIN:VCALENDAR
VERSION:2.0
PRODID:-//Joe Bradley Auctioneers - ECPv6.15.20//NONSGML v1.0//EN
CALSCALE:GREGORIAN
METHOD:PUBLISH
X-ORIGINAL-URL:https://jbauctioneers.net
X-WR-CALDESC:Events for Joe Bradley Auctioneers
REFRESH-INTERVAL;VALUE=DURATION:PT1H
X-Robots-Tag:noindex
X-PUBLISHED-TTL:PT1H
BEGIN:VTIMEZONE
TZID:America/Los_Angeles
BEGIN:DAYLIGHT
TZOFFSETFROM:-0800
TZOFFSETTO:-0700
TZNAME:PDT
DTSTART:20200308T100000
END:DAYLIGHT
BEGIN:STANDARD
TZOFFSETFROM:-0700
TZOFFSETTO:-0800
TZNAME:PST
DTSTART:20201101T090000
END:STANDARD
BEGIN:DAYLIGHT
TZOFFSETFROM:-0800
TZOFFSETTO:-0700
TZNAME:PDT
DTSTART:20210314T100000
END:DAYLIGHT
BEGIN:STANDARD
TZOFFSETFROM:-0700
TZOFFSETTO:-0800
TZNAME:PST
DTSTART:20211107T090000
END:STANDARD
BEGIN:DAYLIGHT
TZOFFSETFROM:-0800
TZOFFSETTO:-0700
TZNAME:PDT
DTSTART:20220313T100000
END:DAYLIGHT
BEGIN:STANDARD
TZOFFSETFROM:-0700
TZOFFSETTO:-0800
TZNAME:PST
DTSTART:20221106T090000
END:STANDARD
END:VTIMEZONE
BEGIN:VEVENT
DTSTART;TZID=America/Los_Angeles:20210303T123500
DTEND;TZID=America/Los_Angeles:20210303T123500
DTSTAMP:20260425T115307
CREATED:20210225T151337Z
LAST-MODIFIED:20210226T175958Z
UID:6517-1614774900-1614774900@jbauctioneers.net
SUMMARY:OTAY MESA - AUTO AUCTION
DESCRIPTION:Attention Valued Customers\, Only Registered bidders will be allowed to attend the auction. We are taking extra precaution to keep you and our staff safe. We will provide portable bathroom & washing station\, we will all practice social distancing\, all attendees must wear protective face covering in the auction sale yard area.\n\n\nPresented By:		\n		    \nPUBLIC AUTO AUCTION\nUp to 70 Lien Sale Vehicles\nWednesday March 3rd @ 12:35pm\n(Preview 12:00pm)\n Auctions held Wednesdays\n*** NEW LOCATION ***\nOtay Valley Rd & Heritage Rd\, Chula Vista\n(Look for signs to the new facility from this location\, actual site is up the hill on 738 Heritage Rd.)\nPhone: 1-619-661-8355\nFor a map and directions\, click here\n\nHere are some photos of vehicles available at this week’s Western Towing Auto Auction.\nClick on any of the images below to see the larger picture.\n\n\n\nno images were found \n\n\n\n\nTo download a copy of the list in Adobe pdf format\, Click here.\n\n\n\n\n\n\n\n	NOCONTROLYEAR/MAKEMODELREF NOLS/T\n\n\n\n\n	121-039102 FORDMUSTANG222686LS\n\n\n	221-043106 HYUNDAISANTA FE223090LS\n\n\n	321-046699 CHEVROLETBLAZER223565LS\n\n\n	421-042793 HONDAACCORD223298LS\n\n\n	521-040601 MITSUBISHIECLIPSE222967LS\n\n\n	621-043497 MERCEDESC230223313LS\n\n\n	721-038906 DODGEMAGNUM222757LS\n\n\n	821-042400 HONDAACCORD222986LS\n\n\n	920-041890 BUICKLESABRE223342LS\n\n\n	1021-047106 DODGECHARGER223620LS\n\n\n	1121-032588 JAGUARVANDENPLAS222039LS\n\n\n	1221-022501 TOYOTACOROLLA221002LS\n\n\n	1321-037098 LEXUSES300222512LS\n\n\n	1421-035301 VOLVOS60222440LS\n\n\n	1521-020006 HYUNDAISONATA220603LS\n\n\n	1621-035512 NISSANSENTRA222273LS\n\n\n	1721-019007 LEXUSES350220520LS\n\n\n	1821-037703 FORDFOCUS222628LS\n\n\n	1921-041698 CHEVROLETCAMARO223204LS\n\n\n	2021-049995 TOYOTATACOMA223920LS\n\n\n	2121-052303 INFINITIG35224001LS\n\n\n	2221-033606 HYUNDAIELANTRA222181LS\n\n\n	2321-030591 FORDTHUNDERBIRD221796LS\n\n\n	2421-040200 JEEPGRD CHEROKEE222877LS\n\n\n	2521-040105 FORDFOCUS222851LS\n\n\n	2621-035201 SUBARUFORESTER222297LS\n\n\n	2721-039099 CHEVROLETTAHOE222744LS\n\n\n	2821-037910 CHEVROLETIMPALA222632LS\n\n\n	2920-312616 NISSANMARCH212332LS\n\n\n	3021-034601 TOYOTASIENNA222384LS\n\n\n	3121-027597 BMW528i221382LS\n\n\n	3221-020302 TOYOTATACOMA220623LS\n\n\n	3321-049691 TOYOTACOROLLA223746LS\n\n\n	3421-037602 TOYOTASEQUOIA222624LS\n\n\n	3521-021201 FORDEXPLORER220723LS\n\n\n	3621-033493 TOYOTACAMRY222165LS\n\n\n	3721-035699 SUBARULEGACY222299LS\n\n\n	3821-035401 DODGERAM 1500222174LS\n\n\n	3921-032903 NISSANSENTRA222385LS\n\n\n	4021-037897 FORDEXPEDITION222631LS\n\n\n	4121-032893 LEXUSSC400222270LS\n\n\n	4221-034394 FORDF150222255LS\n\n\n	4321-016303 HONDAELEMENT220112LS\n\n\n	4421-001801 FORDEXPLORER218497LS\n\n\n	4521-038009 VOLKSWAGENRABBIT222647LS\n\n\n	4620-325503 INFINITIFX35213466LS\n\n\n	4721-046102 VOLKSWAGENBEETLE223503LS\n\n\n	4821-049803 TOYOTACOROLLA223916LS\n\n\n	4921-042605 JAGUARS-TYPE223104LS\n\n\n	5021-031296 CHEVROLETS-10221983LS\n\n\n	51N/A00 RANGE ROVERN/ATITLE\n\n\n	52N/A00 FORDFOCUSN/ATITLE\n\n\n\n\n\n\n\nTERMS AND CONDITIONS\nCash Only – All Sales are Final\n$200.00 refundable cash deposit to bid\nRefunds are available anytime during auction\nAll cars must be paid for and picked up by 4pm on Thursday ( no exceptions )\nAdditional deposits are required on vehicle’s over $1000.00
URL:https://jbauctioneers.net/event/otay-mesa-auto-auction-20210303/
LOCATION:Western Towing\, 738 Heritage Rd.\, San Diego\, CA\, 92154\, United States
END:VEVENT
END:VCALENDAR