BEGIN:VCALENDAR
VERSION:2.0
PRODID:-//Joe Bradley Auctioneers - ECPv6.15.20//NONSGML v1.0//EN
CALSCALE:GREGORIAN
METHOD:PUBLISH
X-WR-CALNAME:Joe Bradley Auctioneers
X-ORIGINAL-URL:https://jbauctioneers.net
X-WR-CALDESC:Events for Joe Bradley Auctioneers
REFRESH-INTERVAL;VALUE=DURATION:PT1H
X-Robots-Tag:noindex
X-PUBLISHED-TTL:PT1H
BEGIN:VTIMEZONE
TZID:America/Los_Angeles
BEGIN:DAYLIGHT
TZOFFSETFROM:-0800
TZOFFSETTO:-0700
TZNAME:PDT
DTSTART:20200308T100000
END:DAYLIGHT
BEGIN:STANDARD
TZOFFSETFROM:-0700
TZOFFSETTO:-0800
TZNAME:PST
DTSTART:20201101T090000
END:STANDARD
BEGIN:DAYLIGHT
TZOFFSETFROM:-0800
TZOFFSETTO:-0700
TZNAME:PDT
DTSTART:20210314T100000
END:DAYLIGHT
BEGIN:STANDARD
TZOFFSETFROM:-0700
TZOFFSETTO:-0800
TZNAME:PST
DTSTART:20211107T090000
END:STANDARD
BEGIN:DAYLIGHT
TZOFFSETFROM:-0800
TZOFFSETTO:-0700
TZNAME:PDT
DTSTART:20220313T100000
END:DAYLIGHT
BEGIN:STANDARD
TZOFFSETFROM:-0700
TZOFFSETTO:-0800
TZNAME:PST
DTSTART:20221106T090000
END:STANDARD
END:VTIMEZONE
BEGIN:VEVENT
DTSTART;TZID=America/Los_Angeles:20210310T123500
DTEND;TZID=America/Los_Angeles:20210310T123500
DTSTAMP:20260425T115310
CREATED:20210225T151443Z
LAST-MODIFIED:20210306T144628Z
UID:6519-1615379700-1615379700@jbauctioneers.net
SUMMARY:OTAY MESA - AUTO AUCTION
DESCRIPTION:Attention Valued Customers\, Only Registered bidders will be allowed to attend the auction. We are taking extra precaution to keep you and our staff safe. We will provide portable bathroom & washing station\, we will all practice social distancing\, all attendees must wear protective face covering in the auction sale yard area.\n\n\nPresented By:		\n		    \nPUBLIC AUTO AUCTION\nUp to 70 Lien Sale Vehicles\nWednesday March 10th @ 12:35pm\n(Preview 12:00pm)\n Auctions held Wednesdays\n*** NEW LOCATION ***\nOtay Valley Rd & Heritage Rd\, Chula Vista\n(Look for signs to the new facility from this location\, actual site is up the hill on 738 Heritage Rd.)\nPhone: 1-619-661-8355\nFor a map and directions\, click here\n\nHere are some photos of vehicles available at this week’s Western Towing Auto Auction.\nClick on any of the images below to see the larger picture.\n\n\n\nno images were found \n\n\n\n\nTo download a copy of the list in Adobe pdf format\, Click here.\n\n\n\n\n\n\n\n	NOCONTROLYEAR/MAKEMODELREF NOLS/T\n\n\n\n\n	121-027906 CHEVROLETHHR221410LS\n\n\n	221-011703 HONDACIVIC219486LS\n\n\n	321-041598 HONDACIVIC223176LS\n\n\n	421-049304 BUICKCENTURY223944LS\n\n\n	521-043009 HONDAACCORD223070LS\n\n\n	621-040713 HYUNDAIELANTRA223063LS\n\n\n	721-050204 AUDIA4223935LS\n\n\n	821-039899 FORDTAURUS222878LS\n\n\n	921-059106 NISSANALTIMA224506LS\n\n\n	1021-039505 TOYOTACOROLLA222790LS\n\n\n	1121-033092 BUICKROADMASTER222408LS\n\n\n	1221-054994 FORDEXPLORER224370LS\n\n\n	1321-047607 AUDIA4223635LS\n\n\n	1420-352396 VOLVO850216219LS\n\n\n	1521-029107 DODGECALIBER221540LS\n\n\n	1620-050592 LEXUSLS400223714LS\n\n\n	1721-044111 CHEVROLETEQUINOX223147LS\n\n\n	1821-029998 HONDAACCORD221562LS\n\n\n	1921-048585 FORDRANGER223931LS\n\n\n	2021-045714 NISSANVERSA223197LS\n\n\n	2121-020406 NISSANSENTRA220625LS\n\n\n	2221-063205 CHEVROLETMALIBU225152LS\n\n\n	2321-053999 NISSANALTIMA224279LS\n\n\n	2421-037397 CHEVROLETCAMARO222518LS\n\n\n	2521-048694 CHEVROLETS10223952LS\n\n\n	2621-049703 FORDEXPLORER223881LS\n\n\n	2721-060100 DODGEDURANGO224830LS\n\n\n	2821-048105 MERCEDESS430223723LS\n\n\n	2921-048497 FORDEXPLORER223924LS\n\n\n	3021-026804 JEEPGRD CHEROKEE221416LS\n\n\n	3121-045695 HONDACIVIC223436LS\n\n\n	3221-033893 FORDRANGER222302LS\n\n\n	3321-048203 FORDWINDSTAR223850LS\n\n\n	3421-046392 BUICKLESABRE223553LS\n\n\n	3521-045901 CHEVROLETSILVERADO223442LS\n\n\n	3621-062403 NISSANFRONTIER225047LS\n\n\n	3721-039408 BMW535i222750LS\n\n\n	3821-056882 DATSUN810 WAGON224516LS\n\n\n	3920-237103 TOYOTATACOMA203975LS\n\n\n	4021-040903 HONDAODYSSEY223293LS\n\n\n	4121-025279 MERCEDES300D221204LS\n\n\n	4221-056200 CHRYSLERVOYAGER224409LS\n\n\n	4321-023703 NISSANALTIMA220829LS\n\n\n	4421-036702 DODGEDAKOTA222492LS\n\n\n	4520-369515 VOLKSWAGENJETTA217943LS\n\n\n	4621-040801 TOYOTACAMRY223920LS\n\n\n	4720-351001 FORDCROWN VIC216032LS\n\n\n	4821-032308 CHEVROLETHHR222067LS\n\n\n	49N/A93 NISSANPICKUP222852TITLE\n\n\n	5020-021215 HYUNDAIELANTRA180955LS\n\n\n	51N/A11 SCIONXDN/ATITLE\n\n\n	52N/A01 MERCEDESS500N/AAPP FOR DUPL\n\n\n	53N/A07 HYUNDAIELANTRAN/ATITLE\n\n\n\n\n\n\n\nTERMS AND CONDITIONS\nCash Only – All Sales are Final\n$200.00 refundable cash deposit to bid\nRefunds are available anytime during auction\nAll cars must be paid for and picked up by 4pm on Thursday ( no exceptions )\nAdditional deposits are required on vehicle’s over $1000.00
URL:https://jbauctioneers.net/event/otay-mesa-auto-auction-20210310/
LOCATION:Western Towing\, 738 Heritage Rd.\, San Diego\, CA\, 92154\, United States
END:VEVENT
END:VCALENDAR