BEGIN:VCALENDAR
VERSION:2.0
PRODID:-//Joe Bradley Auctioneers - ECPv6.15.20//NONSGML v1.0//EN
CALSCALE:GREGORIAN
METHOD:PUBLISH
X-ORIGINAL-URL:https://jbauctioneers.net
X-WR-CALDESC:Events for Joe Bradley Auctioneers
REFRESH-INTERVAL;VALUE=DURATION:PT1H
X-Robots-Tag:noindex
X-PUBLISHED-TTL:PT1H
BEGIN:VTIMEZONE
TZID:America/Los_Angeles
BEGIN:DAYLIGHT
TZOFFSETFROM:-0800
TZOFFSETTO:-0700
TZNAME:PDT
DTSTART:20200308T100000
END:DAYLIGHT
BEGIN:STANDARD
TZOFFSETFROM:-0700
TZOFFSETTO:-0800
TZNAME:PST
DTSTART:20201101T090000
END:STANDARD
BEGIN:DAYLIGHT
TZOFFSETFROM:-0800
TZOFFSETTO:-0700
TZNAME:PDT
DTSTART:20210314T100000
END:DAYLIGHT
BEGIN:STANDARD
TZOFFSETFROM:-0700
TZOFFSETTO:-0800
TZNAME:PST
DTSTART:20211107T090000
END:STANDARD
BEGIN:DAYLIGHT
TZOFFSETFROM:-0800
TZOFFSETTO:-0700
TZNAME:PDT
DTSTART:20220313T100000
END:DAYLIGHT
BEGIN:STANDARD
TZOFFSETFROM:-0700
TZOFFSETTO:-0800
TZNAME:PST
DTSTART:20221106T090000
END:STANDARD
END:VTIMEZONE
BEGIN:VEVENT
DTSTART;TZID=America/Los_Angeles:20210406T103000
DTEND;TZID=America/Los_Angeles:20210406T143000
DTSTAMP:20260425T064833
CREATED:20210313T155408Z
LAST-MODIFIED:20210403T000317Z
UID:6985-1617705000-1617719400@jbauctioneers.net
SUMMARY:OCEANSIDE - AUTO AUCTION
DESCRIPTION:Attention Valued Customers\, Only Registered bidders will be allowed to attend the auction. We are taking extra precaution to keep you and our staff safe. We will provide portable bathroom & washing station\,  we will all practice social distancing\, all attendees must wear protective face covering in the auction sale yard area.\n\n\nPresented By:Auctions the 1st and 3rd Tuesdays of each monthPUBLIC AUTO AUCTIONUp to 80 Selected Vehicles\nTuesday April 6th @ 10:30am1060 Airport Rd. (in the Oceanside location towing yard)Oceanside 92058Phone. 760-722-6686For a map and directions\, click hereHere are some photos of vehicles available at this week’s S&R Towing auction.Vehicles posted are subject to change without notice.Click on any of the images below to see the larger picture.*** MOTORCYCLES FEATURED THIS WEEK ***\n\n\n\nno images were found \n\n\n\n*** FEATURED VEHICLES ***\n\n\n\nno images were found \n\n\n\n*** NON-RUNNERS ***\n\n\n\nno images were found \n\n\n\n*** TRAILERS ***\n\n\n\nno images were found \n\n\n\nTo download a copy of the list in Adobe pdf format\, Click here\n\n\n\n\n\n\n	INVOICE #YEARMAKEMODELPLATELIC EXPVINODOMTIT / SAL\n\n\n\n\n	136457TrailerTRAILERNONENONEBOS\n\n\n	298721997TRAILERTRAILER4DV8800130AU1112RC012377\n\n\n	3418712007ZEMANTRAILER4KL55841ZCS160157W331672TITLE\n\n\n	439772TRAILERTRAILERNONENONEBOS\n\n\n	5403952006InfinitiG355XMV926JNKCV51E26M507858\n\n\n	6376932005HondaAccordHCB36221HGCM56855A021800\n\n\n	7424922003ToyotaMatrix5MZL2472T1KR32E33C016857TITLE\n\n\n	8412591993GeoMetro3DHT0332C1MR246XP6737111\n\n\n	9392911982DatsunPickup5P97272JN6MD06Y8CW102891SAL\n\n\n	10195081995FordE-3506S442531FDKE37G0SHA60522\n\n\n	11347972004AcuraTL8MWC86919UUA66244A033496SAL\n\n\n	12290151997FordExplorer43619N11FMDU34E1VUD29895SAL\n\n\n	13386301995FordMustang8K0R2431FALP4044SF283818\n\n\n	14404752004InfinitiG35NOPLATEJNKCV51F24M701070\n\n\n	15410411997HondaCivic6JYZ5032HGEJ6676VH523652\n\n\n	16362421998ChevroletS1047868J11GCCS1448WK259522\n\n\n	17417692008HyundaiSanta Fe6GFC5565NMSH13E68H151144\n\n\n	18402692001AcuraTL7URU71819UUA56631A033272\n\n\n	19410302006SaturnIon7BVV1271G8AL55B36Z159547\n\n\n	20420362002ToyotaSienna4WXA8304T3ZF13C32U478235\n\n\n	21383892010KiaForte7YAZ122KNAFT4A29A5274324TITLE\n\n\n	22376052007GMCSavana Cargo8H918511GTGG25V071132593\n\n\n	23407432000SaturnS-Series7NSE4961G8ZN8279YZ188536\n\n\n	24405922002ToyotaCorolla4VAV3471NXBR12E92Z612556\n\n\n	25404742001HondaCivic6JLX6962HGES16561H519979\n\n\n	26390262008ScionxB7HJH035JTLKE50E081028992SAL\n\n\n	27437521990FordF-25029975P11FTHX26H3LKA33963JS\n\n\n	28402062007VolkswagenPassat5XBP987WVWJK73CX7P037538\n\n\n	29307132016NissanVersa7VOJ5023N1CN7AP7GL907430\n\n\n	30407552009HyundaiElantra6GZF144KMHDU46D59U685248\n\n\n	31405592015NissanVersa8MBY4423N1CN7AP0FL825523\n\n\n	32355711978Fiatspider5GTPO51124CS101377250000SAL\n\n\n	33428982001FordExpedition6RJT1311FMRU15W61LB19861TITLE\n\n\n	34413781992ChevroletSUBURBAN3BKW2801GNGK26N8NJ357751\n\n\n	35417811986DodgeRam Van1RDB7892B7HB23T0GK503695\n\n\n	36381402003ChevroletSuburban5ANA8883GNEC16T13G188863TITLE\n\n\n	37399722001NissanAltima4SVS8251N4DL01D71C164684\n\n\n	38406432004HondaAccord5KZV5241HGCM66504A070624SAL\n\n\n	39407582007VolkswagenJetta7KHZ5703VWEF71K87M168681\n\n\n	40378932008ChevroletMalibu8SMA8091G1ZK57778F263606JUNK\n\n\n	41403912008ToyotaTundra8P984135TFRV54118X034136\n\n\n	42427342008BuickLucerne6BJE6731G4HD57278U116243TITLE\n\n\n	43409812013VolkswagenJetta10199463VW3L7AJ7DM287910\n\n\n	44402352000ToyotaCorolla214KFS1NXBR12E0YZ380843SAL\n\n\n	45403382006NissanAltimaCC 256371N4AL11D26C131494\n\n\n	46268051990FordF-3505P861371FTJX35G9LKB17771\n\n\n	47412802001HondaAccord4UGM1923HGCG66551G711321\n\n\n	48409201998Nissan200SX4CKK5941N4AB42D3WC513486\n\n\n	49392392004FordExplorer Sport8r895041FMZU67K34UA43392\n\n\n	50408462007VolvoS408NYP056YV1MH682572271471\n\n\n	5144169PT2000HondaPassport6KTN2944S6CK58W8Y4405902\n\n\n	52404131988NissanSentra8KRR633JN1PB24S5JU044721\n\n\n	53409982016VolkswagenJettaNONE3VWD67AJ7GM341724\n\n\n	54306622007FordMustang6PLP1871ZVHT80N975214841\n\n\n	55364712001ToyotaCamry4RQU1614T1BG22K81U067921\n\n\n	56364332000NissanAltima6HKT1441N4DL01D4YC180528\n\n\n	57385291998HondaAccord4AVN3841HGCG1652WA035077\n\n\n	58424382003JeepLiberty7NNH8201J4GK38K03W506245TITLE\n\n\n	59430451998JeepGrand Cherokee4CJZ4991J4GZ48Y5WC321717TITLE\n\n\n	60402102005HyundaiTiburon7PDJ219KMHHM65D25U156610SAL\n\n\n	61387841997AcuraTL6FAR870JH4UA3642VC005957\n\n\n	62367252002JaguarX-TYPE4VFU571SAJEA51D12XC48886\n\n\n	6344175PT2001MazdaProtege4TIN493JM1BJ225210402839\n\n\n	6444171PT1994NissanSentra4ALW5741N4EB32AXRC806503\n\n\n	65373811999ToyotaTacoma8G997254TANL42N8XZ441504\n\n\n	6644170PT1998KiaSephia4DQE363KNAFB1211W5743792\n\n\n	67379902005FordEscapeBRS91891FMYU96H75KB77953\n\n\n	68417762005ToyotaCorolla5NPN3401NXBR32E25Z525470TITLE\n\n\n	6935672000YamahaXVS110015R4866JYAVP11Y9YA001192\n\n\n	70304232012TaoTaoScooterNONEL9NTEACTXC1009461\n\n\n	71260052013HondaCBR 1000RR21K4289JH2SC5918DK500014\n\n\n	72266251986YamahaMOTORCYCLE12Y3845JYA1UL007GA001284JS\n\n\n	73251331978SuzukiSP37019K0731SP370103457\n\n\n	74267732017BMWR 1200 RTC753YOWB10A1309HZ431388\n\n\n	75433441991YamahaVMAX13BO358JYA2WFC03MA005128\n\n\n	76369851984HondaGL120014Y00351HFSC1452EA011391\n\n\n	77369861998YamahaRS12U65333Y6014903\n\n\n	78351792016KawasakiNinja 65022D9755JKAEXEE10GDA22953\n\n\n	79361902008YamahaYZF R6S19N6113JYARJ06Y18A007803TITLE\n\n\n	80303742017KawasakiZ650 ABS24P5373JKAEREH16HDA03573SAL\n\n\n	81331811983KawasakiMOTORCYCLES747889JKAKZDH11DA040939\n\n\n	82329262015HondaPCX 15022Y9216RLHKF1800FY002276\n\n\n	83307281986YamahaMOTORCYCLE13V7828JYA56R008GA001437\n\n\n	84289082006Harley-DavidsonSportster 1200 Custom22030431HD1CGP3X6K405752SAL\n\n\n	85342742006SuzukiSV 65018X6757JS1VP53A762100915\n\n\n	86254482014YamahaROAD21R1565JYAVN05YXEA000221\n\n\n	87387512006SuzukiGSX-R 60018H6337JS1GN7DA962105526\n\n\n	88261232000HondaCBR 600F416R9089JH2PC3505YM101174\n\n\n	89352211984HondaVT500NONEJH2PC0802EM100697\n\n\n	90322922013KawasakiNinja 30022M2088JKAEX8A16DDA15038SAL\n\n\n	91274472001YamahaYZF R619B8138JYARJ04N51A002490SAL\n\n\n	92423111981YamahaxsNONEJYA4R5005BA015333\n\n\n	93234791998KawasakiKX 250NONEJKAKXMKC8WA029097\n\n\n	94164352004Kawasakikfx70057PB31JKASV6B104B501056\n\n\n	9518431mopedzebraNONER4NANHZ02K1000165\n\n\n	96263822002YamahaYZF R616E4493JYARJ04Y62A002526\n\n\n	97350461997YamahaYZF 600RNONEJYA5AHC01VA002754\n\n\n	98184362013Harley-DavidsonSportster 1200 Custom 110th Anniversary Edition21K29631HD1LH331DC427271\n\n\n	99404221984HONDAXR500511C8247JH2PE0309EM103291\n\n\n	100404212012KawasakiKX 250FNONEJKAKXMYC8CA018314\n\n\n	10133625202Harley-DavidsonULTRA-GLIDEMH01701U9UW0000TC034102\n\n\n	102433412005SuzukiBoulevard C9042183RJS1VY52A352102691\n\n\n	103323242005SuzukiBoulevard C50T17U3927JS1VS55A752103985\n\n\n	104383792007SuzukiGSX-R 60019D0831JS1GN7DAX72108002\n\n\n	105403482009HondaCBR 600RRNONEJH2PC40449K200419\n\n\n	106425452002ToyotaCamry4YED83607/204T1BE30K12U586437239793T\n\n\n	107407542003JeepLiberty5DLF35607/211J4GK48KX3W665425113352\n\n\n	108404182005InfinitiG356HMZ41508/18JNKCV51E15M200194143307\n\n\n	109405492001FordMustang4RPJ84602/211FAFP40401F146239230718\n\n\n	110403091998NissanPathfinder4UUD67607/19JN8AR05S9WW285487178259\n\n\n	111383012006BMW3 Series7VHL93108/18WBAVB135X6KX39481106816\n\n\n	112405741991FordF-150NONE08/171FTDF15N3MLA8062163183\n\n\n	11344255PT2004Mazda35FLT80103/18JM1BK12F441150509\n\n\n	11444256PT2005HondaAccord5TUG98605/201HGCM56755A083558\n\n\n	115403521997NissanPathfinder8MPG95809/21JN8AR05S1VW122007237026\n\n\n	116409522015KiaSoul7ZUS20408/21KNDJN2A27F780667675964\n\n\n	117414202008DodgeCaliber7FGJ44904/151B3HB28B38D720929171716\n\n\n	118404892004ToyotaSiennaNONE05/205TDZA23C84S013748253027\n\n\n	119417722005HyundaiSanta Fe208K95OFSKM8SC73D35U945012219782\n\n\n	120394842002FordExplorer4XFS74604/211FMZU62E42ZB74249217763\n\n\n	121394572007ToyotaTacoma8D6822310/215TEMU52N97Z348255122256\n\n\n	122415972006Mercedes-BenzC2805SXT63712/20WDBRF54H66A831085101983\n\n\n	123413612002MazdaProtege5NONE05/17JM1BJ245621454127210806\n\n\n	12444155LT2012ChevroletCruzeBYXB6210/161G1PC5SH5C7369849123510\n\n\n	125416872007NissanAltima5XRM24401/211N4AL21E37N414734174518\n\n\n\n\n\n\n\nTERMS AND CONDITIONS\n\nBuyers fees: Dealers & Dismantlers $35.00\nGeneral Public $65.00\n$200.00 cash deposit required to bid\nAll vehicles must be paid for in full CASH ONLY at the conclusion of the auction\nAll vehicles must be removed by Friday following the auction\nFor more info call direct 760-722-6686
URL:https://jbauctioneers.net/event/oceanside-auto-auction-20210406/
LOCATION:S&R Towing\, 1060 Airport Rd.\, Oceanside\, CA\, 92058\, United States
END:VEVENT
END:VCALENDAR