BEGIN:VCALENDAR
VERSION:2.0
PRODID:-//Joe Bradley Auctioneers - ECPv6.15.20//NONSGML v1.0//EN
CALSCALE:GREGORIAN
METHOD:PUBLISH
X-WR-CALNAME:Joe Bradley Auctioneers
X-ORIGINAL-URL:https://jbauctioneers.net
X-WR-CALDESC:Events for Joe Bradley Auctioneers
REFRESH-INTERVAL;VALUE=DURATION:PT1H
X-Robots-Tag:noindex
X-PUBLISHED-TTL:PT1H
BEGIN:VTIMEZONE
TZID:America/Los_Angeles
BEGIN:DAYLIGHT
TZOFFSETFROM:-0800
TZOFFSETTO:-0700
TZNAME:PDT
DTSTART:20200308T100000
END:DAYLIGHT
BEGIN:STANDARD
TZOFFSETFROM:-0700
TZOFFSETTO:-0800
TZNAME:PST
DTSTART:20201101T090000
END:STANDARD
BEGIN:DAYLIGHT
TZOFFSETFROM:-0800
TZOFFSETTO:-0700
TZNAME:PDT
DTSTART:20210314T100000
END:DAYLIGHT
BEGIN:STANDARD
TZOFFSETFROM:-0700
TZOFFSETTO:-0800
TZNAME:PST
DTSTART:20211107T090000
END:STANDARD
BEGIN:DAYLIGHT
TZOFFSETFROM:-0800
TZOFFSETTO:-0700
TZNAME:PDT
DTSTART:20220313T100000
END:DAYLIGHT
BEGIN:STANDARD
TZOFFSETFROM:-0700
TZOFFSETTO:-0800
TZNAME:PST
DTSTART:20221106T090000
END:STANDARD
END:VTIMEZONE
BEGIN:VEVENT
DTSTART;TZID=America/Los_Angeles:20210407T123500
DTEND;TZID=America/Los_Angeles:20210407T123500
DTSTAMP:20260425T064741
CREATED:20210225T151718Z
LAST-MODIFIED:20210409T205154Z
UID:6520-1617798900-1617798900@jbauctioneers.net
SUMMARY:OTAY MESA - AUTO AUCTION
DESCRIPTION:Attention Valued Customers\, Only Registered bidders will be allowed to attend the auction. We are taking extra precaution to keep you and our staff safe. We will provide portable bathroom & washing station\, we will all practice social distancing\, all attendees must wear protective face covering in the auction sale yard area.\n\nPresented By: PUBLIC AUTO AUCTIONUp to 70 Lien Sale VehiclesWednesday April 7th @ 12:35pm(Preview 12:00pm) Auctions held Wednesdays*** NEW LOCATION ***Otay Valley Rd & Heritage Rd\, Chula Vista(Look for signs to the new facility from this location\, actual site is up the hill on 738 Heritage Rd.)Phone: 619-694-7809For a map and directions\, click here Here are some photos of motorcycles available at this week’s Western Towing Auto Auction.Click on any of the images below to see the larger picture.\n\n\n\nno images were found \n\n\n\nTo download a copy of the list in Adobe pdf format\, Click here.\n\n\n\n\n\n\n	.CONTROLYEAR/MAKEMODELREF NOLS/TREGKEYSALVAGEOUT OF STATE\n\n\n\n\n	0118-487395 HONDACB1000131903LS06/19NON/ANO\n\n\n	0220-158208 YAMAHAFZ1195770LS08/2080N/ANO\n\n\n	0320-314278 YAMAHASR500212767LS05/21NON/ANO\n\n\n	0421-050006 SUZUKISV650223763LS05/20NOSALVAGENO\n\n\n	0520-093508 ZNENLANCE MILAN188118LS05/19NON/ANO\n\n\n	0620-342008 TAIZHOULANCE214849LS08/20NON/ANO\n\n\n	0719-425104 YAMAHAXVS650176891LS09/1980N/ANO\n\n\n	0821-009106 DUCATIMONSTER219301LSO/SNON/AO/S CA10/11\n\n\n	0919-320608 ZNENMILAN 150166731LSO/SNON/AO/S CA 9/15\n\n\n	1020-054404 SUZUKIGZ250184773LS05/1980N/ANO\n\n\n	1121-043293 HONDACBR600223113LS03/15NON/ANO\n\n\n	1220-193011 ZNENZN150T-E199718LSO/SNON/AO/S CA 8/12\n\n\n	1320-212009 YAMAHAYW125201639LS12/19NON/ANO\n\n\n	1420-233019 ZEBRA150203908LSO/SNON/ANO RECORD\n\n\n	1520-194019 ZEBRA150199915LSO/SNON/ANO RECORD\n\n\n	1620-169019 ZEBRA150197071LSO/SNON/ANO RECORD\n\n\n	1720-211909 ZNENBMS HERITAGE201673LSO/SNON/ANO RECORD\n\n\n	1819-374909 GENUINEBUDDY SCOOTER171971LS03/20NON/ANO\n\n\n	1921-053606 YAMAHAXC50224301LSO/SNON/AO/S CA 6/12\n\n\n	2019-398711 MEIDOMD150174391LSO/SNON/ANO RECORD\n\n\n	21N/A09 YAMAHAYJ125199676TITLE06/18NON/ANO\n\n\n	2219-405603 QIANJIANGVENICE QS50175041LS06/14NON/ANO\n\n\n	2321-089115 HARLEYXL1200210398LS09/2080N/ANO\n\n\n	2419-393906 GENUINEBUDDY SCOOTER174030LS07/19NON/ANO\n\n\n	2520-077617 TAOTAOMS SCOOTER186489LS12/1880N/ANO\n\n\n	2620-323517 TAOTAOS150213270LS08/2080N/ANO\n\n\n	2719-334802 YAMAHAFZS1000167762LS06/19NON/ANO\n\n\n	2820-014596 KAWASAKIELIMINATOR179844LS10/0680N/ANO\n\n\n	2921-063406 BMWR1200225130LSO/SNON/AO/S CA 11/16\n\n\n	3021-063309 HONDAST1300225128LSO/SNON/AO/S CA 2/19\n\n\n	3119-207997 PAUGHCORIGIDN/ALSO/SNON/ANO RECORD\n\n\n	3219-320502 HARLEYXL166722LS11/19NON/ANO\n\n\n	3320-244008 ZNENBMS VP EVO204798LS03/17NON/ANO\n\n\n	3420-188119 ZEBRA150199018LSO/SNON/ANO RECORD\n\n\n	3520-023607 YAMAHAYZFR6L180949LS09/17NON/ANO\n\n\n	3621-027797 SUZUKIDR350221680LS12/17NON/ANO\n\n\n	3719-126115 KAWASAKIZX10146644LS03/1880N/ANO\n\n\n	3819-367805 SUZUKIGSXR600170927LSO/S80N/AO/S CA 7/14\n\n\n	3920-332408 SUZUKIGSXR600214355LS04/2180N/ANO\n\n\n	4020-199206 HONDAVT750200539LS09/2080N/ANO\n\n\n	4120-261177 KAWASAKIKZ650207029LSO/SNON/ANO RECORD\n\n\n	4219-356015 KAWASAKIZX636E169727LS03/2080N/ANO\n\n\n	43N/A16 HYOSUNGGT650R210334TITLE01/2080N/ANO\n\n\n	4420-256907 HONDAVTX1300206549LSO/S80N/ANO RECORD\n\n\n	4520-234483 YAMAHAXT550204101LS08/99NON/ANO\n\n\n	4620-249496 YAMAHAXV1100205582LS10/1880N/ANO\n\n\n	4720-065009 HONDACBR600185739LS07/1980N/ANO\n\n\n	4819-343111 DUCATIMONSTER168673LS12/18NOSALVAGENO\n\n\n	4920-163395 BMWR1100196456LS3/2080N/ANO\n\n\n	5020-079508 HONDASBR1000RR186941LS09/18NON/ANO\n\n\n	5120-291005 YAMAHAYZF-R6210017LS10/1780N/ANO\n\n\n	5221-025384 HONDACB650221206LSO/SNON/AO/S CA 7/02\n\n\n	5320-269511 TAOTAOATM50-A207663LS09/19NON/ANO\n\n\n	5419-393082 YAMAHAXJ650173765LS07/17NON/ANO\n\n\n\n\n\n\n\nTERMS AND CONDITIONS\n\nCash Only – All Sales are Final\n$200.00 refundable cash deposit to bid\nRefunds are available anytime during auction\nAll cars must be paid for and picked up by 4pm on Thursday ( no exceptions )\nAdditional deposits are required on vehicle’s over $1000.00
URL:https://jbauctioneers.net/event/otay-mesa-auto-auction-20210407/
LOCATION:Western Towing\, 738 Heritage Rd.\, San Diego\, CA\, 92154\, United States
END:VEVENT
END:VCALENDAR