BEGIN:VCALENDAR
VERSION:2.0
PRODID:-//Joe Bradley Auctioneers - ECPv6.15.20//NONSGML v1.0//EN
CALSCALE:GREGORIAN
METHOD:PUBLISH
X-ORIGINAL-URL:https://jbauctioneers.net
X-WR-CALDESC:Events for Joe Bradley Auctioneers
REFRESH-INTERVAL;VALUE=DURATION:PT1H
X-Robots-Tag:noindex
X-PUBLISHED-TTL:PT1H
BEGIN:VTIMEZONE
TZID:America/Los_Angeles
BEGIN:DAYLIGHT
TZOFFSETFROM:-0800
TZOFFSETTO:-0700
TZNAME:PDT
DTSTART:20200308T100000
END:DAYLIGHT
BEGIN:STANDARD
TZOFFSETFROM:-0700
TZOFFSETTO:-0800
TZNAME:PST
DTSTART:20201101T090000
END:STANDARD
BEGIN:DAYLIGHT
TZOFFSETFROM:-0800
TZOFFSETTO:-0700
TZNAME:PDT
DTSTART:20210314T100000
END:DAYLIGHT
BEGIN:STANDARD
TZOFFSETFROM:-0700
TZOFFSETTO:-0800
TZNAME:PST
DTSTART:20211107T090000
END:STANDARD
BEGIN:DAYLIGHT
TZOFFSETFROM:-0800
TZOFFSETTO:-0700
TZNAME:PDT
DTSTART:20220313T100000
END:DAYLIGHT
BEGIN:STANDARD
TZOFFSETFROM:-0700
TZOFFSETTO:-0800
TZNAME:PST
DTSTART:20221106T090000
END:STANDARD
END:VTIMEZONE
BEGIN:VEVENT
DTSTART;TZID=America/Los_Angeles:20210414T123500
DTEND;TZID=America/Los_Angeles:20210414T123500
DTSTAMP:20260425T064832
CREATED:20210401T231925Z
LAST-MODIFIED:20210409T205430Z
UID:7213-1618403700-1618403700@jbauctioneers.net
SUMMARY:OTAY MESA - AUTO AUCTION
DESCRIPTION:Attention Valued Customers\, Only Registered bidders will be allowed to attend the auction. We are taking extra precaution to keep you and our staff safe. We will provide portable bathroom & washing station\, we will all practice social distancing\, all attendees must wear protective face covering in the auction sale yard area.\n\nPresented By: PUBLIC AUTO AUCTIONUp to 70 Lien Sale VehiclesWednesday April 14th @ 12:35pm(Preview 12:00pm) Auctions held Wednesdays*** NEW LOCATION ***Otay Valley Rd & Heritage Rd\, Chula Vista(Look for signs to the new facility from this location\, actual site is up the hill on 738 Heritage Rd.)Phone: 619-694-7809For a map and directions\, click here Here are some photos of autos available at this week’s Western Towing Auto Auction.Click on any of the images below to see the larger picture.\n\n\n\nno images were found \n\n\n\nTo download a copy of the list in Adobe pdf format\, Click here.\n\n\n\n\n\n\n	NOCONTROLYEAR/MAKEMODELREF NOLS/T\n\n\n\n\n	121-065993 GEOPRISM225302LS\n\n\n	221-059000 HONDACIVIC224746LS\n\n\n	321-082608 PONTIACGRAND PRIX227141LS\n\n\n	421-074708 MAZDA3226311LS\n\n\n	521-072000 NISSANXTERRA226029LS\n\n\n	621-066099 NISSANSENTRA225384LS\n\n\n	721-083599 FORDEXPLORER227215LS\n\n\n	821-077510 CADILLACSRX226814LS\n\n\n	921-069700 CADILLACSEVILLE225791LS\n\n\n	1021-078308 NISSANALTIMA226723LS\n\n\n	1121-063784 CHEVROLETCORVETTE225142LS\n\n\n	1221-069896 MERCEDESE320225828LS\n\n\n	1321-072393 FORDECONOLINE226102LS\n\n\n	1421-078503 FORDF350226808LS\n\n\n	1521-076907 CHEVROLETIMPALA226590LS\n\n\n	1621-077302 DODGEDURANGO226741LS\n\n\n	1721-044111 CHEVROLETEQUINOX223147LS\n\n\n	1821-078809 SCIONTC226803LS\n\n\n	19N/A97 TOYOTACAMRY228320TITLE\n\n\n	2021-045714 NISSANVERSA223197LS\n\n\n	2121-075805 CHEVOLETTAHOE226500LS\n\n\n	2221-077600 JEEPCHEROKEE226564LS\n\n\n	2321-075593 HONDAACCORD226405LS\n\n\n	2421-084299 HONDAODYSSEY227240LS\n\n\n	2521-048694 CHEVROLETS10223952LS\n\n\n	2621-077101 HYUNDAIXG300226599LS\n\n\n	2721-077299 CHEVROLET2500226663LS\n\n\n	2821-077796 TOYOTACAMRY226644LS\n\n\n	2921-080500 TOYOTACOROLLA226796LS\n\n\n	3020-372614 TOYOTAPRIUS218224LS\n\n\n	3121-034402 MERCEDESC230K222133LS\n\n\n	3220-228310 CHRYSLERSEBRING203332LS\n\n\n	3320-289504 CHEVROLETTAHOE209594LS\n\n\n	3420-371812 NISSANALTIMA218060LS\n\n\n	3521-046496 SATURNSC1223548LS\n\n\n	3621-083898 HONDAACCORD227207LS\n\n\n	3721-084101 INFINITII30227230LS\n\n\n	3821-059806 LINCOLNTOWNCAR224811LS\n\n\n	3921-082192 TOYOTACOROLLA227127LS\n\n\n	4021-084003 HONDAACCORD227214LS\n\n\n	4121-084308 CHEVROLETIMPALA227416LS\n\n\n	4221-048087 CHEVROLETCAPRICE223629LS\n\n\n	4321-064293 TOYOTACELICA225388LS\n\n\n	4421-035004 VOLKSWAGENJETTA222452LS\n\n\n	4521-020107 DODGENITRO220613LS\n\n\n	4621-001213 DODGECARAVAN218453LS\n\n\n	4721-070406 SATURNION226088LS\n\n\n	4821-036507 ACURARDX222360LS\n\n\n	4921-053506 HONDAELEMENT224300LS\n\n\n	5020-284704 FORDF450208939LS\n\n\n\n\n\n\n\nTERMS AND CONDITIONS\n\nCash Only – All Sales are Final\n$200.00 refundable cash deposit to bid\nRefunds are available anytime during auction\nAll cars must be paid for and picked up by 4pm on Thursday ( no exceptions )\nAdditional deposits are required on vehicle’s over $1000.00
URL:https://jbauctioneers.net/event/otay-mesa-auto-auction-20210414/
LOCATION:Western Towing\, 738 Heritage Rd.\, San Diego\, CA\, 92154\, United States
END:VEVENT
END:VCALENDAR