BEGIN:VCALENDAR
VERSION:2.0
PRODID:-//Joe Bradley Auctioneers - ECPv6.15.20//NONSGML v1.0//EN
CALSCALE:GREGORIAN
METHOD:PUBLISH
X-ORIGINAL-URL:https://jbauctioneers.net
X-WR-CALDESC:Events for Joe Bradley Auctioneers
REFRESH-INTERVAL;VALUE=DURATION:PT1H
X-Robots-Tag:noindex
X-PUBLISHED-TTL:PT1H
BEGIN:VTIMEZONE
TZID:America/Los_Angeles
BEGIN:DAYLIGHT
TZOFFSETFROM:-0800
TZOFFSETTO:-0700
TZNAME:PDT
DTSTART:20200308T100000
END:DAYLIGHT
BEGIN:STANDARD
TZOFFSETFROM:-0700
TZOFFSETTO:-0800
TZNAME:PST
DTSTART:20201101T090000
END:STANDARD
BEGIN:DAYLIGHT
TZOFFSETFROM:-0800
TZOFFSETTO:-0700
TZNAME:PDT
DTSTART:20210314T100000
END:DAYLIGHT
BEGIN:STANDARD
TZOFFSETFROM:-0700
TZOFFSETTO:-0800
TZNAME:PST
DTSTART:20211107T090000
END:STANDARD
BEGIN:DAYLIGHT
TZOFFSETFROM:-0800
TZOFFSETTO:-0700
TZNAME:PDT
DTSTART:20220313T100000
END:DAYLIGHT
BEGIN:STANDARD
TZOFFSETFROM:-0700
TZOFFSETTO:-0800
TZNAME:PST
DTSTART:20221106T090000
END:STANDARD
END:VTIMEZONE
BEGIN:VEVENT
DTSTART;TZID=America/Los_Angeles:20210519T123500
DTEND;TZID=America/Los_Angeles:20210519T123500
DTSTAMP:20260425T051024
CREATED:20210430T233506Z
LAST-MODIFIED:20210514T213748Z
UID:7526-1621427700-1621427700@jbauctioneers.net
SUMMARY:OTAY MESA - AUTO AUCTION
DESCRIPTION:Attention Valued Customers\, Only Registered bidders will be allowed to attend the auction. We are taking extra precaution to keep you and our staff safe. We will provide portable bathroom & washing station\, we will all practice social distancing\, all attendees must wear protective face covering in the auction sale yard area.\n\nPresented By: PUBLIC AUTO AUCTIONUp to 70 Lien Sale VehiclesWednesday May 19th @ 12:35pm(Preview 12:00pm) Auctions held Wednesdays*** NEW LOCATION ***Otay Valley Rd & Heritage Rd\, Chula Vista(Look for signs to the new facility from this location\, actual site is up the hill on 738 Heritage Rd.)Phone: 619-694-7809For a map and directions\, click here Here are some photos of autos available at this week’s Western Towing Auto Auction.Click on any of the images below to see the larger picture.\n\n\n\nno images were found \n\n\n\nTo download a copy of the list in Adobe pdf format\, Click here.\n\n\n\n\n\n\n	NOCONTROLYEAR/MAKEMODELREF NOLS/T\n\n\n\n\n	121-110505 BUICKTERRAZA230043LS\n\n\n	221-097806 TOYOTACAMRY228647LS\n\n\n	321-110204 BUICKLESABRE230037LS\n\n\n	421-057605 AUDIA4224509LS\n\n\n	521-080614 NISSANSENTRA226915LS\n\n\n	621-115201 CHRYSLERPT CRUISER230566LS\n\n\n	721-097700 FORDEXPLORER228632LS\n\n\n	821-087914 HONDACIVIC227389LS\n\n\n	921-116904 MITSUBISHIGALANT230790LS\n\n\n	1021-065105 CHEVROLETEQUINOX225342LS\n\n\n	1121-106505 ACURATL229631LS\n\n\n	1221-065599 VOLVOV70225451LS\n\n\n	1321-106408 HONDACIVIC229487LS\n\n\n	1421-108002 TOYOTACAMRY229673LS\n\n\n	1521-113112 CHEVROLETIMPALA230252LS\n\n\n	1620-243597 BMW528i204993LS\n\n\n	1721-094204 JEEPCHEROKEE228308LS\n\n\n	1821-104997 TOYOTACAMRY229383LS\n\n\n	1921-112407 MITSUBISHIGALANT230152LS\n\n\n	2021-104005 DODGEGRD CARAVAN229288LS\n\n\n	2121-114106 CHEVROLETCOBALT230455LS\n\n\n	2221-127403 MITSUBISHIMONTERO231901LS\n\n\n	2321-052907 VOLKSWAGENPASSAT224174LS\n\n\n	2421-089204 SCIONXB227716LS\n\n\n	2521-081303 PONTIACBONNEVILLE227304LS\n\n\n	2621-103405 BMW545i229276LS\n\n\n	2721-113404 HYUNDAIXG350230451LS\n\n\n	2817 -327707 PONTIACSOLSTICE69179LS\n\n\n	2921-090805 FORDFREESTAR227924LS\n\n\n	3021-124000 FORDF150231599LS\n\n\n	3121-121401 MITSUBISHIECLIPSE231142LS\n\n\n	3221-120503 CHRYSLERPT CRUISER231104LS\n\n\n	3321-109601 BMW325i230056LS\n\n\n	3421-069503 SAAB9.3225826LS\n\n\n	3521-093503 FORDEXPEDITION228082LS\n\n\n	3621-115700 FORDEXPLORER230556LS\n\n\n	3721-093605 BMW545i228100LS\n\n\n	3821-102301 CHEVROLETSUBURBAN228998LS\n\n\n	3921-112005 NISSANMURANO230151LS\n\n\n	4021-089805 HONDACIVIC227840LS\n\n\n	4121-117501 TOYOTASIENNA230802LS\n\n\n	4221-082906 MERCEDESE350227212LS\n\n\n	4321-113903 HONDAODYSSEY230303LS\n\n\n	4421-124803 MITSUBISHILANCER231710LS\n\n\n	4521-079612 VOLKSWAGENPASSAT226809LS\n\n\n	4621-115301 FORDEXPEDITION230573LS\n\n\n	4721-107402 BMW325i229517LS\n\n\n	4821-114901 MERCEDESCLK430230558LS\n\n\n	4921-109914 NISSANVERSA230074LS\n\n\n	5021-006914 FORDFOCUS219079LS\n\n\n\n\n\n\n\nTERMS AND CONDITIONS\n\nCash Only – All Sales are Final\n$200.00 refundable cash deposit to bid\nRefunds are available anytime during auction\nAll cars must be paid for and picked up by 4pm on Thursday ( no exceptions )\nAdditional deposits are required on vehicle’s over $1000.00
URL:https://jbauctioneers.net/event/otay-mesa-auto-auction-20210519/
LOCATION:Western Towing\, 738 Heritage Rd.\, San Diego\, CA\, 92154\, United States
END:VEVENT
END:VCALENDAR