BEGIN:VCALENDAR
VERSION:2.0
PRODID:-//Joe Bradley Auctioneers - ECPv6.15.20//NONSGML v1.0//EN
CALSCALE:GREGORIAN
METHOD:PUBLISH
X-ORIGINAL-URL:https://jbauctioneers.net
X-WR-CALDESC:Events for Joe Bradley Auctioneers
REFRESH-INTERVAL;VALUE=DURATION:PT1H
X-Robots-Tag:noindex
X-PUBLISHED-TTL:PT1H
BEGIN:VTIMEZONE
TZID:America/Los_Angeles
BEGIN:DAYLIGHT
TZOFFSETFROM:-0800
TZOFFSETTO:-0700
TZNAME:PDT
DTSTART:20200308T100000
END:DAYLIGHT
BEGIN:STANDARD
TZOFFSETFROM:-0700
TZOFFSETTO:-0800
TZNAME:PST
DTSTART:20201101T090000
END:STANDARD
BEGIN:DAYLIGHT
TZOFFSETFROM:-0800
TZOFFSETTO:-0700
TZNAME:PDT
DTSTART:20210314T100000
END:DAYLIGHT
BEGIN:STANDARD
TZOFFSETFROM:-0700
TZOFFSETTO:-0800
TZNAME:PST
DTSTART:20211107T090000
END:STANDARD
BEGIN:DAYLIGHT
TZOFFSETFROM:-0800
TZOFFSETTO:-0700
TZNAME:PDT
DTSTART:20220313T100000
END:DAYLIGHT
BEGIN:STANDARD
TZOFFSETFROM:-0700
TZOFFSETTO:-0800
TZNAME:PST
DTSTART:20221106T090000
END:STANDARD
END:VTIMEZONE
BEGIN:VEVENT
DTSTART;TZID=America/Los_Angeles:20210526T123500
DTEND;TZID=America/Los_Angeles:20210526T123500
DTSTAMP:20260425T051023
CREATED:20210430T233604Z
LAST-MODIFIED:20210521T230803Z
UID:7527-1622032500-1622032500@jbauctioneers.net
SUMMARY:OTAY MESA - AUTO AUCTION
DESCRIPTION:Attention Valued Customers\, Only Registered bidders will be allowed to attend the auction. We are taking extra precaution to keep you and our staff safe. We will provide portable bathroom & washing station\, we will all practice social distancing\, all attendees must wear protective face covering in the auction sale yard area.\n\nPresented By: PUBLIC AUTO AUCTIONUp to 70 Lien Sale VehiclesWednesday May 26th @ 12:35pm(Preview 12:00pm) Auctions held Wednesdays*** NEW LOCATION ***Otay Valley Rd & Heritage Rd\, Chula Vista(Look for signs to the new facility from this location\, actual site is up the hill on 738 Heritage Rd.)Phone: 619-694-7809For a map and directions\, click here Here are some photos of autos available at this week’s Western Towing Auto Auction.Click on any of the images below to see the larger picture.\n\n\n\nno images were found \n\n\n\nTo download a copy of the list in Adobe pdf format\, Click here.\n\n\n\n\n\n\n	NOCONTROLYEAR/MAKEMODELREF NOLS/T\n\n\n\n\n	121-129704 NISSANSENTRA232038LS\n\n\n	221-117406 BMWX3230877LS\n\n\n	321-103900 PONTIACGRAND PRIX229286LS\n\n\n	421-079205 NISSANQUEST226615LS\n\n\n	521-119800 MITSUBISHIMIRAGE231159LS\n\n\n	621-113602 HONDAACCORD230492LS\n\n\n	721-117906 INFINITIM35230903LS\n\n\n	821-128004 HYUNDAIELANTRA232078LS\n\n\n	921-124506 CHEVROLETAVEO231705LS\n\n\n	1021-101091 ISUZURODEO228719LS\n\n\n	1121-124106 CHEVROLETHHR231623LS\n\n\n	1221-121708 JEEPPATRIOT231389LS\n\n\n	1321-130104 HYUNDAISONATA232125LS\n\n\n	1421-092902 HONDAACCORD228183LS\n\n\n	1520-370700 FORDF350218052LS\n\n\n	16N/A06 CHEVROLETTRAILBLAZERN/ATITLE\n\n\n	1721-129894 FORDASPIRE232048LS\n\n\n	1821-117606 VOLKSWAGENJETTA230940LS\n\n\n	1921-114006 CHEVROLETAVEO230449LS\n\n\n	2021-099500 NISSANMAXIMA228767LS\n\n\n	2121-107290 MAZDAMIATA229511LS\n\n\n	2221-116502 BMW325i230794LS\n\n\n	2321-103103 CHEVROLETIMPALA229117LS\n\n\n	2421-115098 CHEVROLETASTROVAN230636LS\n\n\n	2521-105902 HONDAACCORD229380LS\n\n\n	2621-123501 MERCEDESE320231584LS\n\n\n	2721-104102 SATURNL100229213LS\n\n\n	2821-127701 DODGECARAVAN231908LS\n\n\n	2921-084895 FORDTAURUS227393LS\n\n\n	3021-109706 FORDMUSTANG229943LS\n\n\n	3121-109005 MAZDA3229829LS\n\n\n	3221-109896 CHEVROLETS10230047LS\n\n\n	3321-127699 HONDACIVIC232047LS\n\n\n	3421-130800 ACURA3.2TL232256LS\n\n\n	3521-099303 CHEVROLETS10228825LS\n\n\n	3621-105500 LANDROVERDISCOVERY229347LS\n\n\n	3721-101896 CHEVROLETCAVALIER228704LS\n\n\n	3821-128693 TOYOTACAMRY231928LS\n\n\n	3921-124292 HONDACIVIC231693LS\n\n\n	4021-107304 VOLVOXC70229609LS\n\n\n	4121-112208 AUDIA6230150LS\n\n\n	4221-123406 CHEVROLETIMPALA231610LS\n\n\n	4321-119503 FORDFOCUS231021LS\n\n\n	4421-120203 SAAB9-3231129LS\n\n\n	4521-113505 CHRYSLERSEBRING230264LS\n\n\n	4621-026211 BMW335i221275LS\n\n\n	4721-067705 MINICOOPER225537LS\n\n\n	4821-100494 FORDRANGER228811LS\n\n\n	4921-127191 CHEVROLETBLAZER231810LS\n\n\n	5021-117306 NISSAN350ZN/ALS\n\n\n	51TITLE99 LEXUSRX300N/ATITLE\n\n\n\n\n\n\n\nTERMS AND CONDITIONS\n\nCash Only – All Sales are Final\n$200.00 refundable cash deposit to bid\nRefunds are available anytime during auction\nAll cars must be paid for and picked up by 4pm on Thursday ( no exceptions )\nAdditional deposits are required on vehicle’s over $1000.00
URL:https://jbauctioneers.net/event/otay-mesa-auto-auction-20210526/
LOCATION:Western Towing\, 738 Heritage Rd.\, San Diego\, CA\, 92154\, United States
END:VEVENT
END:VCALENDAR