BEGIN:VCALENDAR
VERSION:2.0
PRODID:-//Joe Bradley Auctioneers - ECPv6.15.20//NONSGML v1.0//EN
CALSCALE:GREGORIAN
METHOD:PUBLISH
X-WR-CALNAME:Joe Bradley Auctioneers
X-ORIGINAL-URL:https://jbauctioneers.net
X-WR-CALDESC:Events for Joe Bradley Auctioneers
REFRESH-INTERVAL;VALUE=DURATION:PT1H
X-Robots-Tag:noindex
X-PUBLISHED-TTL:PT1H
BEGIN:VTIMEZONE
TZID:America/Los_Angeles
BEGIN:DAYLIGHT
TZOFFSETFROM:-0800
TZOFFSETTO:-0700
TZNAME:PDT
DTSTART:20200308T100000
END:DAYLIGHT
BEGIN:STANDARD
TZOFFSETFROM:-0700
TZOFFSETTO:-0800
TZNAME:PST
DTSTART:20201101T090000
END:STANDARD
BEGIN:DAYLIGHT
TZOFFSETFROM:-0800
TZOFFSETTO:-0700
TZNAME:PDT
DTSTART:20210314T100000
END:DAYLIGHT
BEGIN:STANDARD
TZOFFSETFROM:-0700
TZOFFSETTO:-0800
TZNAME:PST
DTSTART:20211107T090000
END:STANDARD
BEGIN:DAYLIGHT
TZOFFSETFROM:-0800
TZOFFSETTO:-0700
TZNAME:PDT
DTSTART:20220313T100000
END:DAYLIGHT
BEGIN:STANDARD
TZOFFSETFROM:-0700
TZOFFSETTO:-0800
TZNAME:PST
DTSTART:20221106T090000
END:STANDARD
END:VTIMEZONE
BEGIN:VEVENT
DTSTART;TZID=America/Los_Angeles:20210623T123500
DTEND;TZID=America/Los_Angeles:20210623T123500
DTSTAMP:20260425T033053
CREATED:20210529T043828Z
LAST-MODIFIED:20210620T130050Z
UID:7990-1624451700-1624451700@jbauctioneers.net
SUMMARY:OTAY MESA - AUTO AUCTION
DESCRIPTION:Presented By: PUBLIC AUTO AUCTIONUp to 70 Lien Sale VehiclesWednesday June 23rd @ 12:35pm(Preview 12:00pm) Auctions held Wednesdays*** NEW LOCATION ***Otay Valley Rd & Heritage Rd\, Chula Vista(Look for signs to the new facility from this location\, actual site is up the hill on 738 Heritage Rd.)Phone: 619-694-7809For a map and directions\, click here Here are some photos of autos available at this week’s Western Towing Auto Auction.Click on any of the images below to see the larger picture.\n\n\n\nno images were found \n\n\n\nTo download a copy of the list in Adobe pdf format\, Click here.\n\n\n\n\n\n\n	NOCONTROLYEAR/MAKEMODELREF NOLS/T\n\n\n\n\n	121-054606 CADILLACCTS224325LS\n\n\n	221-137789 BUICKCENTURY232917LS\n\n\n	321-128508 NISSANVERSA231868LS\n\n\n	421-143202 TOYOTACOROLLA233303LS\n\n\n	521-149804 VOLKSWAGENJETTA234157LS\n\n\n	621-117107 BUICKLUCERNE230755LS\n\n\n	721-150598 FORDF150234060LS\n\n\n	821-096298 BMW328i228499LS\n\n\n	921-152099 LEXUSES300234086LS\n\n\n	1021-152801 HYUNDAIACCENT234524LS\n\n\n	1121-122497 HONDACIVIC231066LS\n\n\n	1221-128402 HONDAACCORD231856LS\n\n\n	1321-139194 SAAB900233113LS\n\n\n	1421-151000 FORDTAURUS234285LS\n\n\n	1521-134503 JAGUARX-TYPE232833LS\n\n\n	1621-148701 TOYOTACELICA233973LS\n\n\n	1721-142400 BUICKLUCERNE233351LS\n\n\n	1821-144197 INFINITII30233546LS\n\n\n	1921-147202 FORDESCAPE233800LS\n\n\n	2021-143593 NISSANALTIMA233320LS\n\n\n	2121-060996 JEEPCHEROKEE224938LS\n\n\n	2221-156301 HONDACIVIC235024LS\n\n\n	2321-136901 DODGEGRD CARAVAN232964LS\n\n\n	2421-139086 MERCURYCOUGAR233109LS\n\n\n	2521-160798 TOYOTASIENNA235252LS\n\n\n	2621-092404 CHEVROLETTAHOE228012LS\n\n\n	2721-147401 CHEVROLETTAHOE233854LS\n\n\n	2821-147008 MAZDA3233858LS\n\n\n	2921-154601 HYUNDAISONATA234716LS\n\n\n	3021-128304 NISSANQUEST231825LS\n\n\n	3121-154989 TOYOTACOROLLA234813LS\n\n\n	3221-157191 LEXUSLS400235005LS\n\n\n	3321-157503 CHEVROLETIMPALA234876LS\n\n\n	3421-156699 FORDCROWN VIC234798LS\n\n\n	3521-120401 CHEVROLETTAHOE231162LS\n\n\n	3621-157703 AUDIA4234964LS\n\n\n	3721-158206 CHEVROLETCOBALT234898LS\n\n\n	3821-143499 CHEVROLETSUBURBAN233312LS\n\n\n	3921-139805 ACURARL233141LS\n\n\n	4021-154405 NISSANALTIMA234726LS\n\n\n	4121-147700 GMCYUKON233848LS\n\n\n	4221-158501 VOLVOS40235015LS\n\n\n	4321-144204 LINCOLNNAVIGATOR233549LS\n\n\n	4421-160307 SATURNAURU235164LS\n\n\n	4521-152692 PONTIACBONNEVILLE234504LS\n\n\n	4621-155006 VOLKSWAGENJETTA234814LS\n\n\n	4721-151508 CHEVROLETCOBALT234177LS\n\n\n	4821-145307 HONDAACCORD233628LS\n\n\n	4921-127305 HONDAACCORD231756LS\n\n\n	5021-151405 MAZDA3234293LS\n\n\n\n\n\n\n\nTERMS AND CONDITIONS\n\nCash Only – All Sales are Final\n$200.00 refundable cash deposit to bid\nRefunds are available anytime during auction\nAll cars must be paid for and picked up by 4pm on Thursday ( no exceptions )\nAdditional deposits are required on vehicle’s over $1000.00\nLien sale vehicles sold to the general public are sold as is with all vaults and defects\, you are required to pay all DMV back registration and obtain a smog certificate before receiving your title from the DMV\, sales tax for your purchase will be paid directly to the DMV upon submission of the lien sale packet you will receive at the conclusion of the auction. Out of state buyers\, check with your local DMV to be sure that they will accept California lien sale documents for registration in your state.
URL:https://jbauctioneers.net/event/otay-mesa-auto-auction-20210623/
LOCATION:Western Towing\, 738 Heritage Rd.\, San Diego\, CA\, 92154\, United States
END:VEVENT
END:VCALENDAR