BEGIN:VCALENDAR
VERSION:2.0
PRODID:-//Joe Bradley Auctioneers - ECPv6.15.20//NONSGML v1.0//EN
CALSCALE:GREGORIAN
METHOD:PUBLISH
X-WR-CALNAME:Joe Bradley Auctioneers
X-ORIGINAL-URL:https://jbauctioneers.net
X-WR-CALDESC:Events for Joe Bradley Auctioneers
REFRESH-INTERVAL;VALUE=DURATION:PT1H
X-Robots-Tag:noindex
X-PUBLISHED-TTL:PT1H
BEGIN:VTIMEZONE
TZID:America/Los_Angeles
BEGIN:DAYLIGHT
TZOFFSETFROM:-0800
TZOFFSETTO:-0700
TZNAME:PDT
DTSTART:20200308T100000
END:DAYLIGHT
BEGIN:STANDARD
TZOFFSETFROM:-0700
TZOFFSETTO:-0800
TZNAME:PST
DTSTART:20201101T090000
END:STANDARD
BEGIN:DAYLIGHT
TZOFFSETFROM:-0800
TZOFFSETTO:-0700
TZNAME:PDT
DTSTART:20210314T100000
END:DAYLIGHT
BEGIN:STANDARD
TZOFFSETFROM:-0700
TZOFFSETTO:-0800
TZNAME:PST
DTSTART:20211107T090000
END:STANDARD
BEGIN:DAYLIGHT
TZOFFSETFROM:-0800
TZOFFSETTO:-0700
TZNAME:PDT
DTSTART:20220313T100000
END:DAYLIGHT
BEGIN:STANDARD
TZOFFSETFROM:-0700
TZOFFSETTO:-0800
TZNAME:PST
DTSTART:20221106T090000
END:STANDARD
END:VTIMEZONE
BEGIN:VEVENT
DTSTART;TZID=America/Los_Angeles:20211102T103000
DTEND;TZID=America/Los_Angeles:20211102T143000
DTSTAMP:20260424T193120
CREATED:20211001T024608Z
LAST-MODIFIED:20211030T144410Z
UID:9925-1635849000-1635863400@jbauctioneers.net
SUMMARY:OCEANSIDE - AUTO AUCTION
DESCRIPTION:Presented By:Auctions the 1st and 3rd Tuesdays of each monthPUBLIC AUTO AUCTIONUp to 80 Selected Vehicles\nTuesday November 2nd @ 10:30am1060 Airport Rd. (in the Oceanside location towing yard)Oceanside 92058Phone. 760-722-6686For a map and directions\, click hereHere are some photos of vehicles available at this week’s S&R Towing auction.Vehicles posted are subject to change without notice.Click on any of the images below to see the larger picture.*** SPECIALS ***\n\n\n\n\nno images were found \n\n\n*** RUNNERS ***\n\n\n\nno images were found \n\n\n*** NON-RUNNERS ***\n\n\n\nno images were found \n\n\n\nTo download a copy of the list in Adobe pdf format\, Click here\n\n\n\n\n\n\n\n	INVOICE #YEARMAKEMODELPLATELIC EXPVIN\n\n\n\n\n	1383021994Hondagold wingNO PLATE1HFSC1448GA218104\n\n\n	288202002SuzukiGSX-R60022P7418JS1GN7BA422105222\n\n\n	37352013KawasakiNinja10751 CVC REMOVED\n\n\n	4593962003ITALIKABS15010980\n\n\n	5593981990HondaPC80013M4496JH2RC3412LM100138\n\n\n	659620SuzukiJS1NP4TA011210603\n\n\n	759400Suzuki10022841\n\n\n	8594012014APOLLO2017\n\n\n	9291342016KawasakiNinja ZX-6RJKBZXJE17GA021285\n\n\n	10441822003HondaShadow24J2212JH2RC44563M703618\n\n\n	11535292009KawasakiNinja 650R22V7299JKAEXEC159DA37650\n\n\n	12425172006SuzukiGSX-R 60022L0471JS1GN7DA162117296\n\n\n	13472412003KawasakiVOYAGERNO PLATEJKAZH9B193B514848\n\n\n	14522552014YamahaXvs95021N9650JYAVN05Y8EA000685\n\n\n	15382682003SuzukiGSX-R60024V8010JS1GN7BA832108805\n\n\n	16566401983Hondashadow23X5192JH2RC0719DM111603\n\n\n	17575002005HondaCBR 600RR821J3RJH2PC37005M202311\n\n\n	18549732005HondaCBR 600RR17S9265JH2PC37165M202001\n\n\n	19\n\n\n	20537682003KawasakiNinja ZX-6R23G0349JKBZXJB1X3A013741\n\n\n	21\n\n\n	2220633LFKYCBL0951006579\n\n\n	23558042012Harley-DavidsonSportster23E79261HD1LF362CC455352\n\n\n	24506782008KawasakiNinja ZX-10R19S2045JKAZXCE108A006242\n\n\n	25542822007YamahaYZF R6Z55158JYARJ12E77A012262\n\n\n	26508551984YamahaFA5011K0135JYA14T005EA212870\n\n\n	27594022001HondaXR12514X74GJH2ME05191K300119\n\n\n	28483121987HondaNB50 AERONOPLATEJH2AF0909HS204700\n\n\n	29254822002SuzukiGS-F 1200S24N4957JS1GV77A222102473\n\n\n	30462221991hondaCBR100012U4999JH2SC2416MM100317\n\n\n	31575902007LincolnTown CarNA1L1FM88W97Y634809\n\n\n	32583292001LexusGS 4304NOG242JT8BL69S610003699\n\n\n	33566412000ChevroletBlazer6EUT6701GNDT13W2Y2342961\n\n\n	34556512007ToyotaCamry1A828JKJTNBE46K973079036\n\n\n	35498312010ToyotaYaris6LNU154JTDBT4K35A1369687\n\n\n	36566862008NissanAltima6WUA6551N4AL21E38N470531\n\n\n	37532672008FordF-250 Super Duty8V110121FTSX21R58EB21375\n\n\n	38585142005VolkswagenJetta6NZN0833VWRT71K15M641554\n\n\n	39564862003HondaCivic6RYR4972HGES16553H579609\n\n\n	40567652003HondaCivic6UVH8971HGEM22633L004586\n\n\n	41574601996ToyotaCamry3PAK603JT2BG12K8T0355441\n\n\n	42\n\n\n	43572502003ChevroletBlazerJIS40481GNCT18X73K185806\n\n\n	44572691997NissanMaxima3XDG754JN1CA21D3VM514080\n\n\n	45594922007VolkswagenRabbit7NJA020WVWDS71K37W240347\n\n\n	46508142013NissanAltimaLFW83901N4AL3AP6DC130173\n\n\n	47466982008AudiA4 QUATTRO7TDM572WAUDF78E38A003180\n\n\n	48569052007KiaOptima7MSH885KNAGE124175099914\n\n\n	49540872002DodgeRam 15006U509623B7HA18Z82G121981\n\n\n	50547312008DodgeChargerA23NMJ82B3KA33G88H335340\n\n\n	51449762000OldsmobileIntrigue4LER2691G3WS52H5YF260570\n\n\n	52565401999NISSANPATHFINDER4DQN509JN8AR05S7XW293511\n\n\n	53261401984FordMustang1JVD5931FABP2830EF112368\n\n\n	54546362005HondaAccord8SSG2341HGCM66565A074940\n\n\n	55573111999ToyotaCorolla8LEW2361NXBR12E9XZ182146\n\n\n	56532641992ChevroletK3500UBK0901GCHK34F5NE218135\n\n\n	57587682013FordFocus7SYA9031FADP3K2XDL153217\n\n\n	58598782008MAZDA3Q5421111YVHP80C485M48418\n\n\n	59552771995Mercedes-BenzC-ClassAFH5203WDBHA22E4SF253910\n\n\n	60519412006ChevroletSilverado 150063602S22GCEC13V361229974\n\n\n	61320231994DodgeDakota4X441791B7GG23Y4RS575520\n\n\n	62471472016DodgeDart7PCA6661C3CDFBB6GD610091\n\n\n	63362102013BURNTDART\n\n\n	64575732001KiaRio7HVA434KNADC123816024841\n\n\n	65427562005TOYOTACAMRY5LGR0224T1BE32KX5U028006\n\n\n	66566372006ChevroletSilverado30615D32GCEK13T161194661\n\n\n	67558822007FordF-1508K768491FTPX12507KC52645\n\n\n	68573622002NissanAltima4WVE1001N4AL11D32C200767\n\n\n	69576382005HyundaiTiburon6TUF684KMHHM65D35U185677\n\n\n	70566692004ChevroletMonte Carlo7VKW2532G1WW12E649214373\n\n\n	71565601991ToyotaCamry2WEP902JT2SV22E0M3452459\n\n\n	72590682005BMWX55SGD6105UXFA13595LY22871\n\n\n	73564472004InfinitiI356RYV543JNKDA31AX4T212379\n\n\n	74563052006ChevroletMalibu8NMP2021G1ZT51856F107138\n\n\n	75562531999HondaCivic4HHX8342HGEJ6574XH545413\n\n\n	76556961984ToyotaCamry1KRT655JT2SV16E7E0214535\n\n\n	77547711999HondaCivic7SDR1941HGEJ6574XL049689\n\n\n	78545372005ToyotaMatrix5LJD6902T1KR32E95C385564\n\n\n	79544671995JeepGrand Cherokee5WLV9591J4GZ78Y7SC588692\n\n\n	80543952003ChevroletTahoe7GQS1081GNEK13T23R128694\n\n\n	81541322002Mercedes-BenzC2406AJL616WDBRF61J12F140573\n\n\n	82523132001ChryslerVoyager4RRB2861C4GJ25B41B112615\n\n\n	83473142005MercuryMountaineer6JMC0174M2DU86W95UJ00172\n\n\n	84545292001SubaruForesterAYZ4873JF1SF656X1H750165\n\n\n	85546962005mazdarx-88DXM269JM1FE173950141271\n\n\n	86483992000freigthlinerwinnie8GQH9994UZ6XFBC8YCH12832\n\n\n	87392172006MITSUBISHFUSO7Y18852JL6CCE1S76K006979\n\n\n	88599982004FORDEXPEDITION98798D21FMEU17W74LA12656\n\n\n	89599992005HONDAELEMENT5RRA6695J6YH28645L028738\n\n\n\n\n\n\n\nTERMS AND CONDITIONS\n\nBuyers fees: Dealers & Dismantlers $35.00\nGeneral Public $65.00\n$200.00 cash deposit required to bid\nAll vehicles must be paid for in full CASH ONLY at the conclusion of the auction\nAll vehicles must be removed by Friday following the auction\nLien sale vehicles sold to the general public are sold as is with all vaults and defects\, you are required to pay all DMV back registration and obtain a smog certificate before receiving your title from the DMV\, sales tax for your purchase will be paid directly to the DMV upon submission of the lien sale packet you will receive at the conclusion of the auction. Out of state buyers\, check with your local DMV to be sure that they will accept California lien sale documents for registration in your state.\nFor more info call direct 760-722-6686
URL:https://jbauctioneers.net/event/oceanside-auto-auction-20211102/
LOCATION:S&R Towing\, 1060 Airport Rd.\, Oceanside\, CA\, 92058\, United States
END:VEVENT
END:VCALENDAR