BEGIN:VCALENDAR
VERSION:2.0
PRODID:-//Joe Bradley Auctioneers - ECPv6.15.20//NONSGML v1.0//EN
CALSCALE:GREGORIAN
METHOD:PUBLISH
X-WR-CALNAME:Joe Bradley Auctioneers
X-ORIGINAL-URL:https://jbauctioneers.net
X-WR-CALDESC:Events for Joe Bradley Auctioneers
REFRESH-INTERVAL;VALUE=DURATION:PT1H
X-Robots-Tag:noindex
X-PUBLISHED-TTL:PT1H
BEGIN:VTIMEZONE
TZID:America/Los_Angeles
BEGIN:DAYLIGHT
TZOFFSETFROM:-0800
TZOFFSETTO:-0700
TZNAME:PDT
DTSTART:20200308T100000
END:DAYLIGHT
BEGIN:STANDARD
TZOFFSETFROM:-0700
TZOFFSETTO:-0800
TZNAME:PST
DTSTART:20201101T090000
END:STANDARD
BEGIN:DAYLIGHT
TZOFFSETFROM:-0800
TZOFFSETTO:-0700
TZNAME:PDT
DTSTART:20210314T100000
END:DAYLIGHT
BEGIN:STANDARD
TZOFFSETFROM:-0700
TZOFFSETTO:-0800
TZNAME:PST
DTSTART:20211107T090000
END:STANDARD
BEGIN:DAYLIGHT
TZOFFSETFROM:-0800
TZOFFSETTO:-0700
TZNAME:PDT
DTSTART:20220313T100000
END:DAYLIGHT
BEGIN:STANDARD
TZOFFSETFROM:-0700
TZOFFSETTO:-0800
TZNAME:PST
DTSTART:20221106T090000
END:STANDARD
END:VTIMEZONE
BEGIN:VEVENT
DTSTART;TZID=America/Los_Angeles:20211117T123500
DTEND;TZID=America/Los_Angeles:20211117T123500
DTSTAMP:20260424T193120
CREATED:20211028T231641Z
LAST-MODIFIED:20211115T183518Z
UID:10264-1637152500-1637152500@jbauctioneers.net
SUMMARY:OTAY MESA - AUTO AUCTION
DESCRIPTION:Presented By: PUBLIC AUTO AUCTIONUp to 70 Lien Sale VehiclesWednesday November 17th @ 12:35pm(Preview 12:00pm) Auctions held Wednesdays*** NEW LOCATION ***Otay Valley Rd & Heritage Rd\, Chula Vista(Look for signs to the new facility from this location\, actual site is up the hill on 738 Heritage Rd.)Phone: 619-694-7809For a map and directions\, click here Here are some photos of autos available at this week’s Western Towing Auto Auction.Click on any of the images below to see the larger picture.\n\n\n\nno images were found \n\n\n\nTo download a copy of the list in Adobe pdf format\, Click here.\n\n\n\n\n\n\n	NOCONTROLYEAR/MAKEMODELREF NOLS/T\n\n\n\n\n	121-330302 HONDACIVIC251988LS\n\n\n	221-325696 CADILLACDEVILLE251405LS\n\n\n	321-317705 NISSANALTIMA250658LS\n\n\n	421-328101 BMW325ci251995LS\n\n\n	521-299396 GEOPRISM248960LS\n\n\n	621-312610 MAZDA3250251LS\n\n\n	721-0478A07 INFINITIG35223627LS\n\n\n	821-150906 MERCEDESML350234225LS\n\n\n	921-295708 ACURARL248580LS\n\n\n	1021-327707 TOYOTACOROLLA251987LS\n\n\n	1121-335005 NISSANALTIMA252771LS\n\n\n	1221-260206 HONDAACCORD245219LS\n\n\n	1321-306807 SUBARULEGACY249916LS\n\n\n	14N/A13 FORDTRANSITWT VEHTITLE\n\n\n	1521-328704 INFINITIG35251895LS\n\n\n	1621-325300 VOLVOV70251650LS\n\n\n	1721-337898 HONDACIVIC253131LS\n\n\n	1821-312506 NISSANALTIMA250188LS\n\n\n	1921-330699 VOLVOS70252099LS\n\n\n	20N/A06 BMW330xi252501TITLE\n\n\n	2121-337091 HONDAACCORD252897LS\n\n\n	2221-326903 HONDACIVIC251712LS\n\n\n	2321-211111 VOLKSWAGENCC SPORT240066LS\n\n\n	2421-332100 HONDACIVIC252172LS\n\n\n	2521-324802 BMWX5251335LS\n\n\n	2621-261508 VOLKSWAGENPASSAT245302LS\n\n\n	27N/A04 TOYOTACOROLLA253092TITLE\n\n\n	2821-336804 FORDEXPEDITION252889LS\n\n\n	2921-334511 FORDFUSION252719LS\n\n\n	3021-336705 VOLKSWAGENJETTA252912LS\n\n\n	3121-302911 FORDFUSION249386LS\n\n\n	3221-331700 HONDAACCORD252417LS\n\n\n	3321-253494 FORDF250244518LS\n\n\n	3421-312309 FORDFLEX250410LS\n\n\n	3520-019098 FORDCROWN VIC180402LS\n\n\n	3620-098198 HONDACIVIC189286LS\n\n\n	3720-192303 DODGEDURANGO199763LS\n\n\n	3821-276210 CHRYSLER300246878LS\n\n\n	3920-336411 CHRYSLER300214756LS\n\n\n	4021-028797 ACURAINTEGRA221384LS\n\n\n	4121-042011 BMW328i223198LS\n\n\n	4221-339106 SCIONXA253065LS\n\n\n	4321-323201 DODGEDURANGO251301LS\n\n\n	4421-334098 JEEPGRD CHEROKEE252519LS\n\n\n	4521-337306 TOYOTAAVALON253011LS\n\n\n	4621-334805 MITSUBISHIENDEAVOR252673LS\n\n\n	4721-336698 MITSUBISHIMONTERO252943LS\n\n\n	4821-337708 SATURNAURU253004LS\n\n\n	4921-335809 NISSANALTIMA252753LS\n\n\n	5021-270409 TOYOTACOROLLA21-2704LS\n\n\n\n\n\n\n\nTERMS AND CONDITIONS\n\nCash Only – All Sales are Final\n$200.00 refundable cash deposit to bid\nRefunds are available anytime during auction\nAll cars must be paid for and picked up by 4pm on Thursday ( no exceptions )\nAdditional deposits are required on vehicle’s over $1000.00\nLien sale vehicles sold to the general public are sold as is with all vaults and defects\, you are required to pay all DMV back registration and obtain a smog certificate before receiving your title from the DMV\, sales tax for your purchase will be paid directly to the DMV upon submission of the lien sale packet you will receive at the conclusion of the auction. Out of state buyers\, check with your local DMV to be sure that they will accept California lien sale documents for registration in your state.
URL:https://jbauctioneers.net/event/otay-mesa-auto-auction-20211117/
LOCATION:Western Towing\, 738 Heritage Rd.\, San Diego\, CA\, 92154\, United States
END:VEVENT
END:VCALENDAR