BEGIN:VCALENDAR
VERSION:2.0
PRODID:-//Joe Bradley Auctioneers - ECPv6.15.20//NONSGML v1.0//EN
CALSCALE:GREGORIAN
METHOD:PUBLISH
X-WR-CALNAME:Joe Bradley Auctioneers
X-ORIGINAL-URL:https://jbauctioneers.net
X-WR-CALDESC:Events for Joe Bradley Auctioneers
REFRESH-INTERVAL;VALUE=DURATION:PT1H
X-Robots-Tag:noindex
X-PUBLISHED-TTL:PT1H
BEGIN:VTIMEZONE
TZID:America/Los_Angeles
BEGIN:DAYLIGHT
TZOFFSETFROM:-0800
TZOFFSETTO:-0700
TZNAME:PDT
DTSTART:20200308T100000
END:DAYLIGHT
BEGIN:STANDARD
TZOFFSETFROM:-0700
TZOFFSETTO:-0800
TZNAME:PST
DTSTART:20201101T090000
END:STANDARD
BEGIN:DAYLIGHT
TZOFFSETFROM:-0800
TZOFFSETTO:-0700
TZNAME:PDT
DTSTART:20210314T100000
END:DAYLIGHT
BEGIN:STANDARD
TZOFFSETFROM:-0700
TZOFFSETTO:-0800
TZNAME:PST
DTSTART:20211107T090000
END:STANDARD
BEGIN:DAYLIGHT
TZOFFSETFROM:-0800
TZOFFSETTO:-0700
TZNAME:PDT
DTSTART:20220313T100000
END:DAYLIGHT
BEGIN:STANDARD
TZOFFSETFROM:-0700
TZOFFSETTO:-0800
TZNAME:PST
DTSTART:20221106T090000
END:STANDARD
END:VTIMEZONE
BEGIN:VEVENT
DTSTART;TZID=America/Los_Angeles:20211201T123500
DTEND;TZID=America/Los_Angeles:20211201T123500
DTSTAMP:20260424T180541
CREATED:20211028T231817Z
LAST-MODIFIED:20211124T230201Z
UID:10266-1638362100-1638362100@jbauctioneers.net
SUMMARY:OTAY MESA - AUTO AUCTION
DESCRIPTION:Presented By: PUBLIC AUTO AUCTIONUp to 70 Lien Sale VehiclesWednesday December 1st @ 12:35pm(Preview 12:00pm) Auctions held Wednesdays*** NEW LOCATION ***Otay Valley Rd & Heritage Rd\, Chula Vista(Look for signs to the new facility from this location\, actual site is up the hill on 738 Heritage Rd.)Phone: 619-694-7809For a map and directions\, click here Here are some photos of autos available at this week’s Western Towing Auto Auction.Click on any of the images below to see the larger picture.\n\n\n\nno images were found \n\n\n\nTo download a copy of the list in Adobe pdf format\, Click here.\n\n\n\n\n\n\n	NOCONTROLYEAR/MAKEMODELREF NOLS/T\n\n\n\n\n	121-349006 CHRYSLERPT CRUISER253984LS\n\n\n	221-340003 TOYOTACAMRY253003LS\n\n\n	321-334703 JEEPLIBERTY252591LS\n\n\n	421-340196 HONDAACCORD253015LS\n\n\n	521-333806 VOLKSWAGENJETTA252558LS\n\n\n	621-339707 SCIONTC252998LS\n\n\n	721-347907 TOYOTACOROLLA254075LS\n\n\n	821-341604 CHEVROLETTAHOE253367LS\n\n\n	921-338997 INFINITII30253258LS\n\n\n	1021-341496 TOYOTACAMRY253383LS\n\n\n	1121-322999 FORDRANGER251236LS\n\n\n	1221-339802 HONDAACCORD253000LS\n\n\n	1321-270306 INFINITIG35246081LS\n\n\n	1421-291999 FORDF150248149LS\n\n\n	1521-338805 BUICKCENTURY253214LS\n\n\n	1621-340296 BUICKROADMASTER253117LS\n\n\n	1721-347810 MERCURYGRD MARQUIS253986LS\n\n\n	1821-348711 KIAOPTIMA253942LS\n\n\n	1921-345000 HONDACIVIC253716LS\n\n\n	2021-199705 FORDMUSTANG238815LS\n\n\n	2121-309598 NISSANPATHFINDER249544LS\n\n\n	2221-322504 CHEVROLETAVEO251257LS\n\n\n	2321-338004 MERCURYMONTEREY253272LS\n\n\n	2421-250895 CHEVROLETASTROVAN244293LS\n\n\n	2521-351600 INFINITII30254457LS\n\n\n	2621-339313 KIAFORTE253260LS\n\n\n	2721-330712 FORDESCAPE252287LS\n\n\n	2821-312901 FORDESCAPE250357LS\n\n\n	2921-338610 DODGECHARGER253022LS\n\n\n	3021-324906 MAZDATRIBUTE251385LS\n\n\n	3121-344402 HONDACRV253622LS\n\n\n	3221-349206 HYUNDAISONATA254308LS\n\n\n	3321-349603 FORDEXPEDITION253841LS\n\n\n	3421-350988 BMW325i254481LS\n\n\n	3521-343408 FORDEXPLORER253539LS\n\n\n	3621-337209 VOLKSWAGENPASSAT252954LS\n\n\n	3721-347103 GMCENVOY254161LS\n\n\n	3821-327805 JAGUARXTYPE251993LS\n\n\n	3921-340506 CHRYSLER300253254LS\n\n\n	4021-339204 PONTIACAZTEK253093LS\n\n\n	4121-347598 GMCJIMMY253959LS\n\n\n	4221-351709 LINCOLNTOWNCAR254577LS\n\n\n	4321-336503 HONDAACCORD252885LS\n\n\n	4421-345297 GEOPRISM253710LS\n\n\n	4521-312401 CHEVROLETSILVERADO250145LS\n\n\n	4621-196371 VOLKSWAGENBUG238541LS\n\n\n	4721-338410 DODGEAVENGER252904LS\n\n\n	4821-348888 CHEVROLETG20 VAN253968LS\n\n\n	4921-343299 CHEVROLETASTROVAN253517LS\n\n\n	5021-343000 MERCURYVILLAGER253471LS\n\n\n\n\n\n\n\nTERMS AND CONDITIONS\n\nCash Only – All Sales are Final\n$200.00 refundable cash deposit to bid\nRefunds are available anytime during auction\nAll cars must be paid for and picked up by 4pm on Thursday ( no exceptions )\nAdditional deposits are required on vehicle’s over $1000.00\nLien sale vehicles sold to the general public are sold as is with all vaults and defects\, you are required to pay all DMV back registration and obtain a smog certificate before receiving your title from the DMV\, sales tax for your purchase will be paid directly to the DMV upon submission of the lien sale packet you will receive at the conclusion of the auction. Out of state buyers\, check with your local DMV to be sure that they will accept California lien sale documents for registration in your state.
URL:https://jbauctioneers.net/event/otay-mesa-auto-auction-20211201/
LOCATION:Western Towing\, 738 Heritage Rd.\, San Diego\, CA\, 92154\, United States
END:VEVENT
END:VCALENDAR