BEGIN:VCALENDAR
VERSION:2.0
PRODID:-//Joe Bradley Auctioneers - ECPv6.15.20//NONSGML v1.0//EN
CALSCALE:GREGORIAN
METHOD:PUBLISH
X-ORIGINAL-URL:https://jbauctioneers.net
X-WR-CALDESC:Events for Joe Bradley Auctioneers
REFRESH-INTERVAL;VALUE=DURATION:PT1H
X-Robots-Tag:noindex
X-PUBLISHED-TTL:PT1H
BEGIN:VTIMEZONE
TZID:America/Los_Angeles
BEGIN:DAYLIGHT
TZOFFSETFROM:-0800
TZOFFSETTO:-0700
TZNAME:PDT
DTSTART:20200308T100000
END:DAYLIGHT
BEGIN:STANDARD
TZOFFSETFROM:-0700
TZOFFSETTO:-0800
TZNAME:PST
DTSTART:20201101T090000
END:STANDARD
BEGIN:DAYLIGHT
TZOFFSETFROM:-0800
TZOFFSETTO:-0700
TZNAME:PDT
DTSTART:20210314T100000
END:DAYLIGHT
BEGIN:STANDARD
TZOFFSETFROM:-0700
TZOFFSETTO:-0800
TZNAME:PST
DTSTART:20211107T090000
END:STANDARD
BEGIN:DAYLIGHT
TZOFFSETFROM:-0800
TZOFFSETTO:-0700
TZNAME:PDT
DTSTART:20220313T100000
END:DAYLIGHT
BEGIN:STANDARD
TZOFFSETFROM:-0700
TZOFFSETTO:-0800
TZNAME:PST
DTSTART:20221106T090000
END:STANDARD
END:VTIMEZONE
BEGIN:VEVENT
DTSTART;TZID=America/Los_Angeles:20211208T123500
DTEND;TZID=America/Los_Angeles:20211208T123500
DTSTAMP:20260424T180641
CREATED:20211028T231730Z
LAST-MODIFIED:20211203T000708Z
UID:10265-1638966900-1638966900@jbauctioneers.net
SUMMARY:OTAY MESA - AUTO AUCTION
DESCRIPTION:Presented By: PUBLIC AUTO AUCTIONUp to 70 Lien Sale VehiclesWednesday December 8th @ 12:35pm(Preview 12:00pm) Auctions held Wednesdays*** NEW LOCATION ***Otay Valley Rd & Heritage Rd\, Chula Vista(Look for signs to the new facility from this location\, actual site is up the hill on 738 Heritage Rd.)Phone: 619-694-7809For a map and directions\, click here Here are some photos of autos available at this week’s Western Towing Auto Auction.Click on any of the images below to see the larger picture.\n\n\n\nno images were found \n\n\n\nTo download a copy of the list in Adobe pdf format\, Click here.\n\n\n\n\n\n\n	NOCONTROLYEAR/MAKEMODELREF NOLS/T\n\n\n\n\n	121-339901 CHRYSLERCONCORDE253002LS\n\n\n	221-354508 NISSANSENTRA254987LS\n\n\n	321-344099 HONDACIVIC253606LS\n\n\n	421-339403 ACURARSX253261LS\n\n\n	521-347406 CHRYSLER300253958LS\n\n\n	621-357300 MERCEDESCLK430254923LS\n\n\n	721-259108 VOLKSWAGENBEETLE245081LS\n\n\n	821-361202 CADILLACDEVILLE255514LS\n\n\n	921-358804 TOYOTACAMRY254981LS\n\n\n	1021-311498 TOYOTACAMRY250310LS\n\n\n	1121-295814 FIAT500c248632LS\n\n\n	1221-330105 AUDIA4252111LS\n\n\n	1321-357502 CADILLACDEVILLE252002LS\n\n\n	1421-306201 ACURARL249608LS\n\n\n	1521-280203 TOYOTACELICA GT247298LS\n\n\n	1621-328994 DODGERAM 1500251985LS\n\n\n	1721-350605 HYUNDAIELANTRA254379LS\n\n\n	1821-334906 BMW325i252766LS\n\n\n	1921-311203 ACURA3.2TL250422LS\n\n\n	2021-322205 VOLKSWAGENBEETLE251315LS\n\n\n	2121-354796 GEOPRISM254731LS\n\n\n	2221-347295 BMW525i254047LS\n\n\n	2321-335305 VOLVOXC90252806LS\n\n\n	2421-357206 HYUNDAISONATA254876LS\n\n\n	2521-348207 FORDFIVE HUNDRED254006LS\n\n\n	2621-340605 HONDACIVIC253142LS\n\n\n	2721-348606 CHEVROLETEQUINOX253839LS\n\n\n	2821-346497 INFINITIQ45253962LS\n\n\n	2921-325805 AUDIA6251497LS\n\n\n	3021-168514 SCIONTC235681LS\n\n\n	3121-346307 TOYOTAPRIUS253960LS\n\n\n	3221-320204 BMW745i251049LS\n\n\n	3321-253494 FORDF250244518LS\n\n\n	3421-347602 CADILLACDEVILLE254123LS\n\n\n	3521-340408 INFINITIM35253024LS\n\n\n	3621-357407 HONDAACCORD254999LS\n\n\n	3721-332597 LINCOLNMARK 8252410LS\n\n\n	3821-344511 VOLKSWAGENROUTAN253624LS\n\n\n	3921-335107 BMW530i252775LS\n\n\n	4021-324493 HONDAACCORD251547LS\n\n\n	4121-350401 FORDWINDSTAR254241LS\n\n\n	4221-360707 DODGEGRAND CARAVAN255358LS\n\n\n	4321-361703 MITSUBISHIGALANT255529LS\n\n\n	4421-355003 ACURA3.2TL254982LS\n\n\n	4521-361003 TOYOTACELICA GT255476LS\n\n\n	4621-359310 MAZDA6255150LS\n\n\n	4721-355800 CHEVROLETSUBURBAN254968LS\n\n\n	4821-328000 CHEVROLETASTROVAN251856LS\n\n\n	4921-353703 TOYOTACOROLLA254080LS\n\n\n	5021-303009 SCIONTC249299LS\n\n\n	51N/A01 FORDESCAPEN/ATITLE\n\n\n	5221-343608 NISSANSENTRAN/ALS\n\n\n\n\n\n\n\nTERMS AND CONDITIONS\n\nCash Only – All Sales are Final\n$200.00 refundable cash deposit to bid\nRefunds are available anytime during auction\nAll cars must be paid for and picked up by 4pm on Thursday ( no exceptions )\nAdditional deposits are required on vehicle’s over $1000.00\nLien sale vehicles sold to the general public are sold as is with all vaults and defects\, you are required to pay all DMV back registration and obtain a smog certificate before receiving your title from the DMV\, sales tax for your purchase will be paid directly to the DMV upon submission of the lien sale packet you will receive at the conclusion of the auction. Out of state buyers\, check with your local DMV to be sure that they will accept California lien sale documents for registration in your state.
URL:https://jbauctioneers.net/event/otay-mesa-auto-auction-20211208/
LOCATION:Western Towing\, 738 Heritage Rd.\, San Diego\, CA\, 92154\, United States
END:VEVENT
END:VCALENDAR