BEGIN:VCALENDAR
VERSION:2.0
PRODID:-//Joe Bradley Auctioneers - ECPv6.15.20//NONSGML v1.0//EN
CALSCALE:GREGORIAN
METHOD:PUBLISH
X-WR-CALNAME:Joe Bradley Auctioneers
X-ORIGINAL-URL:https://jbauctioneers.net
X-WR-CALDESC:Events for Joe Bradley Auctioneers
REFRESH-INTERVAL;VALUE=DURATION:PT1H
X-Robots-Tag:noindex
X-PUBLISHED-TTL:PT1H
BEGIN:VTIMEZONE
TZID:America/Los_Angeles
BEGIN:DAYLIGHT
TZOFFSETFROM:-0800
TZOFFSETTO:-0700
TZNAME:PDT
DTSTART:20210314T100000
END:DAYLIGHT
BEGIN:STANDARD
TZOFFSETFROM:-0700
TZOFFSETTO:-0800
TZNAME:PST
DTSTART:20211107T090000
END:STANDARD
BEGIN:DAYLIGHT
TZOFFSETFROM:-0800
TZOFFSETTO:-0700
TZNAME:PDT
DTSTART:20220313T100000
END:DAYLIGHT
BEGIN:STANDARD
TZOFFSETFROM:-0700
TZOFFSETTO:-0800
TZNAME:PST
DTSTART:20221106T090000
END:STANDARD
BEGIN:DAYLIGHT
TZOFFSETFROM:-0800
TZOFFSETTO:-0700
TZNAME:PDT
DTSTART:20230312T100000
END:DAYLIGHT
BEGIN:STANDARD
TZOFFSETFROM:-0700
TZOFFSETTO:-0800
TZNAME:PST
DTSTART:20231105T090000
END:STANDARD
END:VTIMEZONE
BEGIN:VEVENT
DTSTART;TZID=America/Los_Angeles:20220209T123500
DTEND;TZID=America/Los_Angeles:20220209T123500
DTSTAMP:20260424T150428
CREATED:20220130T214559Z
LAST-MODIFIED:20220206T033546Z
UID:11698-1644410100-1644410100@jbauctioneers.net
SUMMARY:OTAY MESA - AUTO AUCTION
DESCRIPTION:Presented By: PUBLIC AUTO AUCTIONUp to 70 Lien Sale VehiclesWednesday February 9th @ 12:35pm(Preview 12:00pm) Auctions held Wednesdays*** NEW LOCATION ***Otay Valley Rd & Heritage Rd\, Chula Vista(Look for signs to the new facility from this location\, actual site is up the hill on 738 Heritage Rd.)Phone: 619-694-7809For a map and directions\, click here Here are some photos of autos available at this week’s Western Towing Auto Auction.Click on any of the images below to see the larger picture.\n\n\n\nno images were found \n\n\n\nTo download a copy of the list in Adobe pdf format\, Click here.\n\n\n\n\n\n\n	NOCONTROLYEAR/MAKEMODELREF NOLS/T\n\n\n\n\n	122-026706 FORDFOCUS262423LS\n\n\n	222-022904 TOYOTARAV4261667LS\n\n\n	322-027715 CHRYSLER200262175LS\n\n\n	422-022204 TOYOTAPRIUS261572LS\n\n\n	522-016304 MAZDA3261054LS\n\n\n	622-024096 MAZDA626261638LS\n\n\n	722-023005 HONDACIVIC261703LS\n\n\n	822-006403 HONDAODYSSEY259819LS\n\n\n	921-387608 CHEVROLETCOLORADO258119LS\n\n\n	1022-024701 FORDEXPLORER261976LS\n\n\n	1122-019710 BMW335261315LS\n\n\n	1222-001405 CHEVROLETSILVERADO259594LS\n\n\n	1322-047607 SAAB9-5264193LS\n\n\n	1422-026200 FORDTAURUS262037LS\n\n\n	1522-027404 HONDAODYSSEY262336LS\n\n\n	1622-031598 FORDMUSTANG262616LS\n\n\n	1722-027395 HONDACIVIC262327LS\n\n\n	1822-028700 BMW528i262226LS\n\n\n	1922-007396 VOLKSWAGENJETTA260066LS\n\n\n	2022-031299 FORDEXPEDITION262620LS\n\n\n	2122-017000 MAZDAPROTÉGÉ261176LS\n\n\n	2222-017604 BUICKRENDEZVOUS261188LS\n\n\n	2322-022099 TOYOTACOROLLA261785LS\n\n\n	2421-402299 FORDF150259098LS\n\n\n	2522-001098 JEEPCHEROKEE259632LS\n\n\n	2622-022413 CHEVROLETIMPALA261713LS\n\n\n	2722-013500 CADILLACSEVILLE260750LS\n\n\n	2822-026400 FORDMUSTANG261490LS\n\n\n	2922-023512 HYUNDAISONATA261802LS\n\n\n	3021-402305 TOYOTACELICA GT259343LS\n\n\n	3121-062611 JEEPWRANGLER225038LS\n\n\n	3221-400692 ACURALEGEND259285LS\n\n\n	3322-004697 HONDACIVIC259761LS\n\n\n	3416-328868 VOLKSWAGENBEETLE30383LS\n\n\n	3522-022897 LEXUSES300261553LS\n\n\n	3622-023805 HONDACIVIC261677LS\n\n\n	3722-023908 NISSANVERSA261554LS\n\n\n	3822-017198 HONDAACCORD261177LS\n\n\n	3921-190114 NISSANSENTRA237835LS\n\n\n	4022-019509 CHEVROLETMALIBU261305LS\n\n\n	4121-393097 BMW528i258640LS\n\n\n	4222-018510 TOYOTARAV4261174LS\n\n\n	4321-384804 HONDAELEMENT257749LS\n\n\n	4422-018201 DODGERAM 1500261219LS\n\n\n	4521-265000 VOLKSWAGENBEETLE245578LS\n\n\n	4621-395208 LEXUSIS259018LS\n\n\n	4721-399204 HYUNDAITIBURON258999LS\n\n\n	4821-373495 FORDECONOLINE256684LS\n\n\n	4921-388595 FORDEXPEDITION258132LS\n\n\n	5022-028801 MERCEDESE320262228LS\n\n\n	51N/A97 FORDF150N/ATITLE\n\n\n\n\n\n\n\nTERMS AND CONDITIONS\n\nCash Only – All Sales are Final\n$200.00 refundable cash deposit to bid\nRefunds are available anytime during auction\nAll cars must be paid for and picked up by 4pm on Thursday ( no exceptions )\nAdditional deposits are required on vehicle’s over $1000.00\nLien sale vehicles sold to the general public are sold as is with all vaults and defects\, you are required to pay all DMV back registration and obtain a smog certificate before receiving your title from the DMV\, sales tax for your purchase will be paid directly to the DMV upon submission of the lien sale packet you will receive at the conclusion of the auction. Out of state buyers\, check with your local DMV to be sure that they will accept California lien sale documents for registration in your state.
URL:https://jbauctioneers.net/event/otay-mesa-auto-auction-20220209/
LOCATION:Western Towing\, 738 Heritage Rd.\, San Diego\, CA\, 92154\, United States
END:VEVENT
END:VCALENDAR