BEGIN:VCALENDAR
VERSION:2.0
PRODID:-//Joe Bradley Auctioneers - ECPv6.15.20//NONSGML v1.0//EN
CALSCALE:GREGORIAN
METHOD:PUBLISH
X-WR-CALNAME:Joe Bradley Auctioneers
X-ORIGINAL-URL:https://jbauctioneers.net
X-WR-CALDESC:Events for Joe Bradley Auctioneers
REFRESH-INTERVAL;VALUE=DURATION:PT1H
X-Robots-Tag:noindex
X-PUBLISHED-TTL:PT1H
BEGIN:VTIMEZONE
TZID:America/Los_Angeles
BEGIN:DAYLIGHT
TZOFFSETFROM:-0800
TZOFFSETTO:-0700
TZNAME:PDT
DTSTART:20210314T100000
END:DAYLIGHT
BEGIN:STANDARD
TZOFFSETFROM:-0700
TZOFFSETTO:-0800
TZNAME:PST
DTSTART:20211107T090000
END:STANDARD
BEGIN:DAYLIGHT
TZOFFSETFROM:-0800
TZOFFSETTO:-0700
TZNAME:PDT
DTSTART:20220313T100000
END:DAYLIGHT
BEGIN:STANDARD
TZOFFSETFROM:-0700
TZOFFSETTO:-0800
TZNAME:PST
DTSTART:20221106T090000
END:STANDARD
BEGIN:DAYLIGHT
TZOFFSETFROM:-0800
TZOFFSETTO:-0700
TZNAME:PDT
DTSTART:20230312T100000
END:DAYLIGHT
BEGIN:STANDARD
TZOFFSETFROM:-0700
TZOFFSETTO:-0800
TZNAME:PST
DTSTART:20231105T090000
END:STANDARD
END:VTIMEZONE
BEGIN:VEVENT
DTSTART;TZID=America/Los_Angeles:20220316T123500
DTEND;TZID=America/Los_Angeles:20220316T123500
DTSTAMP:20260424T131913
CREATED:20220225T234839Z
LAST-MODIFIED:20220311T004636Z
UID:12138-1647434100-1647434100@jbauctioneers.net
SUMMARY:OTAY MESA - AUTO AUCTION
DESCRIPTION:Presented By: PUBLIC AUTO AUCTIONUp to 70 Lien Sale VehiclesWednesday March 16th @ 12:35pm(Preview 12:00pm) Auctions held Wednesdays*** NEW LOCATION ***Otay Valley Rd & Heritage Rd\, Chula Vista(Look for signs to the new facility from this location\, actual site is up the hill on 738 Heritage Rd.)Phone: 619-694-7809For a map and directions\, click here Here are some photos of autos available at this week’s Western Towing Auto Auction.Click on any of the images below to see the larger picture.\n\n\n\nno images were found \n\n\n\nTo download a copy of the list in Adobe pdf format\, Click here.\n\n\n\n\n\n\n	NOCONTROLYEAR/MAKEMODELREF NOLS/T\n\n\n\n\n	122-066796 ACURA2.5TL266614LS\n\n\n	222-059400 TOYOTACOROLLA265708LS\n\n\n	322-067712 FORDFOCUS266677LS\n\n\n	422-049701 HYUNDAISONATA264624LS\n\n\n	522-050403 CHYRSLERPT CRUISER264527LS\n\n\n	622-069499 HONDAACCORD266943LS\n\n\n	722-056199 NISSANFRONTIER265199LS\n\n\n	822-065089 CHEVROLETCORVETTE266403LS\n\n\n	922-068507 SUBARUIMPREZA266804LS\n\n\n	1022-065205 FORDFREESTYLE266284LS\n\n\n	1121-343511 TOYOTAPRIUS253528LS\n\n\n	1222-061209 CHEVROLETHHR265826LS\n\n\n	1322-068005 SATURNL300266820LS\n\n\n	1422-068398 TOYOTAAVALON266818LS\n\n\n	1522-052896 CHEVROLETLUMINA264989LS\n\n\n	1622-062904 BMW325i265951LS\n\n\n	1722-065508 DODGECALIBER266434LS\n\n\n	1822-069097 FORDEXPEDITION266963LS\n\n\n	1922-068796 TOYOTACAMRY266898LS\n\n\n	2022-070794 CHEVROLETS10267196LS\n\n\n	2122-069504 HYUNDAIACCENT266945LS\n\n\n	2222-051202 BUICKREGAL264521LS\n\n\n	2322-065804 PONTIACGRAND AM266106LS\n\n\n	2422-068903 CHEVROLETTRAILBLAZER266906LS\n\n\n	2522-065900 NISSANALTIMA266264LS\n\n\n	2622-069301 BUICKCENTURY266940LS\n\n\n	2722-066895 TOYOTACOROLLA266528LS\n\n\n	2822-064707 VOLKSWAGENJETTA266229LS\n\n\n	2922-050905 ACURARL264634LS\n\n\n	3022-045604 INFINITIG35263967LS\n\n\n	3122-069208 MERCEDESCLK350266916LS\n\n\n	3222-053899 CADILLACSEVILLE265097LS\n\n\n	3322-034498 FORDEXPEDITION263151LS\n\n\n	3426547704 MERCEDESC230K265477LS\n\n\n	3522-065499 TOYOTACAMRY266397LS\n\n\n	3622-043103 VOLVOS80263615LS\n\n\n	3722-023108 SATURNASTRA261529LS\n\n\n	3822-070301 BMWX5267283LS\n\n\n	3922-068604 SUBARUIMPREZA266872LS\n\n\n	4021-388698 FORDRANGER258113LS\n\n\n	4122-005606 CHEVROLETCOLORADO259832LS\n\n\n	4222-062611 NISSANALTIMA265839LS\n\n\n	4322-063013 NISSANALTIMA269996LS\n\n\n	4422-057694 DODGEDAKOTA265427LS\n\n\n	4522-035107 MERCEDESC280262921LS\n\n\n	4622-065109 MITSUBISHILANCER266079LS\n\n\n	4722-066402 TOYOTACOROLLA266491LS\n\n\n	4822-074914 VOLKSWAGENJETTA267439LS\n\n\n	4921-298293 CHEVROLETCORVETTE249103LS\n\n\n	5021-328307 CHEVROLETEXPRESS VAN251888LS\n\n\n\n\n\n\n\nTERMS AND CONDITIONS\n\nCash Only – All Sales are Final\n$200.00 refundable cash deposit to bid\nRefunds are available anytime during auction\nAll cars must be paid for and picked up by 4pm on Thursday ( no exceptions )\nAdditional deposits are required on vehicle’s over $1000.00\nLien sale vehicles sold to the general public are sold as is with all vaults and defects\, you are required to pay all DMV back registration and obtain a smog certificate before receiving your title from the DMV\, sales tax for your purchase will be paid directly to the DMV upon submission of the lien sale packet you will receive at the conclusion of the auction. Out of state buyers\, check with your local DMV to be sure that they will accept California lien sale documents for registration in your state.
URL:https://jbauctioneers.net/event/otay-mesa-auto-auction-20220316/
LOCATION:Western Towing\, 738 Heritage Rd.\, San Diego\, CA\, 92154\, United States
END:VEVENT
END:VCALENDAR