BEGIN:VCALENDAR
VERSION:2.0
PRODID:-//Joe Bradley Auctioneers - ECPv6.15.20//NONSGML v1.0//EN
CALSCALE:GREGORIAN
METHOD:PUBLISH
X-WR-CALNAME:Joe Bradley Auctioneers
X-ORIGINAL-URL:https://jbauctioneers.net
X-WR-CALDESC:Events for Joe Bradley Auctioneers
REFRESH-INTERVAL;VALUE=DURATION:PT1H
X-Robots-Tag:noindex
X-PUBLISHED-TTL:PT1H
BEGIN:VTIMEZONE
TZID:America/Los_Angeles
BEGIN:DAYLIGHT
TZOFFSETFROM:-0800
TZOFFSETTO:-0700
TZNAME:PDT
DTSTART:20210314T100000
END:DAYLIGHT
BEGIN:STANDARD
TZOFFSETFROM:-0700
TZOFFSETTO:-0800
TZNAME:PST
DTSTART:20211107T090000
END:STANDARD
BEGIN:DAYLIGHT
TZOFFSETFROM:-0800
TZOFFSETTO:-0700
TZNAME:PDT
DTSTART:20220313T100000
END:DAYLIGHT
BEGIN:STANDARD
TZOFFSETFROM:-0700
TZOFFSETTO:-0800
TZNAME:PST
DTSTART:20221106T090000
END:STANDARD
BEGIN:DAYLIGHT
TZOFFSETFROM:-0800
TZOFFSETTO:-0700
TZNAME:PDT
DTSTART:20230312T100000
END:DAYLIGHT
BEGIN:STANDARD
TZOFFSETFROM:-0700
TZOFFSETTO:-0800
TZNAME:PST
DTSTART:20231105T090000
END:STANDARD
END:VTIMEZONE
BEGIN:VEVENT
DTSTART;TZID=America/Los_Angeles:20220405T103000
DTEND;TZID=America/Los_Angeles:20220405T143000
DTSTAMP:20260424T102726
CREATED:20220225T235248Z
LAST-MODIFIED:20220402T144253Z
UID:12148-1649154600-1649169000@jbauctioneers.net
SUMMARY:OCEANSIDE - AUTO AUCTION
DESCRIPTION:Presented By:Auctions the 1st and 3rd Tuesdays of each monthPUBLIC AUTO AUCTIONUp to 80 Selected Vehicles\nTuesday April 5th @ 10:30am1060 Airport Rd. (in the Oceanside location towing yard)Oceanside 92058Phone. 760-722-6686For a map and directions\, click here\nHere are some photos of vehicles available at this week’s S&R Towing auction.Vehicles posted are subject to change without notice.Click on any of the images below to see the larger picture.*** RUNNERS ***\n\n\n\n\nno images were found \n\n\n*** NON-RUNNERS / TRAILERS ***\n\n\n\nno images were found \n\n\n\nTo download a copy of the list in Adobe pdf format\, Click here\n\n\n\n\n\n\n\n	INVOICE #YEARMAKEMODELPLATELIC EXPVINODOMTIT / SAL\n\n\n\n\n	1591972006FLEETWOODTRAILER4CJ1F322166012579\n\n\n	259757UTILITYTRAILER\n\n\n	365681TrailerUtility4EG7686CA987895000000000\n\n\n	4680762002NissanSentra6JFP8123N1CB51D82L604796\n\n\n	5638382010FordF-1508Y172691FTFW1CV3AKC53891\n\n\n	6528782009BMW3 Series8RBV830WBAWV13529P121851SAL\n\n\n	7673922000VolvoS708BEY548YV1LS61J8Y2623006\n\n\n	8614262003HondaAccord5DBL234JHMCM56603C080962\n\n\n	9630382001ToyotaCorolla4MED4841NXBR12E81Z432533TITLE\n\n\n	10659811997HondaCR-V6RKD890JHLRD1841VC008254\n\n\n	11680292012DodgeAvenger6UZJ3661C3CDZCB6CN192829\n\n\n	12665572002Mercedes-BenzS-Class8SWZ484WDBNG70J02A315170\n\n\n	13677302004HyundaiTiburon8CQT464KMHHN65F94U121737TITLE\n\n\n	14613472006ToyotaCorolla8LLZ418JTDBR32EX60070560SAL\n\n\n	15673011994FordExplorer3KOH0061FMDU32X1RUE60707TITLE\n\n\n	16677162004ToyotaSienna5CIN0695TDZA23C74S014941\n\n\n	17693671999ToyotaCorolla4FEZ2592T1BR12E3XC112076TITLE\n\n\n	18675822007ChryslerPT Cruiser8GPZ2223A4FY58B57T612420\n\n\n	19632361993Mercedes-Benz400-Class3RSZ065WDBEA34E0PB860651\n\n\n	20682912004FordF-15005719H11FTPX12594NB76305TITLE\n\n\n	21675512004AudiA4 QUATTRO5JQZ428WAULC68E84A054215\n\n\n	22672502000HondaAccord8CZR952JHMCG6697YC019039TITLE\n\n\n	23677942001ChevroletSilverado 150034325F32GCEC19W811259190\n\n\n	24202902002BMW3 SeriesCJM 970WBABN334X2JW51429\n\n\n	25488292000FordExplorer8MWE7261FMZU63P0YZB18379\n\n\n	26676671998FordF-150NO PKATES1FTDX1761WNA12148\n\n\n	27664282007DODGEGrand Caravan6VDK0062D4GP44L97R111638\n\n\n	28522542011VolkswagenGTI6RGZ108WVWFD7AJ4BW138994\n\n\n	29679422002ChryslerPT Cruiser4WYW4633C4FY48B92T343878\n\n\n	30697411985HondaCivic CRX2BXJ036JHMAF5317FS016714\n\n\n	31690932006JeepGrand CherokeeVYA 0LF1J8GS48K66C297099\n\n\n	32675132002FordExplorer5MYR7171FMZU63E22ZA31217\n\n\n	33683112010ChevroletCobalt3AD15261G1AA1F50A7204339\n\n\n	34705242000MitsubishiMirage4JCN392JA3AY26C5YU037364TITLE\n\n\n	35683452008ChevroletCobalt6DID1551G1AK58F287298843\n\n\n	36668232008HondaOdyssey6FPZ0855FNRL38758B112985\n\n\n	37675801999MERCURYVILLAGER4KVH1694M2XV11T1XDJ42272\n\n\n	38712402005NissanAltima8YEM73506/221N4AL11D25C376598TITLE\n\n\n	39593102013VolkswagenPassatBR08H26OOSIVWBN7A32DC059872\n\n\n	40675302008HondaCivic6CJA97901/21JHMFA36288S009724\n\n\n	41660921994HondaAccord3GYR06503/22JHMCD5650RC070769\n\n\n	42692472012HondaAccord7GRN88805/221HGCP2F3XCA159839TIT/SAL\n\n\n	43665352002DodgeGrand Caravan4VRA01806/212B4GP44372R739894\n\n\n	44679292005MazdaRX-809/14JM1FE173650156567\n\n\n	45694502011NISSANALTIMA7YIY78206/211N4AL2EPXBC182603TITLE\n\n\n	46661581989ToyotaCamry2MRB96605/21JT2SV21E3K3339300\n\n\n	47686062006Mercedes-BenzE-Class8RBF31207/21WDBUF56J86A820468\n\n\n	48621401999DodgeRam Pickup 15008G3437112/191B7HC16Y7XS310996\n\n\n	49537932013HondaAccord8NQR88301/221HGCR2F77DA067098SAL\n\n\n	50637182002HondaAccord4WDP14902/221HGCG225X2A014550\n\n\n	51656222001LexusGS 3008MCV40610/20JT8BD69S210120743TITLE\n\n\n	52662462006FordFocus5TFZ48902/191FAFP34N16W117742\n\n\n	53669332003GMCSierra 15007E5490805/162GTEC19X831372259\n\n\n	54681702000HondaCivic7LWD99305/211HGEN164XYL000266\n\n\n	55536031997FordF5303XTT4303FCMF53GXVJA20560\n\n\n	56480072004FordF65099965005/203FRWF65K94V613062\n\n\n	57712692004ChevroletTAHOE5FRW4481GNEK13T04R144748TITLE\n\n\n	58710922009GMCSierra 15008W339231GTEC19X99Z253698\n\n\n	59712892008DodgeCharger8NYP0042B3KA43H68H280031TITLE\n\n\n\n\n\n\n\n\n\nTERMS AND CONDITIONS\n\nBuyers fees: Dealers & Dismantlers $35.00\nGeneral Public $65.00\n$200.00 cash deposit required to bid\nAll vehicles must be paid for in full CASH ONLY at the conclusion of the auction\nAll vehicles must be removed by Friday following the auction\nLien sale vehicles sold to the general public are sold as is with all vaults and defects\, you are required to pay all DMV back registration and obtain a smog certificate before receiving your title from the DMV\, sales tax for your purchase will be paid directly to the DMV upon submission of the lien sale packet you will receive at the conclusion of the auction. Out of state buyers\, check with your local DMV to be sure that they will accept California lien sale documents for registration in your state.\nFor more info call direct 760-722-6686
URL:https://jbauctioneers.net/event/oceanside-auto-auction-20220405/
LOCATION:S&R Towing\, 1060 Airport Rd.\, Oceanside\, CA\, 92058\, United States
END:VEVENT
END:VCALENDAR