BEGIN:VCALENDAR
VERSION:2.0
PRODID:-//Joe Bradley Auctioneers - ECPv6.15.20//NONSGML v1.0//EN
CALSCALE:GREGORIAN
METHOD:PUBLISH
X-WR-CALNAME:Joe Bradley Auctioneers
X-ORIGINAL-URL:https://jbauctioneers.net
X-WR-CALDESC:Events for Joe Bradley Auctioneers
REFRESH-INTERVAL;VALUE=DURATION:PT1H
X-Robots-Tag:noindex
X-PUBLISHED-TTL:PT1H
BEGIN:VTIMEZONE
TZID:America/Los_Angeles
BEGIN:DAYLIGHT
TZOFFSETFROM:-0800
TZOFFSETTO:-0700
TZNAME:PDT
DTSTART:20210314T100000
END:DAYLIGHT
BEGIN:STANDARD
TZOFFSETFROM:-0700
TZOFFSETTO:-0800
TZNAME:PST
DTSTART:20211107T090000
END:STANDARD
BEGIN:DAYLIGHT
TZOFFSETFROM:-0800
TZOFFSETTO:-0700
TZNAME:PDT
DTSTART:20220313T100000
END:DAYLIGHT
BEGIN:STANDARD
TZOFFSETFROM:-0700
TZOFFSETTO:-0800
TZNAME:PST
DTSTART:20221106T090000
END:STANDARD
BEGIN:DAYLIGHT
TZOFFSETFROM:-0800
TZOFFSETTO:-0700
TZNAME:PDT
DTSTART:20230312T100000
END:DAYLIGHT
BEGIN:STANDARD
TZOFFSETFROM:-0700
TZOFFSETTO:-0800
TZNAME:PST
DTSTART:20231105T090000
END:STANDARD
END:VTIMEZONE
BEGIN:VEVENT
DTSTART;TZID=America/Los_Angeles:20220406T123500
DTEND;TZID=America/Los_Angeles:20220406T123500
DTSTAMP:20260424T114240
CREATED:20220225T235055Z
LAST-MODIFIED:20220401T153929Z
UID:12141-1649248500-1649248500@jbauctioneers.net
SUMMARY:OTAY MESA - AUTO AUCTION
DESCRIPTION:Presented By: PUBLIC AUTO AUCTIONUp to 70 Lien Sale VehiclesWednesday April 6th @ 12:35pm(Preview 12:00pm) Auctions held Wednesdays*** NEW LOCATION ***Otay Valley Rd & Heritage Rd\, Chula Vista(Look for signs to the new facility from this location\, actual site is up the hill on 738 Heritage Rd.)Phone: 619-694-7809For a map and directions\, click here Here are some photos of vehicles available at this week’s Western Towing Auto Auction.Click on any of the images below to see the larger picture.\n\n\n\nno images were found \n\n\n\nTo download a copy of the list in Adobe pdf format\, Click here.\n\n\n\n\n\n\n	NOCONTROLYEAR/MAKEMODELREF NOLS/T\n\n\n\n\n	122-073501 MAZDA626267279LS\n\n\n	222-076505 SAAB9-3267699LS\n\n\n	322-080703 FORDFOCUS268201LS\n\n\n	422-071209 NISSANALTIMA267146LS\n\n\n	522-073102 VOLVOS40267209LS\n\n\n	622-075892 MERCEDES300D267634LS\n\n\n	722-075305 NISSANMAXIMA267587LS\n\n\n	822-086898 HONDACIVIC268736LS\n\n\n	922-061696 CHEVROLETASTROVAN265803LS\n\n\n	1022-086296 HONDACIVIC268758LS\n\n\n	1122-071392 CADILLACDEVILLE267175LS\n\n\n	1222-080800 FORDEXPEDITION268211LS\n\n\n	1321-328299 MERCURYGRD MARQUIS252005LS\n\n\n	1421-262213 CHEVROLETEQUINOX245347LS\n\n\n	1522-091701 HONDAACCORD269644LS\n\n\n	1622-087205 SAAB9-3269090LS\n\n\n	1722-075697 TOYOTACAMRY267486LS\n\n\n	1822-069097 FORDEXPEDITION266963LS\n\n\n	1922-072408 KIASPECTRA267211LS\n\n\n	2022-060904 VOLKSWAGENJETTA265772LS\n\n\n	2122-080694 TOYOTACAMRY268258LS\n\n\n	2222-072602 JEEPGRD CHEROKEE267083LS\n\n\n	2322-081897 MAZDAPROTÉGÉ268313LS\n\n\n	2422-087499 LEXUSES300269129LS\n\n\n	2522-089599 ACURA3.2TL269309LS\n\n\n	2622-085205 CHEVROLETTAHOE269059LS\n\n\n	2722-075010 HYUNDAIACCENT267384LS\n\n\n	2822-070205 BMW525i267275LS\n\n\n	2922-050905 ACURARL264634LS\n\n\n	3022-070109 VOLKSWAGENCC SPORT267173LS\n\n\n	3122-068210 NISSANALTIMA266824LS\n\n\n	3221-391705 GMCYUKON258506LS\n\n\n	3322-076907 TOYOTACAMRY267730LS\n\n\n	3422-085303 ACURARSX269063LS\n\n\n	3522-067098 LINCOLNNAVIGATOR266576LS\n\n\n	3622-081909 ACURATSX268380LS\n\n\n	3722-023108 SATURNASTRA261529LS\n\n\n	3822-053001 CHEVROLETSILVERADO264968LS\n\n\n	3921-179006 NISSAN350Z236690LS\n\n\n	4022-085809 CHRYSLERTOWN&COUNTRY268770LS\n\n\n	4122-084899 TOYOTASIENNA268794LS\n\n\n	4222-073005 HYUNDAISANTA FE267309LS\n\n\n	4322-080905 NISSANMAXIMA268218LS\n\n\n	4422-048004 GMCYUKON264199LS\n\n\n	4522-080302 MERCEDESC240268253LS\n\n\n	4622-080507 MERCEDESC230268231LS\n\n\n	4722-071703 LEXUSES300267184LS\n\n\n	4822-052904 BMW330ci264673LS\n\n\n	4922-023206 SCIONTC261560LS\n\n\n	5022-005906 DODGESPRINTER260049LS\n\n\n\n\n\n\n\nTERMS AND CONDITIONS\n\nCash Only – All Sales are Final\n$200.00 refundable cash deposit to bid\nRefunds are available anytime during auction\nAll cars must be paid for and picked up by 4pm on Thursday ( no exceptions )\nAdditional deposits are required on vehicle’s over $1000.00\nLien sale vehicles sold to the general public are sold as is with all vaults and defects\, you are required to pay all DMV back registration and obtain a smog certificate before receiving your title from the DMV\, sales tax for your purchase will be paid directly to the DMV upon submission of the lien sale packet you will receive at the conclusion of the auction. Out of state buyers\, check with your local DMV to be sure that they will accept California lien sale documents for registration in your state.
URL:https://jbauctioneers.net/event/otay-mesa-auto-auction-20220406/
LOCATION:Western Towing\, 738 Heritage Rd.\, San Diego\, CA\, 92154\, United States
END:VEVENT
END:VCALENDAR