BEGIN:VCALENDAR
VERSION:2.0
PRODID:-//Joe Bradley Auctioneers - ECPv6.15.20//NONSGML v1.0//EN
CALSCALE:GREGORIAN
METHOD:PUBLISH
X-WR-CALNAME:Joe Bradley Auctioneers
X-ORIGINAL-URL:https://jbauctioneers.net
X-WR-CALDESC:Events for Joe Bradley Auctioneers
REFRESH-INTERVAL;VALUE=DURATION:PT1H
X-Robots-Tag:noindex
X-PUBLISHED-TTL:PT1H
BEGIN:VTIMEZONE
TZID:America/Los_Angeles
BEGIN:DAYLIGHT
TZOFFSETFROM:-0800
TZOFFSETTO:-0700
TZNAME:PDT
DTSTART:20210314T100000
END:DAYLIGHT
BEGIN:STANDARD
TZOFFSETFROM:-0700
TZOFFSETTO:-0800
TZNAME:PST
DTSTART:20211107T090000
END:STANDARD
BEGIN:DAYLIGHT
TZOFFSETFROM:-0800
TZOFFSETTO:-0700
TZNAME:PDT
DTSTART:20220313T100000
END:DAYLIGHT
BEGIN:STANDARD
TZOFFSETFROM:-0700
TZOFFSETTO:-0800
TZNAME:PST
DTSTART:20221106T090000
END:STANDARD
BEGIN:DAYLIGHT
TZOFFSETFROM:-0800
TZOFFSETTO:-0700
TZNAME:PDT
DTSTART:20230312T100000
END:DAYLIGHT
BEGIN:STANDARD
TZOFFSETFROM:-0700
TZOFFSETTO:-0800
TZNAME:PST
DTSTART:20231105T090000
END:STANDARD
END:VTIMEZONE
BEGIN:VEVENT
DTSTART;TZID=America/Los_Angeles:20220427T123500
DTEND;TZID=America/Los_Angeles:20220427T123500
DTSTAMP:20260424T104415
CREATED:20220401T153347Z
LAST-MODIFIED:20220423T060343Z
UID:12526-1651062900-1651062900@jbauctioneers.net
SUMMARY:OTAY MESA - AUTO AUCTION
DESCRIPTION:Presented By: PUBLIC AUTO AUCTIONUp to 70 Lien Sale VehiclesWednesday April 24th @ 12:35pm(Preview 12:00pm) Auctions held Wednesdays*** NEW LOCATION ***Otay Valley Rd & Heritage Rd\, Chula Vista(Look for signs to the new facility from this location\, actual site is up the hill on 738 Heritage Rd.)Phone: 619-694-7809For a map and directions\, click here Here are some photos of vehicles available at this week’s Western Towing Auto Auction.Click on any of the images below to see the larger picture.\n\n\n\nno images were found \n\n\n\nTo download a copy of the list in Adobe pdf format\, Click here.\n\n\n\n\n\n\n	NOCONTROLYEAR/MAKEMODELREF NOLS/T\n\n\n\n\n	122-103098 FORDTAURUS270777LS\n\n\n	222-099605 NISSANSENTRA270371LS\n\n\n	322-092105 NISSANALTIMA269653LS\n\n\n	422-096603 FORDMUSTANG270061LS\n\n\n	522-095597 TOYOTAAVALON269947LS\n\n\n	622-099207 NISSANQUEST270523LS\n\n\n	722-091995 TOYOTACAMRY269651LS\n\n\n	822-102595 CHEVROLETCAVALIER270792LS\n\n\n	922-102305 HONDACIVIC270686LS\n\n\n	1022-070801 ACURA3.2CL267290LS\n\n\n	1118-379206 DODGECHARGER121424LS\n\n\n	1222-097199 CHEVROLETSILVERADO270103LS\n\n\n	1322-103597 HONDAPRELUDE270798LS\n\n\n	1422-098604 CHRYSLERSEBRING270561LS\n\n\n	1522-104303 SAAB9-3270912LS\n\n\n	1622-108605 MERCEDESE-CLASS271172LS\n\n\n	1722-085695 CHEVROLETTAHOE268625LS\n\n\n	1822-094997 JEEPGRD CHEROKEE269894LS\n\n\n	1922-105899 TOYOTACAMRY271085LS\n\n\n	2022-086410 NISSANSENTRA268645LS\n\n\n	2122-089685 CHEVROLETS10269347LS\n\n\n	2220-071410 DODGECHARGER186131LS\n\n\n	2322-104908 HONDACRV271173LS\n\n\n	2422-091598 CHEVROLETCAVALIER269526LS\n\n\n	2522-102405 MERCURYMONTEGO270680LS\n\n\n	2622-105706 VOLKSWAGENBEETLE271008LS\n\n\n	2722-098708 VOLKSWAGENRABBIT270287LS\n\n\n	2822-099599 HONDACIVIC270328LS\n\n\n	2922-112805 NISSANMURANO271755LS\n\n\n	3021-387502 FORDRANGER258087LS\n\n\n	3122-099999 DODGERAM270207LS\n\n\n	3222-090004 HYUNDAISANTA FE269563LS\n\n\n	3321-392515 HYUNDAIGENESIS258515LS\n\n\n	3422-095804 NISSANSENTRA269979LS\n\n\n	3522-112701 HONDACIVIC271737LS\n\n\n	3622-108800 MERCEDESE320271429LS\n\n\n	3722-109192 FORDF150271403LS\n\n\n	3822-109002 NISSANSENTRA271397LS\n\n\n	3922-097907 HONDACIVIC270518LS\n\n\n	4022-102902 BMW330ci270771LS\n\n\n	4122-076801 LND ROVERRANGE ROVER267727LS\n\n\n	4222-095372 DATSUN210269968LS\n\n\n	4322-090797 CHEVROLETASTROVAN269373LS\n\n\n	4422-112299 TOYOTASOLARA271742LS\n\n\n	4522-111100 MITSUBISHIMIRAGE271608LS\n\n\n	4621-271600 TOYOTASOLARA246469LS\n\n\n	4721-240207 SCIONTC243486LS\n\n\n	4821-317003 HONDAACCORD2650662LS\n\n\n	4921-331808 NISSANALTIMA252444LS\n\n\n	5022-052099 CHEVROLETS10264772LS\n\n\n	51N/A09 TOYOTACAMRYN/ATITLE\n\n\n\n\n\n\n\nTERMS AND CONDITIONS\n\nCash Only – All Sales are Final\n$200.00 refundable cash deposit to bid\nRefunds are available anytime during auction\nAll cars must be paid for and picked up by 4pm on Thursday ( no exceptions )\nAdditional deposits are required on vehicle’s over $1000.00\nLien sale vehicles sold to the general public are sold as is with all vaults and defects\, you are required to pay all DMV back registration and obtain a smog certificate before receiving your title from the DMV\, sales tax for your purchase will be paid directly to the DMV upon submission of the lien sale packet you will receive at the conclusion of the auction. Out of state buyers\, check with your local DMV to be sure that they will accept California lien sale documents for registration in your state.
URL:https://jbauctioneers.net/event/otay-mesa-auto-auction-20220427/
LOCATION:Western Towing\, 738 Heritage Rd.\, San Diego\, CA\, 92154\, United States
END:VEVENT
END:VCALENDAR