BEGIN:VCALENDAR
VERSION:2.0
PRODID:-//Joe Bradley Auctioneers - ECPv6.15.20//NONSGML v1.0//EN
CALSCALE:GREGORIAN
METHOD:PUBLISH
X-ORIGINAL-URL:https://jbauctioneers.net
X-WR-CALDESC:Events for Joe Bradley Auctioneers
REFRESH-INTERVAL;VALUE=DURATION:PT1H
X-Robots-Tag:noindex
X-PUBLISHED-TTL:PT1H
BEGIN:VTIMEZONE
TZID:America/Los_Angeles
BEGIN:DAYLIGHT
TZOFFSETFROM:-0800
TZOFFSETTO:-0700
TZNAME:PDT
DTSTART:20210314T100000
END:DAYLIGHT
BEGIN:STANDARD
TZOFFSETFROM:-0700
TZOFFSETTO:-0800
TZNAME:PST
DTSTART:20211107T090000
END:STANDARD
BEGIN:DAYLIGHT
TZOFFSETFROM:-0800
TZOFFSETTO:-0700
TZNAME:PDT
DTSTART:20220313T100000
END:DAYLIGHT
BEGIN:STANDARD
TZOFFSETFROM:-0700
TZOFFSETTO:-0800
TZNAME:PST
DTSTART:20221106T090000
END:STANDARD
BEGIN:DAYLIGHT
TZOFFSETFROM:-0800
TZOFFSETTO:-0700
TZNAME:PDT
DTSTART:20230312T100000
END:DAYLIGHT
BEGIN:STANDARD
TZOFFSETFROM:-0700
TZOFFSETTO:-0800
TZNAME:PST
DTSTART:20231105T090000
END:STANDARD
END:VTIMEZONE
BEGIN:VEVENT
DTSTART;TZID=America/Los_Angeles:20220511T123500
DTEND;TZID=America/Los_Angeles:20220511T123500
DTSTAMP:20260424T085234
CREATED:20220401T153500Z
LAST-MODIFIED:20220506T195252Z
UID:12525-1652272500-1652272500@jbauctioneers.net
SUMMARY:OTAY MESA - AUTO AUCTION
DESCRIPTION:Presented By: PUBLIC AUTO AUCTIONUp to 70 Lien Sale VehiclesWednesday May 11th @ 12:35pm(Preview 12:00pm) Auctions held Wednesdays*** NEW LOCATION ***Otay Valley Rd & Heritage Rd\, Chula Vista(Look for signs to the new facility from this location\, actual site is up the hill on 738 Heritage Rd.)Phone: 619-694-7809For a map and directions\, click here Here are some photos of vehicles available at this week’s Western Towing Auto Auction.Click on any of the images below to see the larger picture.\n\n\n\nno images were found \n\n\n\nTo download a copy of the list in Adobe pdf format\, Click here.\n\n\n\n\n\n\n	NOCONTROLYEAR/MAKEMODELREF NOLS/T\n\n\n\n\n	122-110505 INFINITIG35271622LS\n\n\n	222-120798 TOYOTACAMRY272664LS\n\n\n	322-120810 HYUNDAIELANTRA272883LS\n\n\n	422-124497 MERCURYVILLAGER273339LS\n\n\n	522-124703 HONDAACCORD273392LS\n\n\n	622-122209 HYUNDAISONATA273018LS\n\n\n	722-127492 DAIHATSUROCKY273667LS\n\n\n	822-113502 CHEVORLETTRAILBLAZER272112LS\n\n\n	922-122702 SATURNSL272981LS\n\n\n	1022-130296 NISSAN200 SX274149LS\n\n\n	1122-127510 VOLKSWAGENJETTA273752LS\n\n\n	1222-121600 PLYMOUTHGRD VOYAGER272843LS\n\n\n	1322-118004 TOYOTACOROLLA272428LS\n\n\n	1422-121498 MERCEDEZSLK-CLASS272767LS\n\n\n	1522-127002 JEEPLIBERTY273696LS\n\n\n	1622-098904 NISSANALTIMA270195LS\n\n\n	1722-094108 HONDACIVIC SI269769LS\n\n\n	1822-126795 HONDAACCORD273576LS\n\n\n	1922-117210 VOLKSWAGENJETTA272322LS\n\n\n	2022-123697 TOYOTARAV4273217LS\n\n\n	2122-113196 TOYOTACAMRY271965LS\n\n\n	2222-114593 BUICKLESABRE271951LS\n\n\n	2322-111200 TOYOTASIENNA271523LS\n\n\n	2422-091598 CHEVROLETCAVALIER269526LS\n\n\n	2522-119298 FORDESCORT272563LS\n\n\n	2622-123402 INFINITYQX4273225LS\n\n\n	2722-120901 HONDACIVIC272877LS\n\n\n	2822-115004 FORDMUSTANG271989LS\n\n\n	2922-110792 PONTIACFIREBIRD271680LS\n\n\n	3022-090404 SATURNVUE269589LS\n\n\n	3122-128697 CHEVROLETS10273877LS\n\n\n	3222-123800 BMWZ3273275LS\n\n\n	3322-123304 SUBARULEGACY273273LS\n\n\n	3422-109394 TOYOTACAMRY271467LS\n\n\n	3522-129209 BMWX5274054LS\n\n\n	3622-129606 FORDFOCUS ZX4274028LS\n\n\n	3722-126807 DODGEGRD CARAVAN273665LS\n\n\n	3822-120301 HONDAACCORD272874LS\n\n\n	3922-029416 CHEVROLETCAMARO262149LS\n\n\n	4022-110104 FORDEXPEDITION271541LS\n\n\n	4122-122600 LINCOLNCONTINENTAL272982LS\n\n\n	4222-129105 DODGEMAGNUM273928LS\n\n\n	4322-056208 DODGECHARGER265247LS\n\n\n	4422-113995 LEXUSSC 300271870LS\n\n\n	4522-126307 CHEVROLETCOBALT273675LS\n\n\n	4622-130505 SUBARULEGACY274145LS\n\n\n	4722-099303 GMCYUKON270572LS\n\n\n	4822-130396 CHEVROLETSUBURBAN274155LS\n\n\n	4922-110399 GMCYUKON271581LS\n\n\n	5022-087595 FORDECONOLINE E350269156LS\n\n\n\n\n\n\n\nTERMS AND CONDITIONS\n\nCash Only – All Sales are Final\n$200.00 refundable cash deposit to bid\nRefunds are available anytime during auction\nAll cars must be paid for and picked up by 4pm on Thursday ( no exceptions )\nAdditional deposits are required on vehicle’s over $1000.00\nLien sale vehicles sold to the general public are sold as is with all vaults and defects\, you are required to pay all DMV back registration and obtain a smog certificate before receiving your title from the DMV\, sales tax for your purchase will be paid directly to the DMV upon submission of the lien sale packet you will receive at the conclusion of the auction. Out of state buyers\, check with your local DMV to be sure that they will accept California lien sale documents for registration in your state.
URL:https://jbauctioneers.net/event/otay-mesa-auto-auction-20220511/
LOCATION:Western Towing\, 738 Heritage Rd.\, San Diego\, CA\, 92154\, United States
END:VEVENT
END:VCALENDAR