BEGIN:VCALENDAR
VERSION:2.0
PRODID:-//Joe Bradley Auctioneers - ECPv6.15.20//NONSGML v1.0//EN
CALSCALE:GREGORIAN
METHOD:PUBLISH
X-ORIGINAL-URL:https://jbauctioneers.net
X-WR-CALDESC:Events for Joe Bradley Auctioneers
REFRESH-INTERVAL;VALUE=DURATION:PT1H
X-Robots-Tag:noindex
X-PUBLISHED-TTL:PT1H
BEGIN:VTIMEZONE
TZID:America/Los_Angeles
BEGIN:DAYLIGHT
TZOFFSETFROM:-0800
TZOFFSETTO:-0700
TZNAME:PDT
DTSTART:20210314T100000
END:DAYLIGHT
BEGIN:STANDARD
TZOFFSETFROM:-0700
TZOFFSETTO:-0800
TZNAME:PST
DTSTART:20211107T090000
END:STANDARD
BEGIN:DAYLIGHT
TZOFFSETFROM:-0800
TZOFFSETTO:-0700
TZNAME:PDT
DTSTART:20220313T100000
END:DAYLIGHT
BEGIN:STANDARD
TZOFFSETFROM:-0700
TZOFFSETTO:-0800
TZNAME:PST
DTSTART:20221106T090000
END:STANDARD
BEGIN:DAYLIGHT
TZOFFSETFROM:-0800
TZOFFSETTO:-0700
TZNAME:PDT
DTSTART:20230312T100000
END:DAYLIGHT
BEGIN:STANDARD
TZOFFSETFROM:-0700
TZOFFSETTO:-0800
TZNAME:PST
DTSTART:20231105T090000
END:STANDARD
END:VTIMEZONE
BEGIN:VEVENT
DTSTART;TZID=America/Los_Angeles:20220607T103000
DTEND;TZID=America/Los_Angeles:20220607T143000
DTSTAMP:20260424T072602
CREATED:20220430T053143Z
LAST-MODIFIED:20220604T234221Z
UID:12840-1654597800-1654612200@jbauctioneers.net
SUMMARY:OCEANSIDE - AUTO AUCTION
DESCRIPTION:Presented By:Auctions the 1st and 3rd Tuesdays of each monthPUBLIC AUTO AUCTIONUp to 80 Selected Vehicles\nTuesday June 7th @ 10:30am1060 Airport Rd. (in the Oceanside location towing yard)Oceanside 92058Phone. 760-722-6686For a map and directions\, click here\nHere are some photos of vehicles available at this week’s S&R Towing auction.Vehicles posted are subject to change without notice.Click on any of the images below to see the larger picture.*** RUNNERS ***\n\n\n\n\nno images were found \n\n\n*** NON-RUNNERS ***\n\n\n\nno images were found \n\n\n\nTo download a copy of the list in Adobe pdf format\, Click here\n\n\n\n\n\n\n\n	INVOICE #YEARMAKEMODELPLATELIC EXPVINODOMTIT / SAL\n\n\n\n\n	1624211972Chevroletc 20NO PLATESKS147Z121219\n\n\n	275345H2013ScionxB6ZNE397JTLZE4FE7DJ032323\n\n\n	3699212018NissanAltima8AMV5251N4AL3AP9JC126727\n\n\n	475346H2008SubaruOutback7SEM3084S4BP62C987322634\n\n\n	5595231992FordExplorerNO PLATES1FMDU34X9NUD75458\n\n\n	6713891997FordExplorer5FEZ7131FMDU34E0VZB62268\n\n\n	7252772011NissanVersa6VGN1463N1BC1AP0BL440679\n\n\n	8586391999BMW7 Series4EPT949WBAGH8338XDP03809\n\n\n	9677552004CadillacSRX8EEB2611GYEE637X40162351\n\n\n	10709452007HondaAccord8UJE201JHMCM56397C026362\n\n\n	11672792012DodgeAvenger7SED4001C3CDZAB1CN209622\n\n\n	12674132010MINICooper8NYD094WMWMF3C50ATZ65821\n\n\n	13705162009ToyotaPrius6EIV655JTDKB20U997823564\n\n\n	14715812006ScionxB5TNJ146JTLKT324464059320\n\n\n	15438202001LexusGS3004PJL661JT8BD69S610127730\n\n\n	16714421997ChevroletSuburban4JTY0273GNEC16R1VG112325\n\n\n	1774593PT2003VolkswagenGolf5DNR7979BWGK61J834073378\n\n\n	18706851988FordRanger06965U11FTCR14T4JPB92934\n\n\n	19717332004MINICooperCAZ1421WMWRE33444TD82997\n\n\n	20698342019HondaCivic8ZSR631SHHFK7H68KU421991\n\n\n	2174594PT2007FordFocus5YQU2341FAHP37N17W328025\n\n\n	2274595PT1998BuickRegal3WRV8062G4WB52K0W1440910\n\n\n	23718802015HyundaiElantra7VBU5065NPDH4AE2FH637494\n\n\n	24720151999ToyotaSienna5AXC9444T3ZF19C3XU168911\n\n\n	25698072009ChryslerTown and CountryNONE2A8HR54189R574544\n\n\n	26685612008FordCrown Victoria7JEK3272FAHP71V78X115408\n\n\n	27696182000MercuryGrand Marquis7LWR1812MEFM75W3YX614752\n\n\n	28710802015NissanAltimaZNA7921N4AL3AP1FN310099\n\n\n	29728262003ToyotaCamry6MMA1474T1BE32K93U187886TITLE\n\n\n	30723232019SubaruWRX8JTM516JF1VA1A6XK9821395\n\n\n	31721322005ChevroletSilverado 15008T181142GCEC13T051137301\n\n\n	32710042011SubaruLegacy7UKN4534S3BMBB67B3220473\n\n\n	33681332007SaturnVue5XDL4815GZCZ33Z07S859777\n\n\n	34726492003HyundaiTiburonNONEKMHHN65F43U024797\n\n\n	35727712002AcuraRSX7HEM100JH4DC54892C034685\n\n\n	36720642010HondaAccord8AIV8971HGCP2F36AA053336TITLE\n\n\n	37710132005NissanAltima5KHU8651N4AL11D45C176161\n\n\n	38727232001MitsubishiGalant4SUU5934A3AA46H71E158813\n\n\n	39726501984SubaruGLNONEJF2AM53B5EE433165\n\n\n	40726481992FordF-150NONE1FTEX15N5NKB47731\n\n\n	41726511990HondaAccordNONEJHMCB7652LC101545SAL\n\n\n	42724071994ToyotaCorolla3GVY5111NXAE04B3RZ147545\n\n\n	43726321999HondaAccord7TOT6451HGCG6650XA093350TIT/SAL\n\n\n	44644222004HondaCivicNONE2HGES16544H507284\n\n\n	45727332007DodgeCharger8DDH3532B3KA53H07H631617\n\n\n	46703352005HondaAccord5NFR0591HGCM66525A043331\n\n\n	47501642006HondaAccord7ZRX55002/23JHMCM56126C001753106090TITLE\n\n\n	48709982015NissanSentra115YKZOOS3N1AB7AP1FY260105110326\n\n\n	4973982JA2004JeepGrand Cherokee8FOY01401/221J4GX48S94C412438114117TIT/SAL\n\n\n	50729612001HondaCivic4PYK34501/222HGES15571H524044292097TITLE\n\n\n	51726102008ChevroletMalibu7MSM55212/201G1ZG57B78F160126190528TITLE\n\n\n	52676222010ToyotaRAV46NQA12410/19JTMZF4DV7AD016516141970\n\n\n	53720222005BuickLeSabre5NTC51306/221G4HP52K75U199442155273\n\n\n	54721512005HondaAccord7ELY87507/213HGCM56495G701861117659SAL\n\n\n	55704992000DodgeRam Van7BJR92306/182B6HB11Y1YK106740186433\n\n\n	56731181995ToyotaCamry8YSK71910/22JT2GK12E8S0082210129110TITLE\n\n\n	57698892001ChevroletS-106T8613410/211GCCS195718133949150182\n\n\n	58666232001ChevroletTahoe7FSH78311/211GNEC13T01R109975191202\n\n\n	59666241997FordRanger13600U101/201FTDR15X9VTA56835172221SAL\n\n\n	60723062001ChevroletTahoe5JFU93811/161GNEC13T01R108664324688\n\n\n	61707321998FordF-150HAGEN2OOS1FTZX1728WKC22363291555\n\n\n	6275405DS2014NissanSentra7GGE53706/223N1AB7AP1EY259325135047\n\n\n	6375347H2006HondaCivic5UEG21305/21JHMFA36276S016550303647\n\n\n\n\n\n\n\n\n\nTERMS AND CONDITIONS\n\nBuyers fees: Dealers & Dismantlers $35.00\nGeneral Public $65.00\n$200.00 cash deposit required to bid\nAll vehicles must be paid for in full CASH ONLY at the conclusion of the auction\nAll vehicles must be removed by Friday following the auction\nLien sale vehicles sold to the general public are sold as is with all vaults and defects\, you are required to pay all DMV back registration and obtain a smog certificate before receiving your title from the DMV\, sales tax for your purchase will be paid directly to the DMV upon submission of the lien sale packet you will receive at the conclusion of the auction. Out of state buyers\, check with your local DMV to be sure that they will accept California lien sale documents for registration in your state.\nFor more info call direct 760-722-6686
URL:https://jbauctioneers.net/event/oceanside-auto-auction-20220607/
LOCATION:S&R Towing\, 1060 Airport Rd.\, Oceanside\, CA\, 92058\, United States
END:VEVENT
END:VCALENDAR