BEGIN:VCALENDAR
VERSION:2.0
PRODID:-//Joe Bradley Auctioneers - ECPv6.15.20//NONSGML v1.0//EN
CALSCALE:GREGORIAN
METHOD:PUBLISH
X-WR-CALNAME:Joe Bradley Auctioneers
X-ORIGINAL-URL:https://jbauctioneers.net
X-WR-CALDESC:Events for Joe Bradley Auctioneers
REFRESH-INTERVAL;VALUE=DURATION:PT1H
X-Robots-Tag:noindex
X-PUBLISHED-TTL:PT1H
BEGIN:VTIMEZONE
TZID:America/Los_Angeles
BEGIN:DAYLIGHT
TZOFFSETFROM:-0800
TZOFFSETTO:-0700
TZNAME:PDT
DTSTART:20210314T100000
END:DAYLIGHT
BEGIN:STANDARD
TZOFFSETFROM:-0700
TZOFFSETTO:-0800
TZNAME:PST
DTSTART:20211107T090000
END:STANDARD
BEGIN:DAYLIGHT
TZOFFSETFROM:-0800
TZOFFSETTO:-0700
TZNAME:PDT
DTSTART:20220313T100000
END:DAYLIGHT
BEGIN:STANDARD
TZOFFSETFROM:-0700
TZOFFSETTO:-0800
TZNAME:PST
DTSTART:20221106T090000
END:STANDARD
BEGIN:DAYLIGHT
TZOFFSETFROM:-0800
TZOFFSETTO:-0700
TZNAME:PDT
DTSTART:20230312T100000
END:DAYLIGHT
BEGIN:STANDARD
TZOFFSETFROM:-0700
TZOFFSETTO:-0800
TZNAME:PST
DTSTART:20231105T090000
END:STANDARD
END:VTIMEZONE
BEGIN:VEVENT
DTSTART;TZID=America/Los_Angeles:20220615T123500
DTEND;TZID=America/Los_Angeles:20220615T123500
DTSTAMP:20260424T072533
CREATED:20220430T045529Z
LAST-MODIFIED:20220610T230736Z
UID:12835-1655296500-1655296500@jbauctioneers.net
SUMMARY:OTAY MESA - AUTO AUCTION
DESCRIPTION:Presented By: PUBLIC AUTO AUCTIONUp to 70 Lien Sale VehiclesWednesday June 15th @ 12:35pm(Preview 12:00pm) Auctions held Wednesdays*** NEW LOCATION ***Otay Valley Rd & Heritage Rd\, Chula Vista(Look for signs to the new facility from this location\, actual site is up the hill on 738 Heritage Rd.)Phone: 619-694-7809For a map and directions\, click here Here are some photos of vehicles available at this week’s Western Towing Auto Auction.Click on any of the images below to see the larger picture.\n\n\n\nno images were found \n\n\n\nTo download a copy of the list in Adobe pdf format\, Click here.\n\n\n\n\n\n\n	NOCONTROLYEAR/MAKEMODELREF NOLS/T\n\n\n\n\n	122-163306 MAZDA3277996LS\n\n\n	222-110005 INFINITIG35271534LS\n\n\n	322-111300 JEEPGRD CHEROKEE271666LS\n\n\n	422-144297 HONDACRV275638LS\n\n\n	522-160007 TOYOTACOROLLA277684LS\n\n\n	622-141409 SUBARULEGACY275124LS\n\n\n	722-150199 BUICKCENTURY276487LS\n\n\n	822-151197 PONTIACGRD AM276573LS\n\n\n	922-105688 CHEVROLETS10 BLAZER271007LS\n\n\n	1022-152503 HONDAACCORD276796LS\n\n\n	1122-147700 CADILLACESCALADE275989LS\n\n\n	1222-137899 NISSANPATHFINDER274912LS\n\n\n	1322-137508 AUDIA4274895LS\n\n\n	1422-140200 HONDAODYSSEY275117LS\n\n\n	1522-141796 MERCEDESE320275390LS\n\n\n	1622-153598 HONDAPRELUDE276685LS\n\n\n	1722-147300 MITSUBISHIDIAMANTE275973LS\n\n\n	1822-148703 BMWX5276277LS\n\n\n	1922-147104 CHEVROLETIMPALA276912LS\n\n\n	2022-138502 TOYOTACAMRY275029LS\n\n\n	2122-141003 MITSUBISHIECLIPSE275138LS\n\n\n	2222-104807 CHRYSLER300271009LS\n\n\n	2322-133298 MITSUBISHIMONTERO274263LS\n\n\n	2422-148602 LEXUSES276209LS\n\n\n	2522-142906 BMW325i275237LS\n\n\n	2622-148496 FORDRANGER276266LS\n\n\n	2722-143888 CADILLACDEVILLE275733LS\n\n\n	2822-135807 HYUNDAIAZERA274837LS\n\n\n	2922-052303 JEEPGRD CHEROKEE264863LS\n\n\n	3021-354110 JEEPLIBERTY254859TITLE\n\n\n	3121-166606 JEEPCOMMANDER235560LS\n\n\n	3222-148003 FORDEXPLORER275970LS\n\n\n	3322-137702 CHEVROLETSILVERADO274911LS\n\n\n	3422-161510 NISSANPATHFINDER277584LS\n\n\n	3522-148801 MAZDAMILLENIA276316LS\n\n\n	3622-091404 DODGERAM 1500269516LS\n\n\n	3722-140902 FORDEXPLORER275394LS\n\n\n	3822-158007 NISSANARMADA277693LS\n\n\n	3922-154505 MAZDATRIBUTE277035LS\n\n\n	4022-157001 CHEVROLETSILVERADO277362LS\n\n\n	4122-153102 DODGEGRD CARAVAN276674LS\n\n\n	4222-139305 AUDIA6275245LS\n\n\n	4322-155403 MERCEDESC240277205LS\n\n\n	4422-134800 FORDF150274663LS\n\n\n	4521-384400 FORDF250257488LS\n\n\n	4622-144312 NISSANSENTRA275713LS\n\n\n	4722-144784 FORDECONOLINE275723LS\n\n\n	4822-157188 OLDSMOBILECUTLASS277368LS\n\n\n	4922-140000 CHEVROLET1500275392LS\n\n\n	5022-150206 CHEVROLETEXPRESS VAN276482LS\n\n\n\n\n\n\n\nTERMS AND CONDITIONS\n\nCash Only – All Sales are Final\n$200.00 refundable cash deposit to bid\nRefunds are available anytime during auction\nAll cars must be paid for and picked up by 4pm on Thursday ( no exceptions )\nAdditional deposits are required on vehicle’s over $1000.00\nLien sale vehicles sold to the general public are sold as is with all vaults and defects\, you are required to pay all DMV back registration and obtain a smog certificate before receiving your title from the DMV\, sales tax for your purchase will be paid directly to the DMV upon submission of the lien sale packet you will receive at the conclusion of the auction. Out of state buyers\, check with your local DMV to be sure that they will accept California lien sale documents for registration in your state.
URL:https://jbauctioneers.net/event/otay-mesa-auto-auction-20220615/
LOCATION:Western Towing\, 738 Heritage Rd.\, San Diego\, CA\, 92154\, United States
END:VEVENT
END:VCALENDAR