BEGIN:VCALENDAR
VERSION:2.0
PRODID:-//Joe Bradley Auctioneers - ECPv6.15.20//NONSGML v1.0//EN
CALSCALE:GREGORIAN
METHOD:PUBLISH
X-WR-CALNAME:Joe Bradley Auctioneers
X-ORIGINAL-URL:https://jbauctioneers.net
X-WR-CALDESC:Events for Joe Bradley Auctioneers
REFRESH-INTERVAL;VALUE=DURATION:PT1H
X-Robots-Tag:noindex
X-PUBLISHED-TTL:PT1H
BEGIN:VTIMEZONE
TZID:America/Los_Angeles
BEGIN:DAYLIGHT
TZOFFSETFROM:-0800
TZOFFSETTO:-0700
TZNAME:PDT
DTSTART:20210314T100000
END:DAYLIGHT
BEGIN:STANDARD
TZOFFSETFROM:-0700
TZOFFSETTO:-0800
TZNAME:PST
DTSTART:20211107T090000
END:STANDARD
BEGIN:DAYLIGHT
TZOFFSETFROM:-0800
TZOFFSETTO:-0700
TZNAME:PDT
DTSTART:20220313T100000
END:DAYLIGHT
BEGIN:STANDARD
TZOFFSETFROM:-0700
TZOFFSETTO:-0800
TZNAME:PST
DTSTART:20221106T090000
END:STANDARD
BEGIN:DAYLIGHT
TZOFFSETFROM:-0800
TZOFFSETTO:-0700
TZNAME:PDT
DTSTART:20230312T100000
END:DAYLIGHT
BEGIN:STANDARD
TZOFFSETFROM:-0700
TZOFFSETTO:-0800
TZNAME:PST
DTSTART:20231105T090000
END:STANDARD
END:VTIMEZONE
BEGIN:VEVENT
DTSTART;TZID=America/Los_Angeles:20220906T103000
DTEND;TZID=America/Los_Angeles:20220906T143000
DTSTAMP:20260424T031846
CREATED:20220802T010927Z
LAST-MODIFIED:20220903T083809Z
UID:13872-1662460200-1662474600@jbauctioneers.net
SUMMARY:OCEANSIDE - AUTO AUCTION
DESCRIPTION:Presented By:Auctions the 1st and 3rd Tuesdays of each monthPUBLIC AUTO AUCTIONUp to 80 Selected Vehicles\nTuesday September 6th @ 10:30am1060 Airport Rd. (in the Oceanside location towing yard)Oceanside 92058Phone. 760-722-6686For a map and directions\, click here\nHere are some photos of vehicles available at this week’s S&R Towing auction.Vehicles posted are subject to change without notice.Click on any of the images below to see the larger picture.*** RUNNERS ***\n\n\n\n\nno images were found \n\n\n*** NON-RUNNERS ***\n\n\n\nno images were found \n\n\n\nTo download a copy of the list in Adobe pdf format\, Click here\n\n\n\n\n\n\n\n	INVOICE #YEARMAKEMODELPLATELIC EXPVINODOMTIT / SAL\n\n\n\n\n	1766142007NissanAltima5XGU3101N4AL21E37N442579\n\n\n	2799042011TOYOTACAMRY6ZNV8144T1BF3EK3BU703389TITLE\n\n\n	3754471997CadillacDeVille1G6KE54Y0VU290914\n\n\n	480819PT2002VolkswagenJetta4WSZ1793VWSE69M72M121527\n\n\n	5779862001LEXUSRX3006MDJ890JTJGF10UX10107836\n\n\n	681329PT2000BMW3 SeriesVAGAZOWBAAM5339YFR15270\n\n\n	7783512006VOLVOS605ZIY101YV1RH592X62556504\n\n\n	8761332008DodgeNitroBT044DP1D8GU58648W131130\n\n\n	9775292014ChevroletSilverado 150012204H23GCPCREC8EG312955\n\n\n	10789372011VolkswagenCC48BHVEWVWMN7AN8BE714373\n\n\n	1181340PT2001PontiacFirebird6EKZ8132G2FS22K512138099\n\n\n	12773461998HondaCivic5BXZ6382HGEJ657XWH537282\n\n\n	13659752000ToyotaCamry4JOL039JT2BG22K7Y0412015\n\n\n	14782542006NissanSentra5UEN1353N1CB51D66L567978\n\n\n	15729682006DodgeRam Pickup 150017219F11D7HU18286S571600\n\n\n	16778592013GMCTerrain3BW18222GKFLVEK1D6217325\n\n\n	17807162013MAZDA37CPY791JM1BL1V86D1704899TITLE\n\n\n	18778532003DodgeGrand Caravan6LOY8331D4GP24303B236931\n\n\n	19782531997NissanSentra3VBZ2921N4AB41D9VC754890\n\n\n	20814872013ScionSCION FR-S7TYX692JF1ZNAA18D1714776TITLE/SAL\n\n\n	21813002002HondaAccord5UEM3921HGCG16562A014839TITLE\n\n\n	22777461998HONDAODYSSET4CMH324JHMRA3863WC014270\n\n\n	23752112015MitsubishiLancer7RIN298JA32U8FW2FU026459\n\n\n	24763472007NissanMurano5ZOP616JN8AZ08TX7W517682\n\n\n	25763842005CadillacSRX5LRH0121GYEE637350152939\n\n\n	26734332002DodgeDakota49590F21B7HL48N82S652521SAL\n\n\n	27806831995BMW325i8MGV072WBABJ5326SJC84229TITLE\n\n\n	28787792003FordExpedition5JFV7351FMRU15W73LA37575\n\n\n	29687051985LincolnTown Car2BUE4821LNBP96F2FY669591\n\n\n	30710442008FordFocus8UJG9381FAHP32N38W271741\n\n\n	31787591999ToyotaSienna4EMR2744T3ZF13C4XU125137\n\n\n	32814402006AudiA4 QUATTRO8KIP640WAUKF78E66A137816APP TITLE\n\n\n	33790442010DodgeCharger465YSG2B3CA3CV9AH107694\n\n\n	34790452004ChryslerSebring8MSE7961C3EL45X54N109061\n\n\n	35811422006InfinitiM355UFD214JNKAY01E86M112441TITLE\n\n\n	36561621976ITASCAMHNONECPL3263306284\n\n\n	37801752000LincolnTown Car6XVG9871LNHM81WXYY887754TITLE\n\n\n	38786852001ChevroletSilverado 15006L337492GCEC19W611195229\n\n\n	39788962001BMW325i8PND916WBAAV33491FU81237SAL\n\n\n	40758932010ChevroletAveo7TOE760KL1TD5DE0AB047739\n\n\n	41798552002FordMustang7LPL4681FAFP44412F107705TITLE/SAL\n\n\n	4280745PT1999LEXUSES3004GOW947JT8BF28G3X0221878\n\n\n	43783022001SaturnLS SERIES4PKM5431G8JU52F11Y544219\n\n\n	44765492003HondaCivic5ECK8562HGES26783H529486\n\n\n	45668522003Land RoverDiscovery6KCN69412/20SALTY16423A82510187522SAL\n\n\n	46761662002ToyotaTacoma7A5481810/215TEWN72N22Z143385315826\n\n\n	47748552009FordFusion6HRG65306/203FAHP07Z89R21387955746\n\n\n	48752422001ChevroletS106K7990910/181GCCS19W818142894237073\n\n\n	49755822000GMCYukon6HQJ40303/211GKEC13TXYJ205019262632\n\n\n	50769812013DodgeDart8MWC57307/201C3CDFCA2DD71130776696\n\n\n	51761742003HondaAccord6EAP58204/21JHMCM56303C059504288438\n\n\n	5281614SP2009Mazda36FGJ73309/22JM1BK34M091203785146930\n\n\n	53750542006HondaCivic7NYU24911/212HGFA16586H512627201759\n\n\n	54776972001ChevroletSuburban6KXF54910/213GNEC16T51G253789\n\n\n	55756372004JeepLiberty6AIC65209/221J4GK48K24W319418205816\n\n\n	5681681JSS2005LexusRX3305MVN06104/20JTJGA31U850055895206730\n\n\n	57785212000MazdaMPV4JTU56012/18JM3LW28G7Y0133933\n\n\n	58790631999DodgeRam 15007T9838007/223B7HC13Z5XG116276\n\n\n	59780172000FORDEXPLORER5NVA95407/221FMZU63E1YUA61895TITLE\n\n\n	60754502003ChevroletSilverado 2500HD97691Y106/201GCHK29113E206052\n\n\n\n\n\n\n\n\nTERMS AND CONDITIONS\n\nBuyers fees: Dealers & Dismantlers $35.00\nGeneral Public $65.00\n$200.00 cash deposit required to bid\nAll vehicles must be paid for in full CASH ONLY at the conclusion of the auction\nAll vehicles must be removed by Friday following the auction\nLien sale vehicles sold to the general public are sold as is with all vaults and defects\, you are required to pay all DMV back registration and obtain a smog certificate before receiving your title from the DMV\, sales tax for your purchase will be paid directly to the DMV upon submission of the lien sale packet you will receive at the conclusion of the auction. Out of state buyers\, check with your local DMV to be sure that they will accept California lien sale documents for registration in your state.\nFor more info call direct 760-722-6686
URL:https://jbauctioneers.net/event/oceanside-auto-auction-20220906/
LOCATION:S&R Towing\, 1060 Airport Rd.\, Oceanside\, CA\, 92058\, United States
END:VEVENT
BEGIN:VEVENT
DTSTART;TZID=America/Los_Angeles:20220906T140000
DTEND;TZID=America/Los_Angeles:20220906T160000
DTSTAMP:20260424T031846
CREATED:20220816T010120Z
LAST-MODIFIED:20260316T172250Z
UID:14011-1662472800-1662480000@jbauctioneers.net
SUMMARY:ABANDONED STORAGE VAULTS
DESCRIPTION:ACKLEY MOVING SERVICESLIVE ONSITE AUCTION\n\nTuesday\, September 6th @ 2:00pm\n13367 Kirkman Way\, Poway\, Ca. 92064For a map and directions\, click hereAbandoned Storage Vaults with furnishings. Everything and anything can be found in a storage vault auction!\nPreview: 1/2 hour prior to auction start (See additional notes below).\nPickup Schedule: Load out and transportation will be the responsibility of the buyer. (See additional notes below) \nContact us for more information: 619-208-2830\n\n\n\nTERMS AND CONDITIONS\n\n$100.00 Cash Deposit required to bid\nCONDITIONS: Buyers complete inspection of property is encouraged. All announcements made by the Auctioneer at the Auction will take precedence over any previous printed material or any other oral statements made. All items will sell at Absolute Auction.\nSALES TAX: 7.25% Sales Tax will be charged. All tax-exempt buyers must have a copy of seller’s permit. \nPAYMENTS: Accepted forms of payment are Cash\, Visa\, Mastercard. All items must be paid for in full on sale day.\nLOAD OUT/TRANSPORTATION:  Load out and transportation will be the responsibility of the buyer. Property will become the responsibility of the purchasers once pronounced sold. Buyers and their agents\, will dismantle\, load\, and remove all property at their own risk and expense. Buyers must pay in full for items prior to removal. Items must be removed by next day Sept. 7th 2022 and the units must be broom swept clean. Items not removed following the auction shall be subject to forfeiture and loss of $100.00 deposit.\nAUCTIONEERS DISCLAIMER:  Buyers are encouraged to personally inspect items and rely on their own judgement and inspection. All items are sold AS IS\, WHERE IS with all faults if any.\nACCIDENTS: Joe Bradley Auctioneers\, nor the sellers are responsible for any accidental injury or theft.\nATTENTION AUCTION BUYERS PREVIEW: We suggest that you arrive ½ hour prior to the Auction to register and have any last-minute questions answered.
URL:https://jbauctioneers.net/event/abandoned-storage-vaults-20220906/
LOCATION:12175 Paine Place\, 12175 Paine Place\, Poway\, 92064\, United States
END:VEVENT
END:VCALENDAR