BEGIN:VCALENDAR
VERSION:2.0
PRODID:-//Joe Bradley Auctioneers - ECPv6.15.20//NONSGML v1.0//EN
CALSCALE:GREGORIAN
METHOD:PUBLISH
X-WR-CALNAME:Joe Bradley Auctioneers
X-ORIGINAL-URL:https://jbauctioneers.net
X-WR-CALDESC:Events for Joe Bradley Auctioneers
REFRESH-INTERVAL;VALUE=DURATION:PT1H
X-Robots-Tag:noindex
X-PUBLISHED-TTL:PT1H
BEGIN:VTIMEZONE
TZID:America/Los_Angeles
BEGIN:DAYLIGHT
TZOFFSETFROM:-0800
TZOFFSETTO:-0700
TZNAME:PDT
DTSTART:20210314T100000
END:DAYLIGHT
BEGIN:STANDARD
TZOFFSETFROM:-0700
TZOFFSETTO:-0800
TZNAME:PST
DTSTART:20211107T090000
END:STANDARD
BEGIN:DAYLIGHT
TZOFFSETFROM:-0800
TZOFFSETTO:-0700
TZNAME:PDT
DTSTART:20220313T100000
END:DAYLIGHT
BEGIN:STANDARD
TZOFFSETFROM:-0700
TZOFFSETTO:-0800
TZNAME:PST
DTSTART:20221106T090000
END:STANDARD
BEGIN:DAYLIGHT
TZOFFSETFROM:-0800
TZOFFSETTO:-0700
TZNAME:PDT
DTSTART:20230312T100000
END:DAYLIGHT
BEGIN:STANDARD
TZOFFSETFROM:-0700
TZOFFSETTO:-0800
TZNAME:PST
DTSTART:20231105T090000
END:STANDARD
END:VTIMEZONE
BEGIN:VEVENT
DTSTART;TZID=America/Los_Angeles:20220914T123500
DTEND;TZID=America/Los_Angeles:20220914T123500
DTSTAMP:20260424T031845
CREATED:20220603T210547Z
LAST-MODIFIED:20220908T205723Z
UID:13206-1663158900-1663158900@jbauctioneers.net
SUMMARY:OTAY MESA - AUTO AUCTION
DESCRIPTION:Presented By: PUBLIC AUTO AUCTIONUp to 70 Lien Sale VehiclesWednesday September 14th  @ 12:35pm(Preview 12:00pm) Auctions held Wednesdays*** NEW LOCATION ***Otay Valley Rd & Heritage Rd\, Chula Vista(Look for signs to the new facility from this location\, actual site is up the hill on 738 Heritage Rd.)Phone: 619-694-7809For a map and directions\, click here Here are some photos of vehicles available at this week’s Western Towing Auto Auction.Click on any of the images below to see the larger picture.\n\n\n\nno images were found \n\n\n\nTo download a copy of the list in Adobe pdf format\, Click here.\n\n\n\n\n\n\n	NOCONTROLYEAR/MAKEMODELREF NOLS/T\n\n\n\n\n	122-246298 LEXUSGS300286716LS\n\n\n	221-231212 BMW535i242373LS\n\n\n	322-035500 LINCOLNTOWNCAR262906LS\n\n\n	422-240304 HYUNDAISANTA FE285945LS\n\n\n	522-244702 DODGECARAVAN286602LS\n\n\n	622-255106 VOLKSWAGENJETTA287515LS\n\n\n	722-252604 TOYOTACOROLLA285042LS\n\n\n	822-257108 CHEVROLETIMPALA287635LS\n\n\n	922-061990 VOLKSWAGENVANAGON265819LS\n\n\n	1022-260292 FORDF-SERIES287962LS\n\n\n	1122-254606 HYUNDAIAZERA287408LS\n\n\n	1222-173603 FORDEXPEDITION279032LS\n\n\n	1322-256502 MERCEDESC240287861LS\n\n\n	1422-257305 CHRYSLERPT CRUISER287749LS\n\n\n	1522-257404 HONDAODYSSEY287751LS\n\n\n	1622-145302 FORDF250275864LS\n\n\n	1722-257503 MITSUBISHIGALANT287878LS\n\n\n	1822-254503 HYUNDAIXG350287406LS\n\n\n	1922-232095 CHEVROLETBLAZER285392LS\n\n\n	2022-253108 FORDFOCUS287323LS\n\n\n	2122-220508 TOYOTAPRIUS284026LS\n\n\n	2222-187506 LINCOLNLS281055LS\n\n\n	23N/A12 FORDFIESTA9ATITLE\n\n\n	2422-236098 CHEVROLETS10285651LS\n\n\n	2522-221090 BMW535i284078LS\n\n\n	2622-207807 FORDMUSTANG283150LS\n\n\n	2722-251001 FORDEXPLORER286919LS\n\n\n	2822-256007 FORDFOCUS ZX4287538LS\n\n\n	2922-192100 TOYOTAAVALON281385LS\n\n\n	3022-244403 ACURARSX286569LS\n\n\n	3119-394310 DODGECHALLENGER173754LS\n\n\n	3222-185100 FORDRANGER280399LS\n\n\n	3322-245297 FORDESCORT286595LS\n\n\n	3422-237306 BMW530i285786LS\n\n\n	3522-239898 TOYOTARAV4286168LS\n\n\n	3422-254404 ACURAMDX287409LS\n\n\n	3522-219510 AUDIA4284370LS\n\n\n	3622-257203 BMWX5287636LS\n\n\n	3722-239103 BMW745i286094LS\n\n\n	3822-231397 JEEPGRD CHEROKEE285299LS\n\n\n	3922-253209 MITSUBISHILANCER287356LS\n\n\n	4022-242813 DODGEDART286020LS\n\n\n	4122-254705 NISSANALTIMA287425LS\n\n\n	4222-255505 NISSANXTERRA287525LS\n\n\n	4322-231201 TOYOTATUNDRA285292LS\n\n\n	4422-258806 FORDF150287771LS\n\n\n	4522-230200 CHEVROLETSILVERADO285294LS\n\n\n	4622-254907 FORDF150287533LS\n\n\n	4722-204606 NISSANPATHFINDER282715LS\n\n\n	48N/A05 CHEVROLETTAHOE288099TITLE\n\n\n	4922-182589 CHEVROLETG SERIES280145LS\n\n\n	5022-262201 MITSUBISHIMIRAGE288203LS\n\n\n\n\n\n\n\nTERMS AND CONDITIONS\n\nCash Only – All Sales are Final\n$200.00 refundable cash deposit to bid\nRefunds are available anytime during auction\nAll cars must be paid for and picked up by 4pm on Thursday ( no exceptions )\nAdditional deposits are required on vehicle’s over $1000.00\nLien sale vehicles sold to the general public are sold as is with all vaults and defects\, you are required to pay all DMV back registration and obtain a smog certificate before receiving your title from the DMV\, sales tax for your purchase will be paid directly to the DMV upon submission of the lien sale packet you will receive at the conclusion of the auction. Out of state buyers\, check with your local DMV to be sure that they will accept California lien sale documents for registration in your state.
URL:https://jbauctioneers.net/event/otay-mesa-auto-auction-20220914/
LOCATION:Western Towing\, 738 Heritage Rd.\, San Diego\, CA\, 92154\, United States
END:VEVENT
END:VCALENDAR