BEGIN:VCALENDAR
VERSION:2.0
PRODID:-//Joe Bradley Auctioneers - ECPv6.15.20//NONSGML v1.0//EN
CALSCALE:GREGORIAN
METHOD:PUBLISH
X-ORIGINAL-URL:https://jbauctioneers.net
X-WR-CALDESC:Events for Joe Bradley Auctioneers
REFRESH-INTERVAL;VALUE=DURATION:PT1H
X-Robots-Tag:noindex
X-PUBLISHED-TTL:PT1H
BEGIN:VTIMEZONE
TZID:America/Los_Angeles
BEGIN:DAYLIGHT
TZOFFSETFROM:-0800
TZOFFSETTO:-0700
TZNAME:PDT
DTSTART:20210314T100000
END:DAYLIGHT
BEGIN:STANDARD
TZOFFSETFROM:-0700
TZOFFSETTO:-0800
TZNAME:PST
DTSTART:20211107T090000
END:STANDARD
BEGIN:DAYLIGHT
TZOFFSETFROM:-0800
TZOFFSETTO:-0700
TZNAME:PDT
DTSTART:20220313T100000
END:DAYLIGHT
BEGIN:STANDARD
TZOFFSETFROM:-0700
TZOFFSETTO:-0800
TZNAME:PST
DTSTART:20221106T090000
END:STANDARD
BEGIN:DAYLIGHT
TZOFFSETFROM:-0800
TZOFFSETTO:-0700
TZNAME:PDT
DTSTART:20230312T100000
END:DAYLIGHT
BEGIN:STANDARD
TZOFFSETFROM:-0700
TZOFFSETTO:-0800
TZNAME:PST
DTSTART:20231105T090000
END:STANDARD
END:VTIMEZONE
BEGIN:VEVENT
DTSTART;TZID=America/Los_Angeles:20220920T103000
DTEND;TZID=America/Los_Angeles:20220920T143000
DTSTAMP:20260424T031854
CREATED:20220903T083619Z
LAST-MODIFIED:20220917T171529Z
UID:14277-1663669800-1663684200@jbauctioneers.net
SUMMARY:OCEANSIDE - AUTO AUCTION
DESCRIPTION:Presented By:Auctions the 1st and 3rd Tuesdays of each monthPUBLIC AUTO AUCTIONUp to 80 Selected Vehicles\nTuesday September 20th @ 10:30am1060 Airport Rd. (in the Oceanside location towing yard)Oceanside 92058Phone. 760-722-6686For a map and directions\, click here\nHere are some photos of vehicles available at this week’s S&R Towing auction.Vehicles posted are subject to change without notice.Click on any of the images below to see the larger picture.*** RUNNERS ***\n\n\n\n\nno images were found \n\n\n*** NON-RUNNERS ***\n\n\n\nno images were found \n\n\n\nTo download a copy of the list in Adobe pdf format\, Click here\n\n\n\n\n\n\n\n	INVOICE #YEARMAKEMODELPLATELIC EXPVINODOMTIT / SAL\n\n\n\n\n	1720272014NissanPathfinder8TVD9605N1AR2MN2EC671988\n\n\n	2811512012NissanAltima8ZBM4221N4AL2AP3CN547585TITLE/SAL\n\n\n	3771481998LincolnNavigator4ZMJ0465LMRU27L5WLJ32520\n\n\n	4802672002HondaAccord6GGH4741HGCG22532A035515TITLE\n\n\n	5680112010HondaFit8YET206JHMGE8H41AC022044\n\n\n	6790842008HondaAccord6FNV689JHMCP26338C079873\n\n\n	7784262011InfinitiG258YGG459JN1DV6AP6BM602434\n\n\n	8753132008HondaPilotDDV97515FNYF28218B026655\n\n\n	9793792016AudiA67LAB756WAUHGAFC6GN001007\n\n\n	10788252005KiaAmanti5UBP297KNALD124955070496\n\n\n	11811251998ToyotaAvalon4CTA4334T1BF182WU286689TITLE\n\n\n	12777691989ChryslerNew Yorker48A9ZB1C3BC6630KD473689\n\n\n	13784372000ChevroletBlazer8KIG2491GNDT13W4Y2177561\n\n\n	14791731990AcuraIntegra6GWG927JH4DA9356LS036213\n\n\n	15792462017ToyotaYARIS IA8BRF8983MYDLBYV9HY183566\n\n\n	16826262004VolvoV708FLL098YV1SW59V742367792TITLE\n\n\n	17791712002ChevroletS1060579M21GCDT19W528108981\n\n\n	18786662002HondaAccord4XTZ587JHMCG66842C019000\n\n\n	19792582001HondaCR-V5HCW459JHLRD17421S013206\n\n\n	20804901996HondaCivic2HGEJ6447TH126375SAL\n\n\n	21784942001VolkswagenJetta4MXG8613VWRT29M41M018867\n\n\n	22788972018ChevroletMalibu8XWH0771G1ZD5ST3JF135500\n\n\n	23794042004HyundaiXG350DP093DPKMHFU45E34A296105\n\n\n	24791622006DodgeRam Pickup 1500NO PLATE1D7HU18N86S548456\n\n\n	25776512000FordF-250 Super Duty6X508671FTNX21S0YEC82149\n\n\n	26826272001DodgeDurango8SUN3031B4HR28N51F562444TITLE\n\n\n	27768262002ToyotaCorolla4VLG7091NXBR12E92Z648490\n\n\n	28778402000FordEscort5PQR7283FAKP1131YR242297\n\n\n	29800281988MazdaRX-7NO PLATEJM1FC3318J0610477\n\n\n	30792832004Mercedes-BenzCLK3205JMZ908WDBTJ65J84F101108\n\n\n	31791701984Dodge6001KOP0831B3BV55GXEG224714\n\n\n	32807671997MazdaMiata4AYS990JM1NA3533V0733321\n\n\n	33769261974Alfa RomeoIniezione094PUXAR3045738\n\n\n	34817772011HONDACIVIC6PEP7142HGFA1F50BH301299TITLE\n\n\n	35791761999HONDAACCORD4DOJ8851HGCG6677XA025676\n\n\n	36791691996JEEPCHEROKEEV6634271J4FJ27S9TL182367\n\n\n	37803552002HondaCivic5SUY8732HGES16532H517348\n\n\n	38793841998ToyotaCorolla4CTK7521NXBR18E3WZ105701\n\n\n	39804091993LincolnTown Car7BUC7971LNLM81W8PY767699\n\n\n	40828442007SCIONTC6EUZ369JTKDE177570186486\n\n\n	41798582000ToyotaSienna5BDX1714T3ZF13C9YU205664\n\n\n	42807202002ToyotaTundra8P850245TBJN32102S281612TITLE\n\n\n	43762802002DodgeRam Pickup 1500BYA372903/233D7HU18N52G140305149678\n\n\n	44766802003VolkswagenGolf7DLZ82611/209BWFK61J934037226192396\n\n\n	45780262003HyundaiSANTA FE7PDT35906/23KM8SC13D73U528552139127\n\n\n	46785832005InfinitiFX355SHN81412/22JNRAS08U35X108908123696\n\n\n	47712522004Mazda37MSM36209/21JM1BK12F141216708198412\n\n\n	48776632009FordFocus8BAE05005/181FAHP32N59W14609464921\n\n\n	49756652011BMW528i6PVM28501/21WBAFR1C55BC742082129101\n\n\n	50789322014FORDFUSION8YHS14610/221FA6P0G72E5401137174332\n\n\n	51768052003FordMustang7NYT35905/211FAFP44423F392786181407SAL\n\n\n	52785292007HondaAccord5XUV77512/22JHMCM56347C013700156866\n\n\n	53435322002FordF-1506Z32929908/201FTRX17292NB81430260316\n\n\n	54390162001BMWX55RCU08009/20WBAFB33501LH2656699498\n\n\n	55740061999GMCSierra 15001B4342UOOS1GTEK19T5XE554179265763\n\n\n	56775482014FordFocusRZV0719OOS1FADP3F27EL108554122119\n\n\n	57755012012NissanAltima7EEL05202/201N4AL2AP2CC186684203768\n\n\n	58786302003ChevroletAstro5BGK66104/201GNDM19X63B10943190592\n\n\n	59791411998ChevroletExpress5V4710706/161GBJG31R9W1071560241100TITLE\n\n\n	60776972001ChevroletSUBURBAN6KXF54910/213GNEC16T51G253789\n\n\n	61827622005SUBARUIMPREZA8YPX74203/23JF1GD66575G515056160907TITLE\n\n\n\n\n\n\n\n\nTERMS AND CONDITIONS\n\nBuyers fees: Dealers & Dismantlers $35.00\nGeneral Public $65.00\n$200.00 cash deposit required to bid\nAll vehicles must be paid for in full CASH ONLY at the conclusion of the auction\nAll vehicles must be removed by Friday following the auction\nLien sale vehicles sold to the general public are sold as is with all vaults and defects\, you are required to pay all DMV back registration and obtain a smog certificate before receiving your title from the DMV\, sales tax for your purchase will be paid directly to the DMV upon submission of the lien sale packet you will receive at the conclusion of the auction. Out of state buyers\, check with your local DMV to be sure that they will accept California lien sale documents for registration in your state.\nFor more info call direct 760-722-6686
URL:https://jbauctioneers.net/event/oceanside-auto-auction-20220920/
LOCATION:S&R Towing\, 1060 Airport Rd.\, Oceanside\, CA\, 92058\, United States
END:VEVENT
END:VCALENDAR