BEGIN:VCALENDAR
VERSION:2.0
PRODID:-//Joe Bradley Auctioneers - ECPv6.15.20//NONSGML v1.0//EN
CALSCALE:GREGORIAN
METHOD:PUBLISH
X-WR-CALNAME:Joe Bradley Auctioneers
X-ORIGINAL-URL:https://jbauctioneers.net
X-WR-CALDESC:Events for Joe Bradley Auctioneers
REFRESH-INTERVAL;VALUE=DURATION:PT1H
X-Robots-Tag:noindex
X-PUBLISHED-TTL:PT1H
BEGIN:VTIMEZONE
TZID:America/Los_Angeles
BEGIN:DAYLIGHT
TZOFFSETFROM:-0800
TZOFFSETTO:-0700
TZNAME:PDT
DTSTART:20210314T100000
END:DAYLIGHT
BEGIN:STANDARD
TZOFFSETFROM:-0700
TZOFFSETTO:-0800
TZNAME:PST
DTSTART:20211107T090000
END:STANDARD
BEGIN:DAYLIGHT
TZOFFSETFROM:-0800
TZOFFSETTO:-0700
TZNAME:PDT
DTSTART:20220313T100000
END:DAYLIGHT
BEGIN:STANDARD
TZOFFSETFROM:-0700
TZOFFSETTO:-0800
TZNAME:PST
DTSTART:20221106T090000
END:STANDARD
BEGIN:DAYLIGHT
TZOFFSETFROM:-0800
TZOFFSETTO:-0700
TZNAME:PDT
DTSTART:20230312T100000
END:DAYLIGHT
BEGIN:STANDARD
TZOFFSETFROM:-0700
TZOFFSETTO:-0800
TZNAME:PST
DTSTART:20231105T090000
END:STANDARD
END:VTIMEZONE
BEGIN:VEVENT
DTSTART;TZID=America/Los_Angeles:20220921T123500
DTEND;TZID=America/Los_Angeles:20220921T123500
DTSTAMP:20260424T031846
CREATED:20220730T132611Z
LAST-MODIFIED:20220917T163049Z
UID:13863-1663763700-1663763700@jbauctioneers.net
SUMMARY:OTAY MESA - AUTO AUCTION
DESCRIPTION:Presented By: PUBLIC AUTO AUCTIONUp to 70 Lien Sale VehiclesWednesday September 21st  @ 12:35pm(Preview 12:00pm) Auctions held Wednesdays*** NEW LOCATION ***Otay Valley Rd & Heritage Rd\, Chula Vista(Look for signs to the new facility from this location\, actual site is up the hill on 738 Heritage Rd.)Phone: 619-694-7809For a map and directions\, click here Here are some photos of vehicles available at this week’s Western Towing Auto Auction.Click on any of the images below to see the larger picture.\n\n\n\nno images were found \n\n\n\nTo download a copy of the list in Adobe pdf format\, Click here.\n\n\n\n\n\n\n	NOCONTROLYEAR/MAKEMODELREF NOLS/T\n\n\n\n\n	122-163005 FORDMUSTANG278044LS\n\n\n	222-262005 LEXUSIS288228LS\n\n\n	322-255802 FORDEXPLORER287509LS\n\n\n	422-262506 CHRYSLER300288230LS\n\n\n	5N/A14 HYUNDAIACCENTN/ATITLE\n\n\n	622-196614 MAZDA3282010LS\n\n\n	722-257900 NISSANMAXIMA287874LS\n\n\n	822-266306 HYUNDAISANTA FE289577LS\n\n\n	922-272402 GMCYUKON289707LS\n\n\n	1022-265808 HYUNDAIAZERA288823LS\n\n\n	1122-267506 NISSANMAXIMA288795LS\n\n\n	1222-268601 FORDEXPLORER289612LS\n\n\n	1322-272910 MERCEDESC300288585LS\n\n\n	1422-268503 TOYOTACOROLLA289611LS\n\n\n	1522-266908 CHEVROLETEQUINOX288952LS\n\n\n	1622-240703 HONDACRV285966LS\n\n\n	1722-266689 VOLVO244DL289184LS\n\n\n	1822-263208 VOLVOV70288665LS\n\n\n	1922-267003 FORDFOCUS289079LS\n\n\n	2022-264108 NISSANVERSA288958LS\n\n\n	2122-203506 KIASEDONA282770LS\n\n\n	2222-217197 MERCEDESC230284021LS\n\n\n	2322-229407 MERCEDESCLK CLASS284916LS\n\n\n	2422-261907 VOLVOS60288211LS\n\n\n	2522-256700 HONDACIVIC287659LS\n\n\n	2622-254200 MERCEDESS500287414LS\n\n\n	2722-258403 FORDEXPEDITION287829LS\n\n\n	2822-260403 VOLKSGOLF287997LS\n\n\n	2922-267407 DODGECHARGER288783LS\n\n\n	3022-260598 HONDAACCORD288142LS\n\n\n	3122-249208 TOYOTAYARIS286788LS\n\n\n	3222-230500 NISSANMAXIMA284954LS\n\n\n	3322-269099 HONDAACCORD288775LS\n\n\n	3422-263895 HONDAODYSSEY288555LS\n\n\n	3522-273095 BMW525i288318LS\n\n\n	3622-266708 TOYOTAYARIS288560LS\n\n\n	3722-250605 HONDAELEMENT286811LS\n\n\n	3822-186201 DODGERAM 1500280722LS\n\n\n	3922-263009 SCIONTC288549LS\n\n\n	4022-269809 JEEPCOMPASS289330LS\n\n\n	4122-263101 NISSANXTERRA288602LS\n\n\n	4222-246100 HONDAACCORD286662LS\n\n\n	4322-268005 FORDF150289069LS\n\n\n	4422-273200 HONDACIVIC289764LS\n\n\n	4522-229383 FORDE350 VAN284909LS\n\n\n	4622-227002 GMC3500285182LS\n\n\n	4722-262398 FORDE350 VAN288227LS\n\n\n	4822-161802 CHEVROLETEXPRESS VAN277913LS\n\n\n	4922-248600 DODGEDAKOTA287077LS\n\n\n	5022-240510 FORDECONOLINE285965LS\n\n\n	51N/A99 LEXUSRX300N/ATITLE\n\n\n\n\n\n\n\nTERMS AND CONDITIONS\n\nCash Only – All Sales are Final\n$200.00 refundable cash deposit to bid\nRefunds are available anytime during auction\nAll cars must be paid for and picked up by 4pm on Thursday ( no exceptions )\nAdditional deposits are required on vehicle’s over $1000.00\nLien sale vehicles sold to the general public are sold as is with all vaults and defects\, you are required to pay all DMV back registration and obtain a smog certificate before receiving your title from the DMV\, sales tax for your purchase will be paid directly to the DMV upon submission of the lien sale packet you will receive at the conclusion of the auction. Out of state buyers\, check with your local DMV to be sure that they will accept California lien sale documents for registration in your state.
URL:https://jbauctioneers.net/event/otay-mesa-auto-auction-20220921/
LOCATION:Western Towing\, 738 Heritage Rd.\, San Diego\, CA\, 92154\, United States
END:VEVENT
END:VCALENDAR