BEGIN:VCALENDAR
VERSION:2.0
PRODID:-//Joe Bradley Auctioneers - ECPv6.15.20//NONSGML v1.0//EN
CALSCALE:GREGORIAN
METHOD:PUBLISH
X-ORIGINAL-URL:https://jbauctioneers.net
X-WR-CALDESC:Events for Joe Bradley Auctioneers
REFRESH-INTERVAL;VALUE=DURATION:PT1H
X-Robots-Tag:noindex
X-PUBLISHED-TTL:PT1H
BEGIN:VTIMEZONE
TZID:America/Los_Angeles
BEGIN:DAYLIGHT
TZOFFSETFROM:-0800
TZOFFSETTO:-0700
TZNAME:PDT
DTSTART:20210314T100000
END:DAYLIGHT
BEGIN:STANDARD
TZOFFSETFROM:-0700
TZOFFSETTO:-0800
TZNAME:PST
DTSTART:20211107T090000
END:STANDARD
BEGIN:DAYLIGHT
TZOFFSETFROM:-0800
TZOFFSETTO:-0700
TZNAME:PDT
DTSTART:20220313T100000
END:DAYLIGHT
BEGIN:STANDARD
TZOFFSETFROM:-0700
TZOFFSETTO:-0800
TZNAME:PST
DTSTART:20221106T090000
END:STANDARD
BEGIN:DAYLIGHT
TZOFFSETFROM:-0800
TZOFFSETTO:-0700
TZNAME:PDT
DTSTART:20230312T100000
END:DAYLIGHT
BEGIN:STANDARD
TZOFFSETFROM:-0700
TZOFFSETTO:-0800
TZNAME:PST
DTSTART:20231105T090000
END:STANDARD
END:VTIMEZONE
BEGIN:VEVENT
DTSTART;TZID=America/Los_Angeles:20220928T123500
DTEND;TZID=America/Los_Angeles:20220928T123500
DTSTAMP:20260424T014445
CREATED:20220905T151422Z
LAST-MODIFIED:20220924T143947Z
UID:14284-1664368500-1664368500@jbauctioneers.net
SUMMARY:OTAY MESA - AUTO AUCTION
DESCRIPTION:Presented By: PUBLIC AUTO AUCTIONUp to 70 Lien Sale VehiclesWednesday September 28th  @ 12:35pm(Preview 12:00pm) Auctions held Wednesdays*** NEW LOCATION ***Otay Valley Rd & Heritage Rd\, Chula Vista(Look for signs to the new facility from this location\, actual site is up the hill on 738 Heritage Rd.)Phone: 619-694-7809For a map and directions\, click here Here are some photos of vehicles available at this week’s Western Towing Auto Auction.Click on any of the images below to see the larger picture.\n\n\n\nno images were found \n\n\n\nTo download a copy of the list in Adobe pdf format\, Click here.\n\n\n\n\n\n\n	NOCONTROLYEAR/MAKEMODELREF NOLS/T\n\n\n\n\n	122-269194 FORDTAURUS288782LS\n\n\n	222-278401 TOYOTACAMRY290145LS\n\n\n	322-276297 LEXUSES290104LS\n\n\n	422-263601 DODGENEON288425LS\n\n\n	522-273899 TOYOTACAMRY289796LS\n\n\n	622-264208 DODGENITRO289056LS\n\n\n	722-263507 MERCEDESB200289380LS\n\n\n	822-277702 CHEVROLETTRAILBLAZER290447LS\n\n\n	922-268497 TOYOTAAVALON289467LS\n\n\n	1022-278008 DODGEMAGNUM290500LS\n\n\n	1122-274901 HONDAACCORD289968LS\n\n\n	1222-277906 FORDMUSTANG290487LS\n\n\n	1322-274609 FORDFOCUS289940LS\n\n\n	1422-275906 FORDEXPLORER290082LS\n\n\n	1522-279099 NISSANALTIMA290209LS\n\n\n	1622-272509 BMW745i288363LS\n\n\n	1722-268904 INFINITIG35288730LS\n\n\n	1822-265003 GMCSONOMA289212LS\n\n\n	1922-269409 CHEVROLETAVEO289211LS\n\n\n	2022-262902 HONDAACCORD288583LS\n\n\n	2122-264505 PONTIACGRD PRIX289489LS\n\n\n	2222-262495 BUICKREGAL288213LS\n\n\n	2322-248901 TOYOTACAMRY286761LS\n\n\n	2422-269500 NISSANMAXIMA289229LS\n\n\n	2522-276003 MAZDAPROTÉGÉ290094LS\n\n\n	2622-166300 CADILLACDEVILLE278633LS\n\n\n	2722-266805 FORDFREESTAR288827LS\n\n\n	2822-277899 JEEPGRD CHEROKEE290461LS\n\n\n	2922-106404 SUBARUIMPREZA271065LS\n\n\n	3022-272399 FORDF150289709LS\n\n\n	31N/A89 NISSANKINGCAB288431LS\n\n\n	3222-275705 BMW325i290010LS\n\n\n	3322-266405 FORDEXPLORER288565LS\n\n\n	3422-275800 TOYOTACAMRY290037LS\n\n\n	3522-262803 HONDAACCORD288554LS\n\n\n	3622-277298 HONDAACCORD290310LS\n\n\n	3722-273601 MITSUBISHIECLIPSE289859LS\n\n\n	3822-269206 CHRYSLER300288895LS\n\n\n	3922-178308 HONDACIVIC279617LS\n\n\n	4022-242813 DODGEDART286020LS\n\n\n	4122-258706 BMWX3287585LS\n\n\n	4222-264006 FORDFUSION288681LS\n\n\n	4322-263910 DODGEJOURNEY288567LS\n\n\n	4422-277504 CADILLACDEVILLE290316LS\n\n\n	4522-229383 FORDE350284909LS\n\n\n	4622-277600 CHEVROLETCAMARO290198LS\n\n\n	4722-281105 FORDEXPLORER290764LS\n\n\n	4822-281596 CHEVROLETASTROVAN290813LS\n\n\n	4922-281605 HYUNDAIELANTRA290831LS\n\n\n	5022-265201 FORDE35028921LS\n\n\n\n\n\n\n\nTERMS AND CONDITIONS\n\nCash Only – All Sales are Final\n$200.00 refundable cash deposit to bid\nRefunds are available anytime during auction\nAll cars must be paid for and picked up by 4pm on Thursday ( no exceptions )\nAdditional deposits are required on vehicle’s over $1000.00\nLien sale vehicles sold to the general public are sold as is with all vaults and defects\, you are required to pay all DMV back registration and obtain a smog certificate before receiving your title from the DMV\, sales tax for your purchase will be paid directly to the DMV upon submission of the lien sale packet you will receive at the conclusion of the auction. Out of state buyers\, check with your local DMV to be sure that they will accept California lien sale documents for registration in your state.
URL:https://jbauctioneers.net/event/otay-mesa-auto-auction-20220928/
LOCATION:Western Towing\, 738 Heritage Rd.\, San Diego\, CA\, 92154\, United States
END:VEVENT
END:VCALENDAR