BEGIN:VCALENDAR
VERSION:2.0
PRODID:-//Joe Bradley Auctioneers - ECPv6.15.20//NONSGML v1.0//EN
CALSCALE:GREGORIAN
METHOD:PUBLISH
X-ORIGINAL-URL:https://jbauctioneers.net
X-WR-CALDESC:Events for Joe Bradley Auctioneers
REFRESH-INTERVAL;VALUE=DURATION:PT1H
X-Robots-Tag:noindex
X-PUBLISHED-TTL:PT1H
BEGIN:VTIMEZONE
TZID:America/Los_Angeles
BEGIN:DAYLIGHT
TZOFFSETFROM:-0800
TZOFFSETTO:-0700
TZNAME:PDT
DTSTART:20210314T100000
END:DAYLIGHT
BEGIN:STANDARD
TZOFFSETFROM:-0700
TZOFFSETTO:-0800
TZNAME:PST
DTSTART:20211107T090000
END:STANDARD
BEGIN:DAYLIGHT
TZOFFSETFROM:-0800
TZOFFSETTO:-0700
TZNAME:PDT
DTSTART:20220313T100000
END:DAYLIGHT
BEGIN:STANDARD
TZOFFSETFROM:-0700
TZOFFSETTO:-0800
TZNAME:PST
DTSTART:20221106T090000
END:STANDARD
BEGIN:DAYLIGHT
TZOFFSETFROM:-0800
TZOFFSETTO:-0700
TZNAME:PDT
DTSTART:20230312T100000
END:DAYLIGHT
BEGIN:STANDARD
TZOFFSETFROM:-0700
TZOFFSETTO:-0800
TZNAME:PST
DTSTART:20231105T090000
END:STANDARD
END:VTIMEZONE
BEGIN:VEVENT
DTSTART;TZID=America/Los_Angeles:20221005T123500
DTEND;TZID=America/Los_Angeles:20221005T123500
DTSTAMP:20260424T014437
CREATED:20220905T151504Z
LAST-MODIFIED:20220930T213803Z
UID:14285-1664973300-1664973300@jbauctioneers.net
SUMMARY:OTAY MESA - AUTO AUCTION
DESCRIPTION:Presented By: PUBLIC AUTO AUCTIONUp to 70 Lien Sale VehiclesWednesday October 5th  @ 12:35pm(Preview 12:00pm) Auctions held Wednesdays*** NEW LOCATION ***Otay Valley Rd & Heritage Rd\, Chula Vista(Look for signs to the new facility from this location\, actual site is up the hill on 738 Heritage Rd.)Phone: 619-694-7809For a map and directions\, click here Here are some photos of vehicles available at this week’s Western Towing Auto Auction.Click on any of the images below to see the larger picture.\n\n\n\nno images were found \n\n\n\nTo download a copy of the list in Adobe pdf format\, Click here.\n\n\n\n\n\n\n	NOCONTROLYEAR/MAKEMODELREF NOLS/T\n\n\n\n\n	122-284704 CHEVROLETCLASSIC291019LS\n\n\n	222-023607 BMW745li261655LS\n\n\n	322-278999 TOYOTACOROLLA290412LS\n\n\n	422-284194 HONDAACCORD290951LS\n\n\n	522-277494 CHEVROLETCAMARO290464LS\n\n\n	622-287303 HONDACIVIC291353LS\n\n\n	722-280901 TOYOTACAMRY290754LS\n\n\n	822-283707 CHEVROLETHHR290953LS\n\n\n	922-255004 MERCEDESCLK320287497LS\n\n\n	1022-285098 MERCEDESM CLASS291192LS\n\n\n	1122-284401 TOYOTACAMRY290933LS\n\n\n	1222-214011 NISSANXTERRA283937LS\n\n\n	1322-285199 MERCEDESCLK430291014LS\n\n\n	1422-285904 FORDF150291316LS\n\n\n	1522-301999 BMW540i292839LS\n\n\n	1622-285600 LINCOLNTOWNCAR291185LS\n\n\n	1722-288594 BUICKREGAL291320LS\n\n\n	1822-281002 VOLKSWAGENGOLF290744LS\n\n\n	1922-273710 VOLKSWAGENCC SPORT289758LS\n\n\n	2022-283605 CHEVROLETMALIBU290943LS\n\n\n	2122-215689 CHEVROLETCAMARO283754LS\n\n\n	2222-285402 FORDF150291071LS\n\n\n	2322-281403 MERCEDESC240290803LS\n\n\n	2422-284910 HYUNDAIACCENT291064LS\n\n\n	2522-265513 HYUNDAISONATA289438LS\n\n\n	2622-284301 MITSUBISHIMIRAGE290879LS\n\n\n	2722-275400 SUBARULEGACY289887LS\n\n\n	2822-265103 FORDEXPLORER289213LS\n\n\n	2922-263306 TOYOTACAMRY289528LS\n\n\n	3022-235609 BMW328i285684LS\n\n\n	3122-283206 SUBARUFORESTER290836LS\n\n\n	3222-193403 BMW745li281500LS\n\n\n	3322-247307 BMW328i286692LS\n\n\n	3422-285707 INFINITIQX56291338LS\n\n\n	3522-267407 DODGECHARGER288783LS\n\n\n	3622-240703 HONDACRV285966LS\n\n\n	3722-258506 SCIONTC287857LS\n\n\n	3822-249313 HONDAFIT206806LS\n\n\n	3922-268207 KIASPECTRA289315LS\n\n\n	4022-286205 ACURATL291191LS\n\n\n	4122-279109 CHRYSLERTOWN&COUNTRY290203LS\n\n\n	4222-284804 NISSANALTIMA291034LS\n\n\n	4322-273100 MERCEDESE320289717LS\n\n\n	4422-279501 LEXUSRX300290560LS\n\n\n	4522-277374 DATUS280Z290346LS\n\n\n	4622-229902 TOYOTATUNDRA284903LS\n\n\n	4722-268005 FORDF150289069LS\n\n\n	4822-240510 FORDE150285965LS\n\n\n	4922-151790 FORDSUPER DUTY276559LS\n\n\n	5022-273396 DODGERAM VAN288344LS\n\n\n\n\n\n\n\nTERMS AND CONDITIONS\n\nCash Only – All Sales are Final\n$200.00 refundable cash deposit to bid\nRefunds are available anytime during auction\nAll cars must be paid for and picked up by 4pm on Thursday ( no exceptions )\nAdditional deposits are required on vehicle’s over $1000.00\nLien sale vehicles sold to the general public are sold as is with all vaults and defects\, you are required to pay all DMV back registration and obtain a smog certificate before receiving your title from the DMV\, sales tax for your purchase will be paid directly to the DMV upon submission of the lien sale packet you will receive at the conclusion of the auction. Out of state buyers\, check with your local DMV to be sure that they will accept California lien sale documents for registration in your state.
URL:https://jbauctioneers.net/event/otay-mesa-auto-auction-20221005/
LOCATION:Western Towing\, 738 Heritage Rd.\, San Diego\, CA\, 92154\, United States
END:VEVENT
END:VCALENDAR