BEGIN:VCALENDAR
VERSION:2.0
PRODID:-//Joe Bradley Auctioneers - ECPv6.15.20//NONSGML v1.0//EN
CALSCALE:GREGORIAN
METHOD:PUBLISH
X-WR-CALNAME:Joe Bradley Auctioneers
X-ORIGINAL-URL:https://jbauctioneers.net
X-WR-CALDESC:Events for Joe Bradley Auctioneers
REFRESH-INTERVAL;VALUE=DURATION:PT1H
X-Robots-Tag:noindex
X-PUBLISHED-TTL:PT1H
BEGIN:VTIMEZONE
TZID:America/Los_Angeles
BEGIN:DAYLIGHT
TZOFFSETFROM:-0800
TZOFFSETTO:-0700
TZNAME:PDT
DTSTART:20210314T100000
END:DAYLIGHT
BEGIN:STANDARD
TZOFFSETFROM:-0700
TZOFFSETTO:-0800
TZNAME:PST
DTSTART:20211107T090000
END:STANDARD
BEGIN:DAYLIGHT
TZOFFSETFROM:-0800
TZOFFSETTO:-0700
TZNAME:PDT
DTSTART:20220313T100000
END:DAYLIGHT
BEGIN:STANDARD
TZOFFSETFROM:-0700
TZOFFSETTO:-0800
TZNAME:PST
DTSTART:20221106T090000
END:STANDARD
BEGIN:DAYLIGHT
TZOFFSETFROM:-0800
TZOFFSETTO:-0700
TZNAME:PDT
DTSTART:20230312T100000
END:DAYLIGHT
BEGIN:STANDARD
TZOFFSETFROM:-0700
TZOFFSETTO:-0800
TZNAME:PST
DTSTART:20231105T090000
END:STANDARD
END:VTIMEZONE
BEGIN:VEVENT
DTSTART;TZID=America/Los_Angeles:20221018T103000
DTEND;TZID=America/Los_Angeles:20221018T143000
DTSTAMP:20260424T014425
CREATED:20220930T213207Z
LAST-MODIFIED:20221015T154021Z
UID:14576-1666089000-1666103400@jbauctioneers.net
SUMMARY:OCEANSIDE - AUTO AUCTION
DESCRIPTION:Presented By:Auctions the 1st and 3rd Tuesdays of each monthPUBLIC AUTO AUCTIONUp to 80 Selected Vehicles\nTuesday September 20th @ 10:30am1060 Airport Rd. (in the Oceanside location towing yard)Oceanside 92058Phone. 760-722-6686For a map and directions\, click here\nHere are some photos of vehicles available at this week’s S&R Towing auction.Vehicles posted are subject to change without notice.Click on any of the images below to see the larger picture.*** RUNNERS ***\n\n\n\n\nno images were found \n\n\n*** NON-RUNNERS ***\n\n\n\nno images were found \n\n\n\nTo download a copy of the list in Adobe pdf format\, Click here\n\n\n\n\n\n\n\n	Call #YEARMAKEMODELPlateLIC EXPVINODOMTIT/SAL\n\n\n\n\n	1782812002PROWLETRAILER1RNS072 1EC7A262321587351\n\n\n	2823852005FORDF-15060874H21FTPW12515KE49985T\n\n\n	3769301987MERZ190D4BIGT50BA4805JA080975000\n\n\n	4832532007SAAB9 5NLB4631YS3ED49G473515408T\n\n\n	5836372016LEXUSES 3508GCZ116JTHBK1GG2G2234603T\n\n\n	6781792008TOYTPRIUS8STS548JTDKB20U787730511\n\n\n	7837312004TOYTCOROLLA5ETX1981NXBR32E24Z260659\n\n\n	8822522001FORDE-SERIES32248J31FTNE24L41HA49227\n\n\n	9814322005ACURATL5MZX35919UUA66205A044626\n\n\n	10808782022DODGECHARGERCD55B992C3CDXBG9NH133528\n\n\n	11848671993FORDTAURUS3CJW980 1FALP5841PG160148T\n\n\n	12806951998NISSAN200SX8JAH7801N4AB42D0WC500632\n\n\n	13791682000DODGERAM8V30670 3B7HC13Z8YG105743\n\n\n	14817672004HONDACIVICBPR600JHMES26724S000302\n\n\n	15811662003HYUNELANTRABJG130KMHDN45D53U555069\n\n\n	16839832006HONDACIVIC6JRM0562HGFG12626H537231T/S\n\n\n	17785231996DODGERAM8ASK6431B7HF13Z4TJ171754\n\n\n	18843462004PORSCHCAYENNE5JQU931 WP1AB29P04LA77027\n\n\n	19807612005HYUNSONATA5TVX793KMHWF25S95A145517\n\n\n	20791751988FORDF-2501-474691FTHX26G5JKB21983\n\n\n	2183916200HONDACIVIC6APY043 1HGEJ8247YL085240\n\n\n	22818931987TOYTPICKUP49438P2JT4RN50R2H0252056\n\n\n	23806901995GMCSIERRAFLARED1GTEC14H8SZ504765\n\n\n	24791742001TOYT4RUNNERPGX5327 JT3GN87R910190583\n\n\n	25758562003FORDEXPLORER5ACA6501FMDU65W33ZA01760\n\n\n	26749912002GMCYUKON4URE7831GKEK63U42J129118\n\n\n	27829872007CHEVCOBALT6BPV8121G1AL58F877206680T\n\n\n	28775161997HONDACIVIC5SYB1742HGEJ6670VH517572\n\n\n	29706892000HONDAACCORD4NJN4031HGCG1649YA069947\n\n\n	30795011998MERZSLK2307GUP927 WDBKK47F4WF043006\n\n\n	31783681997CHEVC/K 1500NA2GCEK19RXV1208342\n\n\n	32791872006CHEVTRAILBLAZ7MSJ0811GNDT13S162344873\n\n\n	33765602001HYUNSANTA FE4RPE813KM8SC83D91U053010\n\n\n	34818982022KIANIRO9AZB594KNDCC3LC5N5532480\n\n\n	35797042006FORDFOCUS8CWU8071FAHP34N96W194769\n\n\n	36802752007BMW5 SERIES7ECK656WBANE53547CW66148\n\n\n	37806812009MINICOOPER8REG077WMWMF93519TF97098\n\n\n	38823321998FORDEXPLORER4CWM7041FMZU32E0WZB56965\n\n\n	39792342005FORDFREESTAR5LSE2012FMZA51675BA63523\n\n\n	40804521999HYUNELANTRA4HSL547KMHJF25F4XU881201\n\n\n	41837522004VOLKSPASSAT8TYX389WVWWH63B64E171444T\n\n\n	42761361991CHEVS-108A692381GCCS14A7M8230108\n\n\n	43770422013NISSANVERSA7ADH4873N1CN7APXDL891039\n\n\n	44821482010AUDIA4 QUAT8XDL520WAUKEAFM8AA034772\n\n\n	45821772001TOYTCELICA7PMV700JTDDR32T110073850\n\n\n	46794332014CHRY300C7HDB495Nov-202C3CCAET6EH169685147160\n\n\n	47792182010FORDMUSTANG7MCF065Jun-171ZVBP8AN5A5132332155646\n\n\n	48793462005SATUIONDP854FCJan-221G8AG52F55Z14189856142\n\n\n	49761762004VOLKSPASSAT8GOG476Feb-22WVWRH63B84P106547107155\n\n\n	50793122005CHEVAVEO6ZDP997Oct-22KL1TD62605B301652201088SAL\n\n\n	51812642001CADIDEVILLE4NGL884Sep-221G6KE57Y61U12002883451\n\n\n	52809831998TOYT4RUNNER3XNW41522-NovJT3GN86R8W0060707227615\n\n\n	53779482006NISSANMAXIMA5SNL569Nov-211N4BA41E86C819973231245\n\n\n	54791522003HONDAPILOT6GBW364 Jan-222HKYF186X3H542830206077\n\n\n	55806782001TOYTCOROLLA8JSP495Jun-221NXBR12E21Z426999328407\n\n\n	56848482004DODGEDAKOTA7K32858 Jan-171D7HL48N14S595037173809\n\n\n	57801981998TOYT4RUNNER4CUG676Sep-21JT3GN86R4W0091100251726\n\n\n	58792822007AUDIA48TBJ653Oct-22WAUAF78E97A03623487762\n\n\n	59803202000MITSECLIPSE7MSG350Nov-214A3AC34G9YE048970271620\n\n\n	60803242008NISSANTITANCL90670Nov-231N6AA06A48N308219271334\n\n\n	61807322007CHEVSILVERADO72348R1Jun-201GCHC24U37E185841312156\n\n\n\n\n\n\n\n\nTERMS AND CONDITIONS\n\nBuyers fees: Dealers & Dismantlers $35.00\nGeneral Public $65.00\n$200.00 cash deposit required to bid\nAll vehicles must be paid for in full CASH ONLY at the conclusion of the auction\nAll vehicles must be removed by Friday following the auction\nLien sale vehicles sold to the general public are sold as is with all vaults and defects\, you are required to pay all DMV back registration and obtain a smog certificate before receiving your title from the DMV\, sales tax for your purchase will be paid directly to the DMV upon submission of the lien sale packet you will receive at the conclusion of the auction. Out of state buyers\, check with your local DMV to be sure that they will accept California lien sale documents for registration in your state.\nFor more info call direct 760-722-6686
URL:https://jbauctioneers.net/event/oceanside-auto-auction-20221018/
LOCATION:S&R Towing\, 1060 Airport Rd.\, Oceanside\, CA\, 92058\, United States
END:VEVENT
END:VCALENDAR