BEGIN:VCALENDAR
VERSION:2.0
PRODID:-//Joe Bradley Auctioneers - ECPv6.15.20//NONSGML v1.0//EN
CALSCALE:GREGORIAN
METHOD:PUBLISH
X-ORIGINAL-URL:https://jbauctioneers.net
X-WR-CALDESC:Events for Joe Bradley Auctioneers
REFRESH-INTERVAL;VALUE=DURATION:PT1H
X-Robots-Tag:noindex
X-PUBLISHED-TTL:PT1H
BEGIN:VTIMEZONE
TZID:America/Los_Angeles
BEGIN:DAYLIGHT
TZOFFSETFROM:-0800
TZOFFSETTO:-0700
TZNAME:PDT
DTSTART:20210314T100000
END:DAYLIGHT
BEGIN:STANDARD
TZOFFSETFROM:-0700
TZOFFSETTO:-0800
TZNAME:PST
DTSTART:20211107T090000
END:STANDARD
BEGIN:DAYLIGHT
TZOFFSETFROM:-0800
TZOFFSETTO:-0700
TZNAME:PDT
DTSTART:20220313T100000
END:DAYLIGHT
BEGIN:STANDARD
TZOFFSETFROM:-0700
TZOFFSETTO:-0800
TZNAME:PST
DTSTART:20221106T090000
END:STANDARD
BEGIN:DAYLIGHT
TZOFFSETFROM:-0800
TZOFFSETTO:-0700
TZNAME:PDT
DTSTART:20230312T100000
END:DAYLIGHT
BEGIN:STANDARD
TZOFFSETFROM:-0700
TZOFFSETTO:-0800
TZNAME:PST
DTSTART:20231105T090000
END:STANDARD
END:VTIMEZONE
BEGIN:VEVENT
DTSTART;TZID=America/Los_Angeles:20221019T123500
DTEND;TZID=America/Los_Angeles:20221019T123500
DTSTAMP:20260424T014436
CREATED:20220930T213457Z
LAST-MODIFIED:20221013T045811Z
UID:14581-1666182900-1666182900@jbauctioneers.net
SUMMARY:OTAY MESA - AUTO AUCTION
DESCRIPTION:Presented By: PUBLIC AUTO AUCTIONUp to 70 Lien Sale VehiclesWednesday October 19th  @ 12:35pm(Preview 12:00pm) Auctions held Wednesdays*** NEW LOCATION ***Otay Valley Rd & Heritage Rd\, Chula Vista(Look for signs to the new facility from this location\, actual site is up the hill on 738 Heritage Rd.)Phone: 619-694-7809For a map and directions\, click here Here are some photos of vehicles available at this week’s Western Towing Auto Auction.Click on any of the images below to see the larger picture.\n\n\n\nno images were found \n\n\n\nTo download a copy of the list in Adobe pdf format\, Click here.\n\n\n\n\n\n\n	NOCONTROLYEAR/MAKEMODELREF#LS/T\n\n\n\n\n	122-286595 HONDAACCORD291063LS\n\n\n	222-289694 BUICKLESABRE291699LS\n\n\n	322-286306 JEEPCOMMANDER291351LS\n\n\n	422-291309 PONTIACVIBE291839LS\n\n\n	522-165507 BMW335i278478LS\n\n\n	622-290895 TOYOTACAMRY291825LS\n\n\n	722-266509 CHEVROLETMALIBU288677LS\n\n\n	822-294204 HONDACIVIC292057LS\n\n\n	922-286909 BMW328i291199LS\n\n\n	1022-269711 CHEVROLETCRUZE289328LS\n\n\n	1122-289104 NISSANARMADA291503LS\n\n\n	1222-292295 BUICKRIVIERA292088LS\n\n\n	1322-289791JEEPCHEROKEE291701LS\n\n\n	1422-281703 AUDIA4290826LS\n\n\n	1522-293798 HONDAACCORD291922LS\n\n\n	1622-284003 SUBARUFORESTER290922LS\n\n\n	1722-252013 KIAFORTE287162LS\n\n\n	1822-291510 HYUNDAIGENESIS292179LS\n\n\n	1922-291408 FORDFUSION292069LS\n\n\n	2022-267600 MERCURYGRD MARQUIS288801LS\n\n\n	2122-294412 CHEVROLETMALIBU292218LS\n\n\n	2222-290702 TOYOTAAVALON291823LS\n\n\n	2322-215504 INFINITIG35283789LS\n\n\n	2422-182903 FORDEXPLORER280265LS\n\n\n	2522-295499 TOYOTACAMRY292139LS\n\n\n	2622-293202 MITSUBISHILANCER291693LS\n\n\n	2722-120608 FORDESCAPE272669LS\n\n\n	2822-289906 NISSANALTIMA291747LS\n\n\n	2922-260809 ACURATL287990LS\n\n\n	3022-118814 CADILLACCTS272535LS\n\n\n	3122-253010 HONDAACCORD287307LS\n\n\n	3222-299900 FORDFOCUS ZX3292965LS\n\n\n	3322-301698 HONDACR-V292997LS\n\n\n	3422-289210 NISSANMAXIMA291578LS\n\n\n	3522-258106 MINICOOPER287642LS\n\n\n	3622-291108 NISSANALTIMA291834LS\n\n\n	3722-294902 FORDEXPLORER292072LS\n\n\n	3822-297207 AUDIA6292662LS\n\n\n	3922-301007 MERCURYGRND MARQUS292830LS\n\n\n	4022-300409 TOYOTAPRIUS292840LS\n\n\n	4122-301802 HONDACIVIC292827LS\n\n\n	4222-078906 HONDAACCORD267911LS\n\n\n	4322-295197 NISSANQUEST292212LS\n\n\n	4422-300703 HYUNDAIELANTRA292984LS\n\n\n	4522-301210 CHRYSLERSEBRING292837LS\n\n\n	4622-278804 FORDEXPLORER290202LS\n\n\n	4722-112501 LEXUSGS 300271733LS\n\n\n	4822-291298 HONDAACCORD291828LS\n\n\n	4922-298114 CHEVROLETEQUINOX262674LS\n\n\n	50N/A07 HONDARIDGELINEN/ATITLE\n\n\n\n\n\n\n\nTERMS AND CONDITIONS\n\nCash Only – All Sales are Final\n$200.00 refundable cash deposit to bid\nRefunds are available anytime during auction\nAll cars must be paid for and picked up by 4pm on Thursday ( no exceptions )\nAdditional deposits are required on vehicle’s over $1000.00\nLien sale vehicles sold to the general public are sold as is with all vaults and defects\, you are required to pay all DMV back registration and obtain a smog certificate before receiving your title from the DMV\, sales tax for your purchase will be paid directly to the DMV upon submission of the lien sale packet you will receive at the conclusion of the auction. Out of state buyers\, check with your local DMV to be sure that they will accept California lien sale documents for registration in your state.
URL:https://jbauctioneers.net/event/otay-mesa-auto-auction-20221019/
LOCATION:Western Towing\, 738 Heritage Rd.\, San Diego\, CA\, 92154\, United States
END:VEVENT
END:VCALENDAR