BEGIN:VCALENDAR
VERSION:2.0
PRODID:-//Joe Bradley Auctioneers - ECPv6.15.20//NONSGML v1.0//EN
CALSCALE:GREGORIAN
METHOD:PUBLISH
X-ORIGINAL-URL:https://jbauctioneers.net
X-WR-CALDESC:Events for Joe Bradley Auctioneers
REFRESH-INTERVAL;VALUE=DURATION:PT1H
X-Robots-Tag:noindex
X-PUBLISHED-TTL:PT1H
BEGIN:VTIMEZONE
TZID:America/Los_Angeles
BEGIN:DAYLIGHT
TZOFFSETFROM:-0800
TZOFFSETTO:-0700
TZNAME:PDT
DTSTART:20210314T100000
END:DAYLIGHT
BEGIN:STANDARD
TZOFFSETFROM:-0700
TZOFFSETTO:-0800
TZNAME:PST
DTSTART:20211107T090000
END:STANDARD
BEGIN:DAYLIGHT
TZOFFSETFROM:-0800
TZOFFSETTO:-0700
TZNAME:PDT
DTSTART:20220313T100000
END:DAYLIGHT
BEGIN:STANDARD
TZOFFSETFROM:-0700
TZOFFSETTO:-0800
TZNAME:PST
DTSTART:20221106T090000
END:STANDARD
BEGIN:DAYLIGHT
TZOFFSETFROM:-0800
TZOFFSETTO:-0700
TZNAME:PDT
DTSTART:20230312T100000
END:DAYLIGHT
BEGIN:STANDARD
TZOFFSETFROM:-0700
TZOFFSETTO:-0800
TZNAME:PST
DTSTART:20231105T090000
END:STANDARD
END:VTIMEZONE
BEGIN:VEVENT
DTSTART;TZID=America/Los_Angeles:20221115T103000
DTEND;TZID=America/Los_Angeles:20221115T143000
DTSTAMP:20260424T001259
CREATED:20221102T044603Z
LAST-MODIFIED:20221112T161548Z
UID:14974-1668508200-1668522600@jbauctioneers.net
SUMMARY:OCEANSIDE - AUTO AUCTION
DESCRIPTION:Presented By:Auctions the 1st and 3rd Tuesdays of each monthPUBLIC AUTO AUCTIONUp to 80 Selected Vehicles\nTuesday November 15th @ 10:30am1060 Airport Rd. (in the Oceanside location towing yard)Oceanside 92058Phone. 760-722-6686For a map and directions\, click here\nHere are some photos of vehicles available at this week’s S&R Towing auction.Vehicles posted are subject to change without notice.Click on any of the images below to see the larger picture.*** RUNNERS ***\n\n\n\n\nno images were found \n\n\n*** TRAILERS / NON-RUNNERS ***\n\n\n\nno images were found \n\n\n\nTo download a copy of the list in Adobe pdf format\, Click here\n\n\n\n\n\n\n\n	Lot #Call #YearMakeModelPlateExpVINMilesS/T\n\n\n\n\n	1760131996FLEETWOOD5TH WHEEL1FW29051EM5A2726T9312044\n\n\n	2842592009VolkswagenCC6KGT055WVWML73CX9E563712\n\n\n	3835861992PontiacFirebird8GBD3651G2FS23F2NL211517\n\n\n	4817161996GMCSafariV4250421GDDM19W9TB511584\n\n\n	586109PT2000ChevroletEXPRESS 25006H946591GCFG25R6Y1203747\n\n\n	6838122003BMW3 SeriesNAWBAET37413NJ37282\n\n\n	7837962002ChevroletSUBURBAN 15003GNEC16T12G206809\n\n\n	8842332003DodgeNeon5BLC9431B3ES56C83D171642\n\n\n	9835312004NissanFrontier7L660831N6DD26TX4C410230T\n\n\n	10837712000InfinitiQ458MBT472JNKBY31A4YM700696\n\n\n	11838222008BMW3 Series6EAE884WBAWR33518P153365\n\n\n	12812882000MitsubishiEclipse8LBG6694A3AC44G0YE132665SAL\n\n\n	13839452000ToyotaCamry4LVL957JT2BG22K1Y0449559\n\n\n	14803901999ToyotaCorolla4KGK0831NXBR12E4XZ183382\n\n\n	15839402008Saab3-Sep7VKE948YS3FB49Y281149450\n\n\n	16842052000HondaAccord6TVS570JHMCG5673YC003638\n\n\n	17768491992ChevroletC15004N452182GCEC19H1N1251066\n\n\n	18839222002LexusGS300JT8BD69S220165828\n\n\n	19775752002FordExplorer5AND5031FMYU60E82UC86208\n\n\n	20818821997IsuzuRodeo4RRZ3634S2CM58VXV4330067\n\n\n	21799411996HondaPassport8JAM4894S6CM58V4T4400724\n\n\n	22840522007CadillacDTS8UKY2731G6KD57Y47U189215\n\n\n	23836781993ToyotaPrevia4BXP197JT3AC12RXP1081806\n\n\n	24817311997NissanPathfinder3XDD295JN8AR05S6VW186656\n\n\n	25821492012KiaOptima7FPW9015XXGN4A74CG059350\n\n\n	26831902000MazdaProtege4LBM664JM1BJ2226Y0279546\n\n\n	2786694M2003ChryslerPT Cruiser5EDA4213C8FY58B23T638066T\n\n\n	28838352001ToyotaSienna4T3ZF13C41U366803\n\n\n	2986692M2005ScionxB7YYT406JTLKT324854023788T\n\n\n	30863881970Mercedes-Benz280S846PFA10801610045703T\n\n\n	31758422003FordF-150VILOBOS1FTRX17L33NB42763\n\n\n	32790092002ToyotaSienna4YGG9504T3ZF19C82U503525\n\n\n	33843362013ToyotaCorolla6ZBG7885YFBU4EEXDP104452\n\n\n	35814232005BMW3 Series7YZE453WBABD33445PL07910\n\n\n	36837252010MINICooper7AER644 WMWMF3C52ATU79575\n\n\n	37845892001FordMustang8JID8161FAFP404X1F170399\n\n\n	38827352000ChevroletMonte Carlo8HQL7002G1WW12E4Y9167205\n\n\n	39830102000HondaAccord9BNY319 1HGCG6670YA153744\n\n\n	40834902005HondaCivic7EAU1233/2/20221HGEM22375L072057149067\n\n\n	41836362014ChevroletCruzeCJ808381G1PC5SB5E7181671182557OOS\n\n\n	42761782005MercuryGrand MarquisJGC52892MEFM74W35X66606959020OOS\n\n\n	43818881990LexusLS4007JFY9049/16/2022JT8UF11E9L0004650186579\n\n\n	44812052003KiaSpectra5UVD48110/16/2022KNAFB121335280663115574\n\n\n	45802781985ChevroletEl Camino2T5593511/30/20213GCCW80Z3FS92003631715\n\n\n	46795462005HondaOdyssey7T0E8687/24/20205FNRL38445B418836197237\n\n\n	47827942006SciontC7ASM0285/14/2022JTKDE177360113387332055S/T\n\n\n	48857912004AcuraMDX5GMU2272/8/20212HNYD18914H519831206631T\n\n\n	49838532007ToyotaTacoma8L260645/31/20235TEJU62N27Z427419478390T\n\n\n	50760092000DodgeRAM 3500 PICKUP8W002828/31/20221B7MF3361YJ126004240050\n\n\n	51794942000HondaCR-V4MRV5689/2/2022JHLRD186XYC054249157146\n\n\n	52837492008NissanAltima6LHA234 6/2/20231N4BL24E08C192327160891\n\n\n	53825172010ToyotaCamry6TEX91810/24/20224T1BF3EK8AU052789201190\n\n\n	54774572011FordFlex6NDG834 6/28/20222FMHK6DTXBBD03756124415\n\n\n	55814072013FordF-15098399F111/30/20211FTFX1EF0DKD30417239019\n\n\n	5686978H1992FordF-25099974W212/31/20201FTHX25M7NKB11727\n\n\n	57870962014HYUNGENESIS8ARB06810/18/2018KMHHT6KDKEU12006898337\n\n\n	58870951997HONDACIVIC3TGZ07210/2/20162HGEJ6673VH51082641283\n\n\n\n\n\n\n\n\nTERMS AND CONDITIONS\n\nBuyers fees: Dealers & Dismantlers $35.00\nGeneral Public $65.00\n$200.00 cash deposit required to bid\nAll vehicles must be paid for in full CASH ONLY at the conclusion of the auction\nAll vehicles must be removed by Friday following the auction\nLien sale vehicles sold to the general public are sold as is with all vaults and defects\, you are required to pay all DMV back registration and obtain a smog certificate before receiving your title from the DMV\, sales tax for your purchase will be paid directly to the DMV upon submission of the lien sale packet you will receive at the conclusion of the auction. Out of state buyers\, check with your local DMV to be sure that they will accept California lien sale documents for registration in your state.\nFor more info call direct 760-722-6686
URL:https://jbauctioneers.net/event/oceanside-auto-auction-20221115/
LOCATION:S&R Towing\, 1060 Airport Rd.\, Oceanside\, CA\, 92058\, United States
END:VEVENT
END:VCALENDAR