BEGIN:VCALENDAR
VERSION:2.0
PRODID:-//Joe Bradley Auctioneers - ECPv6.15.20//NONSGML v1.0//EN
CALSCALE:GREGORIAN
METHOD:PUBLISH
X-WR-CALNAME:Joe Bradley Auctioneers
X-ORIGINAL-URL:https://jbauctioneers.net
X-WR-CALDESC:Events for Joe Bradley Auctioneers
REFRESH-INTERVAL;VALUE=DURATION:PT1H
X-Robots-Tag:noindex
X-PUBLISHED-TTL:PT1H
BEGIN:VTIMEZONE
TZID:America/Los_Angeles
BEGIN:DAYLIGHT
TZOFFSETFROM:-0800
TZOFFSETTO:-0700
TZNAME:PDT
DTSTART:20210314T100000
END:DAYLIGHT
BEGIN:STANDARD
TZOFFSETFROM:-0700
TZOFFSETTO:-0800
TZNAME:PST
DTSTART:20211107T090000
END:STANDARD
BEGIN:DAYLIGHT
TZOFFSETFROM:-0800
TZOFFSETTO:-0700
TZNAME:PDT
DTSTART:20220313T100000
END:DAYLIGHT
BEGIN:STANDARD
TZOFFSETFROM:-0700
TZOFFSETTO:-0800
TZNAME:PST
DTSTART:20221106T090000
END:STANDARD
BEGIN:DAYLIGHT
TZOFFSETFROM:-0800
TZOFFSETTO:-0700
TZNAME:PDT
DTSTART:20230312T100000
END:DAYLIGHT
BEGIN:STANDARD
TZOFFSETFROM:-0700
TZOFFSETTO:-0800
TZNAME:PST
DTSTART:20231105T090000
END:STANDARD
END:VTIMEZONE
BEGIN:VEVENT
DTSTART;TZID=America/Los_Angeles:20221207T123500
DTEND;TZID=America/Los_Angeles:20221207T123500
DTSTAMP:20260423T224008
CREATED:20221103T032710Z
LAST-MODIFIED:20221202T170144Z
UID:15036-1670416500-1670416500@jbauctioneers.net
SUMMARY:OTAY MESA - AUTO AUCTION
DESCRIPTION:Presented By: PUBLIC AUTO AUCTIONUp to 70 Lien Sale VehiclesWednesday December 7th  @ 12:35pm(Preview 12:00pm) Auctions held Wednesdays*** NEW LOCATION ***Otay Valley Rd & Heritage Rd\, Chula Vista(Look for signs to the new facility from this location\, actual site is up the hill on 738 Heritage Rd.)Phone: 619-694-7809For a map and directions\, click here Here are some photos of vehicles available at this week’s Western Towing Auto Auction.Click on any of the images below to see the larger picture.\n\n\n\nno images were found \n\n\n\nTo download a copy of the list in Adobe pdf format\, Click here.\n\n\n\n\n\n\n	NOCONTROLYEAR/MAKEMODELREF NOLS/T\n\n\n\n\n	122-346309 DODGECALIBER298153LS\n\n\n	222-302306 BMW650i293115LS\n\n\n	322-331706 MAZDA3296607LS\n\n\n	422-303001 FORDFOCUS293188LS\n\n\n	5TITLE2011 TOYOTACOROLLAN/ATITLE\n\n\n	622-211304 TOYOTATUNDRAN/ATITLE\n\n\n	722-340401 PONTIACMONTANA297278LS\n\n\n	822-341999 HONDAACCORD297739LS\n\n\n	922-346401 MITSUBISHIGALANT298215LS\n\n\n	1022-326698 DODGENEON295615LS\n\n\n	1122-336900 GMCSAFARI297185LS\n\n\n	1222-340792 MERCEDES400SE297591LS\n\n\n	1322-300914 NISSANROGUE292350LS\n\n\n	1422-347795 MERCEDESC220298366LS\n\n\n	1522-279297 MITSUBISHIMONTERO290633LS\n\n\n	1622-336207 BMW335i297023LS\n\n\n	1722-350602 NISSANALTIMA298708LS\n\n\n	1822-345308 NISSANALTIMA297974LS\n\n\n	1922-316607 SATURNVUE294736LS\n\n\n	2022-328005 DODGESTRATUS295998LS\n\n\n	2122-177904 FORDEXPEDITION279222LS\n\n\n	2222-342191 HONDAACCORD297743LS\n\n\n	2322-346202 FORDEXPLORER298093LS\n\n\n	2422-345906 NISSANSENTRA297919LS\n\n\n	2522-351198 HONDACIVIC298617LS\n\n\n	2622-340506 MINICOOPER297619LS\n\n\n	2722-342505 CHEVROLETEQUINOX297729LS\n\n\n	2822-294107 DODGECHARGER291958LS\n\n\n	2922-268300 TOYOTATUNDRA289441LS\n\n\n	3022-329804 CHEVROLETIMPALA296220LS\n\n\n	3122-322107 PONTIACTORRENT295351LS\n\n\n	3222-326093 HONDACIVIC295493LS\n\n\n	3322-344511 FORDFUSION298210LS\n\n\n	3422-007808 JEEPPATRIOT259944LS\n\n\n	3522-318601 CHEVROLETSILVERADO294905LS\n\n\n	3622-283512 FORDESCAPE290935LS\n\n\n	3722-331604 FORDF150296606LS\n\n\n	3822-350507 INFINITIM35298705LS\n\n\n	3922-302298 DODGERAM293105LS\n\n\n	4019-106373 VOLKSWAGENBEETLE114080LS\n\n\n	4122-342001 TOYOTARAV4297721LS\n\n\n	4222-334205 CHRYSLERSEBRING296851LS\n\n\n	4322-342405 KIAOPTIMA297733LS\n\n\n	4422-335501 LEXUSLS430296921LS\n\n\n	4522-278602 FORDEXPEDITION290422LS\n\n\n	4622-339503 GMCYUKON297265LS\n\n\n	4721-116886 CHEVROLETD30230779LS\n\n\n	4822-348889 TOYOTACOROLLA298532LS\n\n\n	4922-356503 DODGERAM299197LS\n\n\n	5022-303186 DODGERAM VAN293229LS\n\n\n\n\n\n\n\nTERMS AND CONDITIONS\n\nCash Only – All Sales are Final\n$200.00 refundable cash deposit to bid\nRefunds are available anytime during auction\nAll cars must be paid for and picked up by 4pm on Thursday ( no exceptions )\nAdditional deposits are required on vehicle’s over $1000.00\nLien sale vehicles sold to the general public are sold as is with all vaults and defects\, you are required to pay all DMV back registration and obtain a smog certificate before receiving your title from the DMV\, sales tax for your purchase will be paid directly to the DMV upon submission of the lien sale packet you will receive at the conclusion of the auction. Out of state buyers\, check with your local DMV to be sure that they will accept California lien sale documents for registration in your state.
URL:https://jbauctioneers.net/event/otay-mesa-auto-auction-20221207/
LOCATION:Western Towing\, 738 Heritage Rd.\, San Diego\, CA\, 92154\, United States
END:VEVENT
END:VCALENDAR