BEGIN:VCALENDAR
VERSION:2.0
PRODID:-//Joe Bradley Auctioneers - ECPv6.15.20//NONSGML v1.0//EN
CALSCALE:GREGORIAN
METHOD:PUBLISH
X-WR-CALNAME:Joe Bradley Auctioneers
X-ORIGINAL-URL:https://jbauctioneers.net
X-WR-CALDESC:Events for Joe Bradley Auctioneers
REFRESH-INTERVAL;VALUE=DURATION:PT1H
X-Robots-Tag:noindex
X-PUBLISHED-TTL:PT1H
BEGIN:VTIMEZONE
TZID:America/Los_Angeles
BEGIN:DAYLIGHT
TZOFFSETFROM:-0800
TZOFFSETTO:-0700
TZNAME:PDT
DTSTART:20210314T100000
END:DAYLIGHT
BEGIN:STANDARD
TZOFFSETFROM:-0700
TZOFFSETTO:-0800
TZNAME:PST
DTSTART:20211107T090000
END:STANDARD
BEGIN:DAYLIGHT
TZOFFSETFROM:-0800
TZOFFSETTO:-0700
TZNAME:PDT
DTSTART:20220313T100000
END:DAYLIGHT
BEGIN:STANDARD
TZOFFSETFROM:-0700
TZOFFSETTO:-0800
TZNAME:PST
DTSTART:20221106T090000
END:STANDARD
BEGIN:DAYLIGHT
TZOFFSETFROM:-0800
TZOFFSETTO:-0700
TZNAME:PDT
DTSTART:20230312T100000
END:DAYLIGHT
BEGIN:STANDARD
TZOFFSETFROM:-0700
TZOFFSETTO:-0800
TZNAME:PST
DTSTART:20231105T090000
END:STANDARD
END:VTIMEZONE
BEGIN:VEVENT
DTSTART;TZID=America/Los_Angeles:20221214T123500
DTEND;TZID=America/Los_Angeles:20221214T123500
DTSTAMP:20260423T224007
CREATED:20221103T032853Z
LAST-MODIFIED:20221209T160829Z
UID:15035-1671021300-1671021300@jbauctioneers.net
SUMMARY:OTAY MESA - AUTO AUCTION
DESCRIPTION:Presented By: PUBLIC AUTO AUCTIONUp to 70 Lien Sale VehiclesWednesday December 14th  @ 12:35pm(Preview 12:00pm) Auctions held Wednesdays*** NEW LOCATION ***Otay Valley Rd & Heritage Rd\, Chula Vista(Look for signs to the new facility from this location\, actual site is up the hill on 738 Heritage Rd.)Phone: 619-694-7809For a map and directions\, click here Here are some photos of vehicles available at this week’s Western Towing Auto Auction.Click on any of the images below to see the larger picture.\n\n\n\nno images were found \n\n\n\nTo download a copy of the list in Adobe pdf format\, Click here.\n\n\n\n\n\n\n	NOCONTROLYEAR/MAKEMODELREF#LS/T\n\n\n\n\n	122-344300 ACURA3.2TL298269LS\n\n\n	222-349405 BMW325i298535LS\n\n\n	322-331404 LEXUSGS300296598LS\n\n\n	422-295096 NISSANSHORTBED292086LS\n\n\n	522-351795 TOYOTACAMRY298729LS\n\n\n	622-338599 TOYOTASOLARA297288LS\n\n\n	722-350994 HONDAACCORD298699LS\n\n\n	822-336605 CHRYSLERPT CRUISER297403LS\n\n\n	922-333209 TOYOTAMATRIX296437LS\n\n\n	1022-337802 TOYOTARAV4297378LS\n\n\n	1122-309607 SCIONTC293832LS\n\n\n	1222-340202 HONDAODYSSEY297571LS\n\n\n	1322-353805 TOYOTACOROLLA298952LS\n\n\n	1422-202504 BMW745i282687LS\n\n\n	1522-359914 CHEVROLETCRUZE299878LS\n\n\n	1622-326112 NISSANALTIMA295625LS\n\n\n	1722-358802 VOLVOV70299456LS\n\n\n	1822-340002 HONDAACCORD297504LS\n\n\n	1922-343798 HONDACIVIC297980LS\n\n\n	2022-358305 TOYOTACAMRY299459LS\n\n\n	2122-346001 TOYOTAECHO298088LS\n\n\n	2222-331305 INFINITIG35296353LS\n\n\n	2322-344892 TOYOTACAMRY298103LS\n\n\n	2422-337406 MERCEDESC350297187LS\n\n\n	2522-354204 CHEVROLETCAVALIER298937LS\n\n\n	2622-345699 TOYOTA4RUNNER298218LS\n\n\n	2722-354099 CHRYSLERLHS298822LS\n\n\n	2822-349506 NISSANALTIMA298578LS\n\n\n	2922-342307 FORDFUSION297636LS\n\n\n	3020-332913 BMW328i214215LS\n\n\n	3121-1346a17 AUDIQ7232482LS\n\n\n	3222-351001 FORDTAURUS298725LS\n\n\n	3322-317399 FORDTAURUS294650LS\n\n\n	3422-331504 FORDMUSTANG296601LS\n\n\n	3521-388812 CHEVROLETCOLORADO258098LS\n\n\n	3621-388712 GMCCANYON258096LS\n\n\n	3722-331100 BUICKCENTURY296495LS\n\n\n	3822-356698 FORDMUSTANG299205LS\n\n\n	3922-352891 NISSANSENTRA299074LS\n\n\n	4022-332281 CHEVROLETCAMARO296467LS\n\n\n	4122-317208 MERCURYMARINER294830LS\n\n\n	4222-351803 FORDWINDSTAR298734LS\n\n\n	4322-353406 MITSUBISHIENDEAVOR298940LS\n\n\n	4422-359506 LEXUSRX330299588LS\n\n\n	4522-363206 FORDEXPEDITION299837LS\n\n\n	4622-347502 FORDMUSTANG298332LS\n\n\n	4722-338298 FORDEXPEDITION297272LS\n\n\n	4822-359698 FORDEXPLORER299556LS\n\n\n	4922-353501 CHEVROLETTAHOE299085LS\n\n\n	5022-330389 CHEVROLETK1500296252LS\n\n\n\n\n\n\n\nTERMS AND CONDITIONS\n\nCash Only – All Sales are Final\n$200.00 refundable cash deposit to bid\nRefunds are available anytime during auction\nAll cars must be paid for and picked up by 4pm on Thursday ( no exceptions )\nAdditional deposits are required on vehicle’s over $1000.00\nLien sale vehicles sold to the general public are sold as is with all vaults and defects\, you are required to pay all DMV back registration and obtain a smog certificate before receiving your title from the DMV\, sales tax for your purchase will be paid directly to the DMV upon submission of the lien sale packet you will receive at the conclusion of the auction. Out of state buyers\, check with your local DMV to be sure that they will accept California lien sale documents for registration in your state.
URL:https://jbauctioneers.net/event/otay-mesa-auto-auction-20221214/
LOCATION:Western Towing\, 738 Heritage Rd.\, San Diego\, CA\, 92154\, United States
END:VEVENT
END:VCALENDAR