BEGIN:VCALENDAR
VERSION:2.0
PRODID:-//Joe Bradley Auctioneers - ECPv6.15.20//NONSGML v1.0//EN
CALSCALE:GREGORIAN
METHOD:PUBLISH
X-WR-CALNAME:Joe Bradley Auctioneers
X-ORIGINAL-URL:https://jbauctioneers.net
X-WR-CALDESC:Events for Joe Bradley Auctioneers
REFRESH-INTERVAL;VALUE=DURATION:PT1H
X-Robots-Tag:noindex
X-PUBLISHED-TTL:PT1H
BEGIN:VTIMEZONE
TZID:America/Los_Angeles
BEGIN:DAYLIGHT
TZOFFSETFROM:-0800
TZOFFSETTO:-0700
TZNAME:PDT
DTSTART:20220313T100000
END:DAYLIGHT
BEGIN:STANDARD
TZOFFSETFROM:-0700
TZOFFSETTO:-0800
TZNAME:PST
DTSTART:20221106T090000
END:STANDARD
BEGIN:DAYLIGHT
TZOFFSETFROM:-0800
TZOFFSETTO:-0700
TZNAME:PDT
DTSTART:20230312T100000
END:DAYLIGHT
BEGIN:STANDARD
TZOFFSETFROM:-0700
TZOFFSETTO:-0800
TZNAME:PST
DTSTART:20231105T090000
END:STANDARD
BEGIN:DAYLIGHT
TZOFFSETFROM:-0800
TZOFFSETTO:-0700
TZNAME:PDT
DTSTART:20240310T100000
END:DAYLIGHT
BEGIN:STANDARD
TZOFFSETFROM:-0700
TZOFFSETTO:-0800
TZNAME:PST
DTSTART:20241103T090000
END:STANDARD
END:VTIMEZONE
BEGIN:VEVENT
DTSTART;TZID=America/Los_Angeles:20230201T123500
DTEND;TZID=America/Los_Angeles:20230201T123500
DTSTAMP:20260423T191906
CREATED:20230113T213439Z
LAST-MODIFIED:20230127T183740Z
UID:15736-1675254900-1675254900@jbauctioneers.net
SUMMARY:OTAY MESA - AUTO AUCTION
DESCRIPTION:Presented By: PUBLIC AUTO AUCTIONUp to 70 Lien Sale VehiclesWednesday February 1st  @ 12:35pm(Preview 12:00pm) Auctions held Wednesdays*** NEW LOCATION ***Otay Valley Rd & Heritage Rd\, Chula Vista(Look for signs to the new facility from this location\, actual site is up the hill on 738 Heritage Rd.)Phone: 619-694-7809For a map and directions\, click here Here are some photos of vehicles available at this week’s Western Towing Auto Auction.Click on any of the images below to see the larger picture.\n\n\n\nno images were found \n\n\n\nTo download a copy of the list in Adobe pdf format\, Click here.\n\n\n\n\n\n\n	NOCONTROLYEAR/MAKEMODELREF NOLS/T\n\n\n\n\n	123-014108 NISSANVERSA304119LS\n\n\n	223-007203 VOLKSWAGENBEETLE303502LS\n\n\n	322-373495 SUBARUIMPREZA301603LS\n\n\n	423-024806 MAZDA3305579LS\n\n\n	523-004498 SUBARUIMPREZA303179LS\n\n\n	622-361800 INFINTII30299381LS\n\n\n	723-007408 VOLKSWAGENGTI303597LS\n\n\n	823-021201 INFINITII30305160LS\n\n\n	922-313301 NISSANFRONTIER294433LS\n\n\n	1023-000210 VOLVOV50302661LS\n\n\n	1122-369005 HYUNDAISONATA300992LS\n\n\n	1222-371901 CHEVROLETSILVERADO301204LS\n\n\n	1323-005199 SUBARULEGACY303181LS\n\n\n	1422-370305 NISSANMURANO301078LS\n\n\n	1522-340610 DODGECHARGER297601LS\n\n\n	1623-006392 OLDSMOBILECUTLASS303462LS\n\n\n	1723-007786 CHEVROLETCORVETTE303750LS\n\n\n	1823-010496 DODGESTRATUS303604LS\n\n\n	1923-005702 MERCEDESC-CLASS303322LS\n\n\n	2023-011002 MAZDA626303747LS\n\n\n	2123-006604 DODGENEON303627LS\n\n\n	2222-326900 FORDEXPEDITION295715LS\n\n\n	2322-378706 SCIONTC302008LS\n\n\n	2423-004509 TOYOTACOROLLA303245LS\n\n\n	2523-022701 NISSANMAXIMA305221LS\n\n\n	2623-029106 JAGUARXK305951LS\n\n\n	2723-025500 NISSANALTIMA305766LS\n\n\n	2822-379109 HYUNDAISONATA301993LS\n\n\n	2921-224115 HYUNDAISONATA241545TITLE\n\n\n	3022-264310 MERCEDESE-CLASS289225TITLE\n\n\n	3123-023803 MAZDAB2300305391LS\n\n\n	3223-019201 BUICKCENTURY304875LS\n\n\n	3323-028902 MERCEDESE320305944LS\n\n\n	3423-026205 NISSANSENTRA305474LS\n\n\n	3523-024109 VOLKSWAGENRABBIT305368LS\n\n\n	3622-379298 INFINTIQX4301994LS\n\n\n	3722-349903 GMCSIERRA298570LS\n\n\n	3822-353789 TOYOTA4RUNNER298939LS\n\n\n	3923-017199 HONDACIVIC304474LS\n\n\n	4023-001398 SATURNSL2302814LS\n\n\n	4123-000799 JEEPGRD CHEROKEE302676LS\n\n\n	4223-018099 DODGEINTREPID304872LS\n\n\n	4323-029388 TOYOTAPICKUP305957LS\n\n\n	4423-022804 INFINITIG35305256LS\n\n\n	4522-362415 NISSANVERSA300048LS\n\n\n	4622-378801 CHEVROLETSUBURBAN302009LS\n\n\n	4722-300501 MERCEDESE320292967LS\n\n\n	4823-007698 HONDACIVIC303723LS\n\n\n	4923-016392 FORDE150304502LS\n\n\n	5022-378904 NISSANSENTRA301967LS\n\n\n\n\n\n\n\nTERMS AND CONDITIONS\n\nCash Only – All Sales are Final\n$200.00 refundable cash deposit to bid\nRefunds are available anytime during auction\nAll cars must be paid for and picked up by 4pm on Thursday ( no exceptions )\nAdditional deposits are required on vehicle’s over $1000.00\nLien sale vehicles sold to the general public are sold as is with all vaults and defects\, you are required to pay all DMV back registration and obtain a smog certificate before receiving your title from the DMV\, sales tax for your purchase will be paid directly to the DMV upon submission of the lien sale packet you will receive at the conclusion of the auction. Out of state buyers\, check with your local DMV to be sure that they will accept California lien sale documents for registration in your state.
URL:https://jbauctioneers.net/event/otay-mesa-auto-auction-20230201/
LOCATION:Western Towing\, 738 Heritage Rd.\, San Diego\, CA\, 92154\, United States
END:VEVENT
END:VCALENDAR