BEGIN:VCALENDAR
VERSION:2.0
PRODID:-//Joe Bradley Auctioneers - ECPv6.15.20//NONSGML v1.0//EN
CALSCALE:GREGORIAN
METHOD:PUBLISH
X-ORIGINAL-URL:https://jbauctioneers.net
X-WR-CALDESC:Events for Joe Bradley Auctioneers
REFRESH-INTERVAL;VALUE=DURATION:PT1H
X-Robots-Tag:noindex
X-PUBLISHED-TTL:PT1H
BEGIN:VTIMEZONE
TZID:America/Los_Angeles
BEGIN:DAYLIGHT
TZOFFSETFROM:-0800
TZOFFSETTO:-0700
TZNAME:PDT
DTSTART:20220313T100000
END:DAYLIGHT
BEGIN:STANDARD
TZOFFSETFROM:-0700
TZOFFSETTO:-0800
TZNAME:PST
DTSTART:20221106T090000
END:STANDARD
BEGIN:DAYLIGHT
TZOFFSETFROM:-0800
TZOFFSETTO:-0700
TZNAME:PDT
DTSTART:20230312T100000
END:DAYLIGHT
BEGIN:STANDARD
TZOFFSETFROM:-0700
TZOFFSETTO:-0800
TZNAME:PST
DTSTART:20231105T090000
END:STANDARD
BEGIN:DAYLIGHT
TZOFFSETFROM:-0800
TZOFFSETTO:-0700
TZNAME:PDT
DTSTART:20240310T100000
END:DAYLIGHT
BEGIN:STANDARD
TZOFFSETFROM:-0700
TZOFFSETTO:-0800
TZNAME:PST
DTSTART:20241103T090000
END:STANDARD
END:VTIMEZONE
BEGIN:VEVENT
DTSTART;TZID=America/Los_Angeles:20230404T103000
DTEND;TZID=America/Los_Angeles:20230404T143000
DTSTAMP:20260423T161802
CREATED:20230304T152932Z
LAST-MODIFIED:20230401T144350Z
UID:16302-1680604200-1680618600@jbauctioneers.net
SUMMARY:OCEANSIDE - AUTO AUCTION
DESCRIPTION:Presented By:Auctions the 1st and 3rd Tuesdays of each monthPUBLIC AUTO AUCTIONUp to 80 Selected Vehicles\nTuesday April 4th @ 10:30am1060 Airport Rd. (in the Oceanside location towing yard)Oceanside 92058Phone. 760-722-6686For a map and directions\, click here\nHere are some photos of vehicles available at this week’s S&R Towing auction.Vehicles posted are subject to change without notice.Click on any of the images below to see the larger picture.*** RUNNERS ***\n\n\n\n\nno images were found \n\n\n*** NON-RUNNERS ***\n\n\n\nno images were found \n\n\n\nTo download a copy of the list in Adobe pdf format\, Click here.\n\n\n\n\n\n\n\n	Call #LOT #YearMakeModelEXP DATEPlateVINOdometerSAL/TITLE\n\n\n\n\n	8901612006HondaElement8SMV8595J6YH17686L000518\n\n\n	9131122012SmartfortwoDISCOWMEEJ3BA7CK537517\n\n\n	9465832010FordExplorer8ZDR9701FMEU6FEXAUA19533\n\n\n	98662JB42005HyunELANTRA8PHY306 KMHDN46D15U946690\n\n\n	9446152007MercuryMilan8ZNV2573MEHM07Z17R613636\n\n\n	9433962002HondaAccord6UCE5541HGCF86652A102852\n\n\n	9655472001ToyotaCamry7NEC173JT2BF22K210318195T\n\n\n	9545781998HondaCivic7LFP452JHMEJ6623WS007583\n\n\n	9528492002HondaAccord6UDL8631HGCG16502A036349SAL\n\n\n	97011102007HondaFit417FHBJHMGD38627S020244T\n\n\n	95604112003HondaAccord5EBF7741HGCM66543A089238\n\n\n	93576122002BMW3 SeriesHYZ4163WBAEV53472KM01424\n\n\n	93510132004PontiacGrand PrixBEZ8862G2WP522941372601\n\n\n	95241142006ChevroletCobaltKJY45541G1AK55F667743473\n\n\n	94488152006NissanAltima5SHL1701N4BL11E56C142406\n\n\n	95150162003DodgeGrand Caravan7JIV5982D4GP34303R179914SAL\n\n\n	97066172009ToyotaCamry6ENN9724T4BE46K79R070631T\n\n\n	92940182003KiaSpectra7ZVB345KNAFB121335244052SAL\n\n\n	94407192003HondaAccord5WCR8941HGCM66503A020546\n\n\n	91815202001BMW5 Series4SHZ788WBADT63411CF07709\n\n\n	91557212004ToyotaMatrix8JOZ7392T1KR32EX4C228575T\n\n\n	96103221997Toyota4Runner8YEN461JT3GN87R1V0040540\n\n\n	92817231997HondaAccord6CVR1601HGCD5645VA095649\n\n\n	82310241994ChevroletS10 Blazer3JAD1851GNCS13W0R0132001\n\n\n	90292251998PlymouthVoyager5MYN0232P4FP25B5WR740519SAL\n\n\n	93229261997FordEscort3WBX6541FALP13P3VW318258\n\n\n	92676271994HondaCivic del Sol5PGA417JHMEG1148RS004628SAL\n\n\n	95127282003ToyotaTacoma7E858675TEVL52N93Z259819\n\n\n	92498292017RamRam Pickup 150016078B33C6RR6KT8HG521067\n\n\n	87030302004DodgeRam 150092153A21D7HA18N24S753938SAL\n\n\n	94304311989CHEVCorvette5KIM947 1G1YY2183K5102029\n\n\n	93909322006CHEVSilverado426ZY3GCEC14T76G141241\n\n\n	60559331994FordF-4504W616181FDLF47G7REA25785\n\n\n	98604P341997HondaAccord7ULJ5521HGCE6678VA000613\n\n\n	98601P352000NissanQuest4MHP8614N2XN11T6YD825525\n\n\n	92028362013KIAFORTE6YPE149KNAFU4A28D5717239\n\n\n	37\n\n\n	98236382012HondaCivicAM4728219XFB2F82CE031209T\n\n\n	94331392006BMW3 Series7BJA511WBAVB13506KX33463\n\n\n	94265402010BMW5 Series6LEF872WBANW1C57AC165171\n\n\n	95418411990TOYT4Runner6LZS277JT3VN39W8L8001908\n\n\n	95520422014TOYTCamry7FFA528 4T1BF1FK2EU849354\n\n\n	80008APOP UPTRAILER4SP72594CG688F1087210586\n\n\n	92692432011DodgeCharger6/12/20207AKK7152B3CL3CG9BH587295124404\n\n\n	93272442000HondaCivic3/12/20225YRK3232HGEJ6614YH555466201623\n\n\n	93446452011ChevroletCruze4/18/20216RRW5331G1PG5S91B7235285145378\n\n\n	95135462004FordMustang4/28/2022JME48601FAFP44624F225850164500\n\n\n	93506472010ChryslerSebring11/8/20226PJC3281C3CC5FD8AN133500142382\n\n\n	93086482009BMW6 Series12/26/2020AT53C81WBAEB53549CX64513102013\n\n\n	93508492006NissanXterraOOSKJR66225N1AN08U56C560502167233\n\n\n	91171501999HondaAccord4/22/2021AU04C041HGCG1650XA036214234076\n\n\n	94566512006NissanAltima2/2/20236HOY6541N4AL11E36C139242215837\n\n\n	94659522008FordFusion2/18/20207JFD4773FAHP07198R266647159529\n\n\n	94826532004ChevroletAvalanche9/30/20227P737713GNEC12T84G332755251176\n\n\n	94206542009ToyotaCamry Hybrid6/20/20216EGZ278JTNBB46K3930502101\n\n\n	93124552011NissanAltima6/28/20237BQM2091N4AL2AP3BN477181182980\n\n\n	92779561994FordRangerOOSXEL 9051FTDR15X9RPC04206235236\n\n\n	93511572001ChevroletImpala10/28/20214UQU7172G1WH55K519205520194067\n\n\n	98633TT582005FORDF-1504/30/2023S1914781FTPX14555NB39024206559\n\n\n	98631TT592005ToyotaCorolla7/20/20225NNM513 1NXBR32E75Z539378229848\n\n\n	98634TT602012KIAFORTE2/2/20226TTA577 KNAFU4A21C5548535143192\n\n\n	94487612005KIAAmanti10/12/2020KNALD12455507051353204SAL\n\n\n	97747TT622012DODGEGrand Caravan5/28/20238WKC321 2C4RDGDG5CR109656228786\n\n\n	92833632012RAMRAM 15009/30/20164688801 1C6RD7GP0CS13653886948\n\n\n	98656TT642002MERZCL-CLASS7/25/20225DAB654WDBPJ75J72A028928\n\n\n	98635TT651997JEEPGRANDOOSSD66921J4GX78Y0VC775279150150\n\n\n	98663TT661974WNBGO9/26/2022560YTMF44CD9V724721\n\n\n\n\n\n\n\n\nTERMS AND CONDITIONS\n\nBuyers fees: Dealers & Dismantlers $35.00\nGeneral Public $65.00\n$200.00 cash deposit required to bid\nAll vehicles must be paid for in full CASH ONLY at the conclusion of the auction\nAll vehicles must be removed by Friday following the auction\nLien sale vehicles sold to the general public are sold as is with all vaults and defects\, you are required to pay all DMV back registration and obtain a smog certificate before receiving your title from the DMV\, sales tax for your purchase will be paid directly to the DMV upon submission of the lien sale packet you will receive at the conclusion of the auction. Out of state buyers\, check with your local DMV to be sure that they will accept California lien sale documents for registration in your state.\nFor more info call direct 760-722-6686
URL:https://jbauctioneers.net/event/oceanside-auto-auction-20230404/
LOCATION:S&R Towing\, 1060 Airport Rd.\, Oceanside\, CA\, 92058\, United States
END:VEVENT
END:VCALENDAR