BEGIN:VCALENDAR
VERSION:2.0
PRODID:-//Joe Bradley Auctioneers - ECPv6.15.20//NONSGML v1.0//EN
CALSCALE:GREGORIAN
METHOD:PUBLISH
X-ORIGINAL-URL:https://jbauctioneers.net
X-WR-CALDESC:Events for Joe Bradley Auctioneers
REFRESH-INTERVAL;VALUE=DURATION:PT1H
X-Robots-Tag:noindex
X-PUBLISHED-TTL:PT1H
BEGIN:VTIMEZONE
TZID:America/Los_Angeles
BEGIN:DAYLIGHT
TZOFFSETFROM:-0800
TZOFFSETTO:-0700
TZNAME:PDT
DTSTART:20220313T100000
END:DAYLIGHT
BEGIN:STANDARD
TZOFFSETFROM:-0700
TZOFFSETTO:-0800
TZNAME:PST
DTSTART:20221106T090000
END:STANDARD
BEGIN:DAYLIGHT
TZOFFSETFROM:-0800
TZOFFSETTO:-0700
TZNAME:PDT
DTSTART:20230312T100000
END:DAYLIGHT
BEGIN:STANDARD
TZOFFSETFROM:-0700
TZOFFSETTO:-0800
TZNAME:PST
DTSTART:20231105T090000
END:STANDARD
BEGIN:DAYLIGHT
TZOFFSETFROM:-0800
TZOFFSETTO:-0700
TZNAME:PDT
DTSTART:20240310T100000
END:DAYLIGHT
BEGIN:STANDARD
TZOFFSETFROM:-0700
TZOFFSETTO:-0800
TZNAME:PST
DTSTART:20241103T090000
END:STANDARD
END:VTIMEZONE
BEGIN:VEVENT
DTSTART;TZID=America/Los_Angeles:20230405T123500
DTEND;TZID=America/Los_Angeles:20230405T123500
DTSTAMP:20260423T161801
CREATED:20230304T153253Z
LAST-MODIFIED:20230331T215030Z
UID:16306-1680698100-1680698100@jbauctioneers.net
SUMMARY:OTAY MESA - AUTO AUCTION
DESCRIPTION:Presented By: PUBLIC AUTO AUCTIONUp to 70 Lien Sale VehiclesWednesday April 5th  @ 12:35pm(Preview 12:00pm) Auctions held Wednesdays*** NEW LOCATION ***Otay Valley Rd & Heritage Rd\, Chula Vista(Look for signs to the new facility from this location\, actual site is up the hill on 738 Heritage Rd.)Phone: 619-694-7809For a map and directions\, click here Here are some photos of vehicles available at this week’s Western Towing Auto Auction.Click on any of the images below to see the larger picture.\n\n\n\nno images were found \n\n\n\nTo download a copy of the list in Adobe pdf format\, Click here.\n\n\n\n\n\n\n	NOCONTROLYEAR/MAKEMODELREF#LS/T\n\n\n\n\n	123-069104 TOYOTASOLARA311317LS\n\n\n	223-043207 ACURATSX307892LS\n\n\n	323-051899 MERCURYGRD MARQUIS308723LS\n\n\n	423-051692 FORDEXPLORER308432LS\n\n\n	523-069901 TOYOTAHIGHLANDER311245LS\n\n\n	622-349799 DODGEDAKOTA298629LS\n\n\n	723-070404 MERCEDESC240311448LS\n\n\n	823-068904 HONDAACCORD311156LS\n\n\n	923-066601 NISSANMAXIMA310795LS\n\n\n	1023-076697 MERCEDESE-CLASS311973LS\n\n\n	1123-079297 HONDAACCORD312111LS\n\n\n	1223-045302 CHEVROLETTAHOE307873LS\n\n\n	1323-075102 AUDIA6311845LS\n\n\n	1421-240312 VOLKSWAGENPASSAT243487LS\n\n\n	1523-075796 FORDTAURUS311842LS\n\n\n	1623-080000 ACURAINTEGRA312233LS\n\n\n	1722-317695 GMCSIERRA294846LS\n\n\n	1823-075204 ACURATSX311894LS\n\n\n	1923-079404 TOYOTAAVALON312369LS\n\n\n	2023-075600 TOYOTAAVALON311838LS\n\n\n	2123-057008 MERCEDESE-CLASS309584LS\n\n\n	2223-051901 GMC2500308902LS\n\n\n	2323-078791 CHEVROLETS10312244LS\n\n\n	2423-051407 MAZDACX-7308731LS\n\n\n	2523-056301 BMW325ci309420LS\n\n\n	2622-380609 JEEPLIBERTY302397LS\n\n\n	2723-064209 BMW535i310573LS\n\n\n	2823-076404 ACURATSX311986LS\n\n\n	2923-074106 HONDAACCORD301331LS\n\n\n	3023-019706 SCIONTC304736LS\n\n\n	3123-066806 SCIONXB310708LS\n\n\n	3223-076903 OLDSMOBILEALERO311856LS\n\n\n	3323-073990 TOYOTATERCEL311725LS\n\n\n	3422-362415 NISSANVERSA300048LS\n\n\n	3523-055608 ACURATL309392LS\n\n\n	3623-079604 BMWX3312077LS\n\n\n	3723-088704 VOLKSWAGENGOLF313602LS\n\n\n	3823-083906 ACURAMDX313229LS\n\n\n	3923-045199 GMCYUKON307860LS\n\n\n	4023-074006 CHEVROLETSILVERADO311775LS\n\n\n	4123-053509 HONDAACCORD309143LS\n\n\n	4222-210402 HONDACIVIC283596LS\n\n\n	4323-081703 BMW530i312749LS\n\n\n	4423-084004 CADILLACDEVILLE313277LS\n\n\n	4523-083806 FORDF150313246LS\n\n\n	4623-010606 DODGERAM303711LS\n\n\n	4723-072905 LINCOLNLS311603LS\n\n\n	4823-061901 GMCSIERRA310174LS\n\n\n	4923-011304 CHEVROLETEXPRESS303952LS\n\n\n	5022-298607 BMW530i292690LS\n\n\n	5122-359209 KIARONDO299562LS\n\n\n\n\n\n\n\nTERMS AND CONDITIONS\n\nCash Only – All Sales are Final\n$200.00 refundable cash deposit to bid\nRefunds are available anytime during auction\nAll cars must be paid for and picked up by 4pm on Thursday ( no exceptions )\nAdditional deposits are required on vehicle’s over $1000.00\nLien sale vehicles sold to the general public are sold as is with all vaults and defects\, you are required to pay all DMV back registration and obtain a smog certificate before receiving your title from the DMV\, sales tax for your purchase will be paid directly to the DMV upon submission of the lien sale packet you will receive at the conclusion of the auction. Out of state buyers\, check with your local DMV to be sure that they will accept California lien sale documents for registration in your state.
URL:https://jbauctioneers.net/event/otay-mesa-auto-auction-20230405/
LOCATION:Western Towing\, 738 Heritage Rd.\, San Diego\, CA\, 92154\, United States
END:VEVENT
END:VCALENDAR