BEGIN:VCALENDAR
VERSION:2.0
PRODID:-//Joe Bradley Auctioneers - ECPv6.15.20//NONSGML v1.0//EN
CALSCALE:GREGORIAN
METHOD:PUBLISH
X-WR-CALNAME:Joe Bradley Auctioneers
X-ORIGINAL-URL:https://jbauctioneers.net
X-WR-CALDESC:Events for Joe Bradley Auctioneers
REFRESH-INTERVAL;VALUE=DURATION:PT1H
X-Robots-Tag:noindex
X-PUBLISHED-TTL:PT1H
BEGIN:VTIMEZONE
TZID:America/Los_Angeles
BEGIN:DAYLIGHT
TZOFFSETFROM:-0800
TZOFFSETTO:-0700
TZNAME:PDT
DTSTART:20220313T100000
END:DAYLIGHT
BEGIN:STANDARD
TZOFFSETFROM:-0700
TZOFFSETTO:-0800
TZNAME:PST
DTSTART:20221106T090000
END:STANDARD
BEGIN:DAYLIGHT
TZOFFSETFROM:-0800
TZOFFSETTO:-0700
TZNAME:PDT
DTSTART:20230312T100000
END:DAYLIGHT
BEGIN:STANDARD
TZOFFSETFROM:-0700
TZOFFSETTO:-0800
TZNAME:PST
DTSTART:20231105T090000
END:STANDARD
BEGIN:DAYLIGHT
TZOFFSETFROM:-0800
TZOFFSETTO:-0700
TZNAME:PDT
DTSTART:20240310T100000
END:DAYLIGHT
BEGIN:STANDARD
TZOFFSETFROM:-0700
TZOFFSETTO:-0800
TZNAME:PST
DTSTART:20241103T090000
END:STANDARD
END:VTIMEZONE
BEGIN:VEVENT
DTSTART;TZID=America/Los_Angeles:20230412T123500
DTEND;TZID=America/Los_Angeles:20230412T123500
DTSTAMP:20260423T161730
CREATED:20230407T151551Z
LAST-MODIFIED:20230407T153534Z
UID:16733-1681302900-1681302900@jbauctioneers.net
SUMMARY:OTAY MESA - AUTO AUCTION
DESCRIPTION:Presented By: PUBLIC AUTO AUCTIONUp to 70 Lien Sale VehiclesWednesday April 12th  @ 12:35pm(Preview 12:00pm) Auctions held Wednesdays*** NEW LOCATION ***Otay Valley Rd & Heritage Rd\, Chula Vista(Look for signs to the new facility from this location\, actual site is up the hill on 738 Heritage Rd.)Phone: 619-694-7809For a map and directions\, click here Here are some photos of vehicles available at this week’s Western Towing Auto Auction.Click on any of the images below to see the larger picture.\n\n\n\nno images were found \n\n\n\nTo download a copy of the list in Adobe pdf format\, Click here.\n\n\n\n\n\n\n	NOCONTROLYEAR/MAKEMODELREF NOLS/T\n\n\n\n\n	123-085805 FORDMUSTANG313202LS\n\n\n	223-094505 GMCENVOY314234LS\n\n\n	323-090908 CHEVROLETMALIBU313719LS\n\n\n	423-072806 CHEVEROLETHHR311601LS\n\n\n	523-088108 FORDFUSION313620LS\n\n\n	623-090400 HONDACRV313713LS\n\n\n	723-083603 MERCEDESE CLASS313055LS\n\n\n	823-087699 FORDEXPLORER313559LS\n\n\n	923-081901 KIASPECTRA312755LS\n\n\n	1023-083412 VOLKSWAGENJETTA313343LS\n\n\n	1123-090606 BMW325i313710LS\n\n\n	1223-087302 FORDF150313500LS\n\n\n	1323-089805 FORDTAURUS313718LS\n\n\n	1423-073091 CHEVROLETGMT400311686LS\n\n\n	1523-078905 CHEVROLETIMPALA312248LS\n\n\n	1623-092303 VOLKSWAGENJETTA313934LS\n\n\n	1723-059106 HONDAACCORD309752LS\n\n\n	1823-091303 MERCEDESE320313910LS\n\n\n	1923-082097 HONDAACCORD312932LS\n\n\n	2023-074905 CHEVROLETMALIBU311943LS\n\n\n	2122-303612 VOLVOS60249698LS\n\n\n	2223-034305 NISSANALTIMA306662LS\n\n\n	2323-064702 TOYOTAECHO310586LS\n\n\n	2423-073704 NISSANALTIMA311782LS\n\n\n	2522-145277 CHEVROLETNOVA275747LS\n\n\n	2623-055302 CHEVROLETAVALANCHE309480LS\n\n\n	2723-084599 INFINITII30313203LS\n\n\n	2823-088307 VOLKSWAGENPASSAT313578LS\n\n\n	2923-080708 AUDIA4312680LS\n\n\n	3023-090107 FORDRANGER313734LS\n\n\n	3123-091013 DODGEAVENGER313720LS\n\n\n	3223-094711 HYUNDAISONATA313697LS\n\n\n	3323-018610 NISSANMAXIMA304638LS\n\n\n	3423-047699 TOYOTA4RUNNER308141LS\n\n\n	3523-062002 JEEPLIBERTY310182LS\n\n\n	3623-076303 FORDWINDSTAR311960LS\n\n\n	3723-076002 FORDEXPLORER311864LS\n\n\n	3823-087901 SATURNLS313558LS\n\n\n	3923-000210 VOLVOV50302661LS\n\n\n	4023-078503 FORDEXPLORER312103LS\n\n\n	4123-073810 DODGECHARGER311795LS\n\n\n	4223-081602 TOYOTAPRIUS312781LS\n\n\n	4323-074823 KIAFORTE311852LS\n\n\n	4423-081898 FORDF150312782LS\n\n\n	4523-084484 FORDF250313212LS\n\n\n	4623-090599 GMCYUKON313711LS\n\n\n	4723-026402 CHEVROLETSILVERADO305606LS\n\n\n	4823-017715 VOLKSWAGENPASSAT304635LS\n\n\n	4923-084395 FORDF250313209LS\n\n\n	5021-296809 CHEVROLETEXPRESS248671LS\n\n\n\n\n\n\n\nTERMS AND CONDITIONS\n\nCash Only – All Sales are Final\n$200.00 refundable cash deposit to bid\nRefunds are available anytime during auction\nAll cars must be paid for and picked up by 4pm on Thursday ( no exceptions )\nAdditional deposits are required on vehicle’s over $1000.00\nLien sale vehicles sold to the general public are sold as is with all vaults and defects\, you are required to pay all DMV back registration and obtain a smog certificate before receiving your title from the DMV\, sales tax for your purchase will be paid directly to the DMV upon submission of the lien sale packet you will receive at the conclusion of the auction. Out of state buyers\, check with your local DMV to be sure that they will accept California lien sale documents for registration in your state.
URL:https://jbauctioneers.net/event/otay-mesa-auto-auction-20230412/
LOCATION:Western Towing\, 738 Heritage Rd.\, San Diego\, CA\, 92154\, United States
END:VEVENT
END:VCALENDAR