BEGIN:VCALENDAR
VERSION:2.0
PRODID:-//Joe Bradley Auctioneers - ECPv6.15.20//NONSGML v1.0//EN
CALSCALE:GREGORIAN
METHOD:PUBLISH
X-WR-CALNAME:Joe Bradley Auctioneers
X-ORIGINAL-URL:https://jbauctioneers.net
X-WR-CALDESC:Events for Joe Bradley Auctioneers
REFRESH-INTERVAL;VALUE=DURATION:PT1H
X-Robots-Tag:noindex
X-PUBLISHED-TTL:PT1H
BEGIN:VTIMEZONE
TZID:America/Los_Angeles
BEGIN:DAYLIGHT
TZOFFSETFROM:-0800
TZOFFSETTO:-0700
TZNAME:PDT
DTSTART:20220313T100000
END:DAYLIGHT
BEGIN:STANDARD
TZOFFSETFROM:-0700
TZOFFSETTO:-0800
TZNAME:PST
DTSTART:20221106T090000
END:STANDARD
BEGIN:DAYLIGHT
TZOFFSETFROM:-0800
TZOFFSETTO:-0700
TZNAME:PDT
DTSTART:20230312T100000
END:DAYLIGHT
BEGIN:STANDARD
TZOFFSETFROM:-0700
TZOFFSETTO:-0800
TZNAME:PST
DTSTART:20231105T090000
END:STANDARD
BEGIN:DAYLIGHT
TZOFFSETFROM:-0800
TZOFFSETTO:-0700
TZNAME:PDT
DTSTART:20240310T100000
END:DAYLIGHT
BEGIN:STANDARD
TZOFFSETFROM:-0700
TZOFFSETTO:-0800
TZNAME:PST
DTSTART:20241103T090000
END:STANDARD
END:VTIMEZONE
BEGIN:VEVENT
DTSTART;TZID=America/Los_Angeles:20230503T123500
DTEND;TZID=America/Los_Angeles:20230503T123500
DTSTAMP:20260423T143832
CREATED:20230407T151751Z
LAST-MODIFIED:20230429T044924Z
UID:16736-1683117300-1683117300@jbauctioneers.net
SUMMARY:OTAY MESA - AUTO AUCTION
DESCRIPTION:Presented By: PUBLIC AUTO AUCTIONUp to 70 Lien Sale VehiclesWednesday May 3rd  @ 12:35pm(Preview 12:00pm) Auctions held Wednesdays*** NEW LOCATION ***Otay Valley Rd & Heritage Rd\, Chula Vista(Look for signs to the new facility from this location\, actual site is up the hill on 738 Heritage Rd.)Phone: 619-694-7809For a map and directions\, click here Here are some photos of vehicles available at this week’s Western Towing Auto Auction.Click on any of the images below to see the larger picture.\n\n\n\nno images were found \n\n\n\nTo download a copy of the list in Adobe pdf format\, Click here.\n\n\n\n\n\n\n	NOCONTROLYEAR/MAKEMODELREF NOLS/T\n\n\n\n\n	122-212014 HYUNDAIACCENT283409LS\n\n\n	222-177612 CHEVROLETCRUZE279494LS\n\n\n	322-192915 FORDFIESTA281427LS\n\n\n	423-106304 NISSANXTERRA315812LS\n\n\n	523-105202 LEXUSES315773LS\n\n\n	623-102803 HONDACIVIC315448LS\n\n\n	723-076203 FORDESCAPE312033LS\n\n\n	823-098203 GMCSAFARI314938LS\n\n\n	922-311414 DODGECARAVAN294202LS\n\n\n	1023-103313 DODGEAVENGER315406LS\n\n\n	1123-090810 JEEPCOMPASS313717LS\n\n\n	1223-098197 JEEPGRD CHEROKEE314853LS\n\n\n	1319-274307 HYUNDAIENTOURAGEN/ATITLE\n\n\n	1423-084207 BMW750312990LS\n\n\n	1523-011813 CHEVROLETSONIC303858LS\n\n\n	1622-142213 BUICKVERANO275326LS\n\n\n	1723-079310 JEEPLIBERTY312351LS\n\n\n	1823-054906 HONDACIVIC309428LS\n\n\n	1922-176316 CHEVROLETSONIC279089LS\n\n\n	2022-146213 CHEVROLETSONIC275629LS\n\n\n	2123-076804 TOYOTARAV4311951LS\n\n\n	2223-102109 NISSANALTIMA315003LS\n\n\n	2323-067207 HONDACIVIC310956LS\n\n\n	2422-150912 MAZDA2276568LS\n\n\n	2523-066701 FORDRANGER310932LS\n\n\n	2621-208909 BMWX5239830LS\n\n\n	2723-049602 FORDTAURUS308468LS\n\n\n	2822-101613 NISSANSENTRA270106LS\n\n\n	2922-136714 MINICOOPER274920LS\n\n\n	3021-370008 LINCOLNMKZ256379LS\n\n\n	3122-052111 JEEPCOMPASS264861LS\n\n\n	3223-112905 HONDAACCORD316600LS\n\n\n	3323-105399 TOYOTACOROLLA315822LS\n\n\n	3423-106111 TOYOTACOROLLA315663LS\n\n\n	3523-111406 HONDAACCORD316492LS\n\n\n	3623-108900 FORDF150316120LS\n\n\n	3723-110314 TOYOTACAMRY316274LS\n\n\n	3823-085604 GMCSIERRA313358LS\n\n\n	3923-092913 HYUNDAIELANTRA313882LS\n\n\n	4022-069714 KIASOUL266953LS\n\n\n	4123-053509 HONDAACCORD309143LS\n\n\n	4223-109504 GMCENVOY316162LS\n\n\n	4323-109001 CHEVROLETSILVERADO316097LS\n\n\n	4423-030202 TOYOTACAMRY306067LS\n\n\n	4523-112803 CHEVROLETIMPALA316513LS\n\n\n	4622-260669 MERCURYCOUGAR288127LS\n\n\n	4723-026402 CHEVROLETSILVERADO305606LS\n\n\n	4823-058964 CADILLACDEVILLE309270LS\n\n\n	4920-065595 CHEVROLETC2500185732LS\n\n\n	5022-298607 BMW530292690LS\n\n\n	5122-298607 BMW530292690LS\n\n\n\n\n\n\n\nTERMS AND CONDITIONS\n\nCash Only – All Sales are Final\n$200.00 refundable cash deposit to bid\nRefunds are available anytime during auction\nAll cars must be paid for and picked up by 4pm on Thursday ( no exceptions )\nAdditional deposits are required on vehicle’s over $1000.00\nLien sale vehicles sold to the general public are sold as is with all vaults and defects\, you are required to pay all DMV back registration and obtain a smog certificate before receiving your title from the DMV\, sales tax for your purchase will be paid directly to the DMV upon submission of the lien sale packet you will receive at the conclusion of the auction. Out of state buyers\, check with your local DMV to be sure that they will accept California lien sale documents for registration in your state.
URL:https://jbauctioneers.net/event/otay-mesa-auto-auction-20230503/
LOCATION:Western Towing\, 738 Heritage Rd.\, San Diego\, CA\, 92154\, United States
END:VEVENT
END:VCALENDAR