BEGIN:VCALENDAR
VERSION:2.0
PRODID:-//Joe Bradley Auctioneers - ECPv6.15.20//NONSGML v1.0//EN
CALSCALE:GREGORIAN
METHOD:PUBLISH
X-ORIGINAL-URL:https://jbauctioneers.net
X-WR-CALDESC:Events for Joe Bradley Auctioneers
REFRESH-INTERVAL;VALUE=DURATION:PT1H
X-Robots-Tag:noindex
X-PUBLISHED-TTL:PT1H
BEGIN:VTIMEZONE
TZID:America/Los_Angeles
BEGIN:DAYLIGHT
TZOFFSETFROM:-0800
TZOFFSETTO:-0700
TZNAME:PDT
DTSTART:20220313T100000
END:DAYLIGHT
BEGIN:STANDARD
TZOFFSETFROM:-0700
TZOFFSETTO:-0800
TZNAME:PST
DTSTART:20221106T090000
END:STANDARD
BEGIN:DAYLIGHT
TZOFFSETFROM:-0800
TZOFFSETTO:-0700
TZNAME:PDT
DTSTART:20230312T100000
END:DAYLIGHT
BEGIN:STANDARD
TZOFFSETFROM:-0700
TZOFFSETTO:-0800
TZNAME:PST
DTSTART:20231105T090000
END:STANDARD
BEGIN:DAYLIGHT
TZOFFSETFROM:-0800
TZOFFSETTO:-0700
TZNAME:PDT
DTSTART:20240310T100000
END:DAYLIGHT
BEGIN:STANDARD
TZOFFSETFROM:-0700
TZOFFSETTO:-0800
TZNAME:PST
DTSTART:20241103T090000
END:STANDARD
END:VTIMEZONE
BEGIN:VEVENT
DTSTART;TZID=America/Los_Angeles:20230510T123500
DTEND;TZID=America/Los_Angeles:20230510T123500
DTSTAMP:20260423T143950
CREATED:20230407T151713Z
LAST-MODIFIED:20230506T063424Z
UID:16735-1683722100-1683722100@jbauctioneers.net
SUMMARY:OTAY MESA - AUTO AUCTION
DESCRIPTION:Presented By: PUBLIC AUTO AUCTIONUp to 70 Lien Sale VehiclesWednesday May 10th  @ 12:35pm(Preview 12:00pm) Auctions held Wednesdays*** NEW LOCATION ***Otay Valley Rd & Heritage Rd\, Chula Vista(Look for signs to the new facility from this location\, actual site is up the hill on 738 Heritage Rd.)Phone: 619-694-7809For a map and directions\, click here Here are some photos of vehicles available at this week’s Western Towing Auto Auction.Click on any of the images below to see the larger picture.\n\n\n\nno images were found \n\n\n\nTo download a copy of the list in Adobe pdf format\, Click here.\n\n\n\n\n\n\n	NOCONTROLYEAR/MAKEMODELREF NOLS/T\n\n\n\n\n	123-035804 TOYOTAPRIUS307038LS\n\n\n	223-092200 HONDAACCORD314043LS\n\n\n	322-291712 HYUNDAISONATA292184LS\n\n\n	423-116397 TOYOTACAMRY316996LS\n\n\n	523-112111 NISSANSENTRA316280LS\n\n\n	623-110499 NISSANFRONTIER316278LS\n\n\n	723-084908 BMW328i312964LS\n\n\n	823-111705 NISSANQUEST316382LS\n\n\n	921-360208 BMW650i255382LS\n\n\n	1023-100207 TOYOTASOLARA314720LS\n\n\n	1123-118300 FORDEXPEDITION317354LS\n\n\n	1222-289017 TOYOTACOROLLA291589LS\n\n\n	1323-118205 AUDIA4317352LS\n\n\n	1423-117991 NISSANNX317454LS\n\n\n	1523-085000 TOYOTACAMRY312943LS\n\n\n	1623-115001 JEEPGRD CHEROKEE316737LS\n\n\n	1723-111209 NISSANARMADA316397LS\n\n\n	1823-112002 TOYOTACAMRY316369LS\n\n\n	1923-103605 JAGUARS-TYPE315438LS\n\n\n	2023-116102 INFINITII35317039LS\n\n\n	2123-048906 FORDEXPLORER308345LS\n\n\n	2223-111699 HONDACIVIC316368LS\n\n\n	2323-112501 TOYOTASIENNA316418LS\n\n\n	2423-105706 SCIONTC315542LS\n\n\n	2523-116708 NISSANSENTRA317129LS\n\n\n	2622-338308 BMWX5297275LS\n\n\n	2723-099504 TOYOTACAMRY314806LS\n\n\n	2823-097901 MERCURYMONTERO314843LS\n\n\n	2923-106803 MITSUBISHIECLIPSE315837LS\n\n\n	3023-121403 FORD RANGER317742LS\n\n\n	3123-119007 VOLKSWAGENBEETLE317462LS\n\n\n	3223-118001 NISSANXTERRA317346LS\n\n\n	3323-118402 BMW325i317474LS\n\n\n	3423-111109 BMW328i316342LS\n\n\n	3523-062110 HYUNDAIELANTRA310213LS\n\n\n	3623-117501 ACURATL317225LS\n\n\n	3723-120705 FORDF150317463LS\n\n\n	3823-102794 DODGEDAKOTA315214LS\n\n\n	3923-055893 CHEVROLETG SERIES VAN309570LS\n\n\n	4023-117301 HONDACIVIC317447LS\n\n\n	4123-110703 HONDAODYSSEY316610LS\n\n\n	4223-116402 CHRYSLERVOYAGER317103LS\n\n\n	4323-110802 FORDEXPEDITION316612LS\n\n\n	4423-087503 MINICOOPER313465LS\n\n\n	4523-140107 PONTIACG6319812LS\n\n\n	4623-103506 HONDAACCORD315431LS\n\n\n	4723-031694 FORDE150306011LS\n\n\n	48N/A00 CHEVROLETTAHOEN/AN/A\n\n\n	4923-111506 FORDE250 VAN316326LS\n\n\n	5023-085189 DODGERAM VAN313234LS\n\n\n\n\n\n\n\nTERMS AND CONDITIONS\n\nCash Only – All Sales are Final\n$200.00 refundable cash deposit to bid\nRefunds are available anytime during auction\nAll cars must be paid for and picked up by 4pm on Thursday ( no exceptions )\nAdditional deposits are required on vehicle’s over $1000.00\nLien sale vehicles sold to the general public are sold as is with all vaults and defects\, you are required to pay all DMV back registration and obtain a smog certificate before receiving your title from the DMV\, sales tax for your purchase will be paid directly to the DMV upon submission of the lien sale packet you will receive at the conclusion of the auction. Out of state buyers\, check with your local DMV to be sure that they will accept California lien sale documents for registration in your state.
URL:https://jbauctioneers.net/event/otay-mesa-auto-auction-20230510/
LOCATION:Western Towing\, 738 Heritage Rd.\, San Diego\, CA\, 92154\, United States
END:VEVENT
END:VCALENDAR