BEGIN:VCALENDAR
VERSION:2.0
PRODID:-//Joe Bradley Auctioneers - ECPv6.15.20//NONSGML v1.0//EN
CALSCALE:GREGORIAN
METHOD:PUBLISH
X-WR-CALNAME:Joe Bradley Auctioneers
X-ORIGINAL-URL:https://jbauctioneers.net
X-WR-CALDESC:Events for Joe Bradley Auctioneers
REFRESH-INTERVAL;VALUE=DURATION:PT1H
X-Robots-Tag:noindex
X-PUBLISHED-TTL:PT1H
BEGIN:VTIMEZONE
TZID:America/Los_Angeles
BEGIN:DAYLIGHT
TZOFFSETFROM:-0800
TZOFFSETTO:-0700
TZNAME:PDT
DTSTART:20220313T100000
END:DAYLIGHT
BEGIN:STANDARD
TZOFFSETFROM:-0700
TZOFFSETTO:-0800
TZNAME:PST
DTSTART:20221106T090000
END:STANDARD
BEGIN:DAYLIGHT
TZOFFSETFROM:-0800
TZOFFSETTO:-0700
TZNAME:PDT
DTSTART:20230312T100000
END:DAYLIGHT
BEGIN:STANDARD
TZOFFSETFROM:-0700
TZOFFSETTO:-0800
TZNAME:PST
DTSTART:20231105T090000
END:STANDARD
BEGIN:DAYLIGHT
TZOFFSETFROM:-0800
TZOFFSETTO:-0700
TZNAME:PDT
DTSTART:20240310T100000
END:DAYLIGHT
BEGIN:STANDARD
TZOFFSETFROM:-0700
TZOFFSETTO:-0800
TZNAME:PST
DTSTART:20241103T090000
END:STANDARD
END:VTIMEZONE
BEGIN:VEVENT
DTSTART;TZID=America/Los_Angeles:20230516T103000
DTEND;TZID=America/Los_Angeles:20230516T143000
DTSTAMP:20260423T143832
CREATED:20230427T211952Z
LAST-MODIFIED:20230513T135211Z
UID:17074-1684233000-1684247400@jbauctioneers.net
SUMMARY:OCEANSIDE - AUTO AUCTION
DESCRIPTION:Presented By:Auctions the 1st and 3rd Tuesdays of each monthPUBLIC AUTO AUCTIONUp to 80 Selected Vehicles\nTuesday May 16th @ 10:30am1060 Airport Rd. (in the Oceanside location towing yard)Oceanside 92058Phone. 760-722-6686For a map and directions\, click here\nHere are some photos of vehicles available at this week’s S&R Towing auction.Vehicles posted are subject to change without notice.Click on any of the images below to see the larger picture.*** MOTORCYCLES ***\n\n\n\n\nno images were found \n\n\n*** RUNNERS ***\n\n\n\n\nno images were found \n\n\n*** NON-RUNNERS ***\n\n\n\nno images were found \n\n\n\nTo download a copy of the list in Adobe pdf format\, Click here.\n\n\n\n\n\n\n\n	Call #Auction #YearMakeModelEXP DATEPlateVINODOMETERTITLE/SAL\n\n\n\n\n	10065312011HondaAccord6NVX8771HGCP2F35BA022239T\n\n\n	8496021995Toyota4Runner3WYS244JT3VN29V2S0059673\n\n\n	9707732013KiaOptima6ZFE4465XXGN4A7XDG163472\n\n\n	9883642014SubaruForester8HNZ100JF2SJAAC8EH490265\n\n\n	9574252007Chrysler3006AAK0222C3KA43R67H855643\n\n\n	10033862004ToyotaCamry8MTA0904T1BE32K44U310771T\n\n\n	9854072015NissanVersa9BJE8423N1CN7APXFL841549\n\n\n	9705082007HyundaiSONATA7POJ9305NPEU46F47H179802\n\n\n	9812292000HondaAccord9DNU2913HGCG6659YG702759\n\n\n	99238102013HyundaiVELOSTER8WGM963KMHTC6AD2DU095230\n\n\n	99103112000HondaPrelude6YEY295JHMBB6246YC006125\n\n\n	99582122008InfinitiG376SGH804JNKCV64E98M109325\n\n\n	97289132003VolvoS407LWV168YV1VS27553F005848\n\n\n	101136142002WildernessNorthwest1KL96041ED5G312221585489T\n\n\n	99639152005ToyotaAvalon5PLD5004T1BK36B05U047912T\n\n\n	100064162005MazdaMazda68KCE9401YVHP80CX55M56616T\n\n\n	92694172002ToyotaMR2 SpyderN/AJTDFR320720042070SAL\n\n\n	80942182005DodgeMagnum7SYY2232D4FV48T55H619183\n\n\n	97945191990HondaCRX8DDJ202JHMED9367LS013835SAL\n\n\n	98675202014ChevEquinox7GNK192 2GNALAEK6E6371164\n\n\n	99149211994AcuraIntegra5NCZ896JH4DC4353RS043786\n\n\n	99146222003MazdaMazda65YMV8131YVHP80D235M03768\n\n\n	100515232010ToyotaCamry6WOB5044T1BK3EK0AU602756T\n\n\n	98534242010InfinitiG37 Sedan8EJC879JN1CV6AR9AM252941\n\n\n	99206252002HondaAccord5JTS1231HGCG22562A007000\n\n\n	99227261999FordMustang4FSM4951FAFP45X0XF176529\n\n\n	91326272005InfinitiG356CYT381JNKCV54E35M417693\n\n\n	92347282006AudiA35UNB852WAUMF78P56A169067\n\n\n	97454292015HyundaiELANTRA7KKJ7055NPDH4AE3FH636435\n\n\n	98306302000KiaSportage6RNP996KNDJB7232Y5675118\n\n\n	97331311998JeepGrand Cherokee6GSP6931J4GZ58Y2WC228482\n\n\n	90525322014DodgeGrand Caravan7EHD9292C4RDGBG4ER162354\n\n\n	33Trailer\n\n\n	102071TB342012FordFocus6YYW782 1FAHP3R47CL411555\n\n\n	81295352000ToyotaAvalonZHW7664T1BF28B3YU007369\n\n\n	99389362006NissanTitan35962G31N6AA07B66N574667T\n\n\n	98281372008BuellLightning XB12Scg20S04654MZWX03L983501261\n\n\n	100671382008HondaCBR 1000RR22T8954JH2SC59008M007249T\n\n\n	91114392006Harley-DavidsonSoftail Deuce21K04281HD1JBB196Y054201\n\n\n	9025402017Honda50021U7920MLHPC4411H5400113\n\n\n	76656412016KawasakiNinja 300 SE23F0300JKAEX8A13GDA26146\n\n\n	94907422003HondaCBR 600F4i20F9174JH2PC35163M400531\n\n\n	94995432001SuzukiGSX-R 60017M8513JS1GN7BA312108840\n\n\n	97506442016TriumphStreet Triple R ABSOSMTL03NE0GT749460\n\n\n	97034452002SuzukiGSX-R 75016D7892JS1GR7HA422101344\n\n\n	86251462006KawasakiNinja 250R20X0646JKAEXMF186DA24344\n\n\n	85378472014HondaCBR 500RNAMLHPC4468E5101788\n\n\n	89228482007SuzukiGSX-R 60020W0623JS1GN7DAX72120733\n\n\n	97669491996KawasakiEliminator 600242333JKAZL4B18TA011414\n\n\n	83222501972SurliCarrier1FT532116594\n\n\n	101193511949GMCSCHOOL BUSFC5376296JUNK \n\n\n	102020TT522005HondaCivic8UMZ3922HGES267X5H542761\n\n\n	102022TT532006FordMustang6SUG9101ZVFT80N165173014\n\n\n	97418542013HyundaiVELOSTER6/14/20233VSE423KMHTC6AD7DU084949125548\n\n\n	97175552004MINICooper2/2/20245FYY867WMWRE33404TD81443120052\n\n\n	76963562017HyundaiSONATA2/28/202234A 4CA5NPE24AF7HH501699159428\n\n\n	95446571999AcuraIntegra10/28/20236MWZ772JH4DC4451XS004478154457\n\n\n	97599582009NissanRogue12/2/20238SWC054JN8AS58V19W175707152728\n\n\n	98279591987VolksVanagon2/20/2022WESRFWV2YB0259HH091306214209\n\n\n	93512602007FordFocusOOSBLS56861FAFP34N27W331169132625\n\n\n	92549612013DodgeGrand Caravan9/26/2022DMQ28062C4RDGCG6DR643431174478\n\n\n	97966622006AcuraTLOOSNONE19UUA66216A054454199409\n\n\n	95986632010FordEscape1/26/20246RDG7381FMCU0D75AKB66198170954\n\n\n	62028642015MitsubishiOUTLANDER SPORTOOSSAC25484A4AP3AU7FE05945639105\n\n\n	98410652002FordRanger8/31/202214465L31FTYR14V52PB71342142303\n\n\n	96278662004ToyotaCamry Solara4/2/20225GWE5164T1FA38P74U025322175948\n\n\n	99036672001HondaCR-VOOS30D250JHLRD28451S002429192445\n\n\n	95325682003HondaOdyssey8/8/20225DQS7375FNRL180X3B136991227212\n\n\n\n\n\n\n\n\n\nTERMS AND CONDITIONS\n\nBuyers fees: Dealers & Dismantlers $35.00\nGeneral Public $65.00\n$200.00 cash deposit required to bid\nAll vehicles must be paid for in full CASH ONLY at the conclusion of the auction\nAll vehicles must be removed by Friday following the auction\nLien sale vehicles sold to the general public are sold as is with all vaults and defects\, you are required to pay all DMV back registration and obtain a smog certificate before receiving your title from the DMV\, sales tax for your purchase will be paid directly to the DMV upon submission of the lien sale packet you will receive at the conclusion of the auction. Out of state buyers\, check with your local DMV to be sure that they will accept California lien sale documents for registration in your state.\nFor more info call direct 760-722-6686
URL:https://jbauctioneers.net/event/oceanside-auto-auction-20230516/
LOCATION:S&R Towing\, 1060 Airport Rd.\, Oceanside\, CA\, 92058\, United States
END:VEVENT
END:VCALENDAR