BEGIN:VCALENDAR
VERSION:2.0
PRODID:-//Joe Bradley Auctioneers - ECPv6.15.20//NONSGML v1.0//EN
CALSCALE:GREGORIAN
METHOD:PUBLISH
X-ORIGINAL-URL:https://jbauctioneers.net
X-WR-CALDESC:Events for Joe Bradley Auctioneers
REFRESH-INTERVAL;VALUE=DURATION:PT1H
X-Robots-Tag:noindex
X-PUBLISHED-TTL:PT1H
BEGIN:VTIMEZONE
TZID:America/Los_Angeles
BEGIN:DAYLIGHT
TZOFFSETFROM:-0800
TZOFFSETTO:-0700
TZNAME:PDT
DTSTART:20220313T100000
END:DAYLIGHT
BEGIN:STANDARD
TZOFFSETFROM:-0700
TZOFFSETTO:-0800
TZNAME:PST
DTSTART:20221106T090000
END:STANDARD
BEGIN:DAYLIGHT
TZOFFSETFROM:-0800
TZOFFSETTO:-0700
TZNAME:PDT
DTSTART:20230312T100000
END:DAYLIGHT
BEGIN:STANDARD
TZOFFSETFROM:-0700
TZOFFSETTO:-0800
TZNAME:PST
DTSTART:20231105T090000
END:STANDARD
BEGIN:DAYLIGHT
TZOFFSETFROM:-0800
TZOFFSETTO:-0700
TZNAME:PDT
DTSTART:20240310T100000
END:DAYLIGHT
BEGIN:STANDARD
TZOFFSETFROM:-0700
TZOFFSETTO:-0800
TZNAME:PST
DTSTART:20241103T090000
END:STANDARD
END:VTIMEZONE
BEGIN:VEVENT
DTSTART;TZID=America/Los_Angeles:20230524T123500
DTEND;TZID=America/Los_Angeles:20230524T123500
DTSTAMP:20260423T143949
CREATED:20230427T211743Z
LAST-MODIFIED:20230518T132244Z
UID:17068-1684931700-1684931700@jbauctioneers.net
SUMMARY:OTAY MESA - AUTO AUCTION
DESCRIPTION:Presented By: PUBLIC AUTO AUCTIONUp to 70 Lien Sale VehiclesWednesday May 24th  @ 12:35pm(Preview 12:00pm) Auctions held Wednesdays*** NEW LOCATION ***Otay Valley Rd & Heritage Rd\, Chula Vista(Look for signs to the new facility from this location\, actual site is up the hill on 738 Heritage Rd.)Phone: 619-694-7809For a map and directions\, click here Here are some photos of vehicles available at this week’s Western Towing Auto Auction.Click on any of the images below to see the larger picture.\n\n\n\nno images were found \n\n\n\nTo download a copy of the list in Adobe pdf format\, Click here.\n\n\n\n\n\n\n	NOCONTROLYEAR/MAKEMODELREF NOLS/T\n\n\n\n\n	123-124103 CHRYSLERPT CRUISER318163LS\n\n\n	223-126105 AUDIA4318405LS\n\n\n	323-079111 SCIONTC312105LS\n\n\n	423-126596 CADILLACFLEETWOOD318392LS\n\n\n	523-133207 HONDACIVIC319061LS\n\n\n	623-111094 NISSANQUEST316704LS\n\n\n	723-124903 MERCEDESS430318035LS\n\n\n	823-084106 GMCENVOY313266LS\n\n\n	923-124402 MAZDAPROTÉGÉ318048LS\n\n\n	1023-121516 GMCTERRAIN317810LS\n\n\n	1123-116093 TOYOTACAMRY317034LS\n\n\n	1223-122403 SATURNVUE317847LS\n\n\n	1323-109613 VOLKSWAGENPASSAT301497LS\n\n\n	1423-122203 HONDAACCORD317807LS\n\n\n	1523-125113 KIAOPTIMA318343LS\n\n\n	1623-106609 VOLKSWAGENJETTA315752LS\n\n\n	1723-118703 GMCYUKON317273LS\n\n\n	1823-110994 BMW325i316620LS\n\n\n	1922-176316 CHEVROLETSONIC279089LS\n\n\n	2022-146213 CHEVROLETSONIC275629LS\n\n\n	2123-118807 NISSANALTIMA317464LS\n\n\n	2223-125296 TOYOTARAV4318135LS\n\n\n	2323-130405 HONDAACCORD318764LS\n\n\n	2423-130201 NISSANSENTRA318756LS\n\n\n	2523-129103 MITSUBISHILANCER318741LS\n\n\n	2622-233213 HYUNDAISANTA FE285045LS\n\n\n	2723-125094 GMCSIERRA318019LS\n\n\n	2823-124007 INFINITIM35318184LS\n\n\n	2923-133503 BMW325i319085LS\n\n\n	3022-264983 VOLKSWAGENVANAGON289206LS\n\n\n	3123-016012 HYUNDAIELANTRA304472LS\n\n\n	3223-100705 VOLKSWAGENPASSAT315024LS\n\n\n	3323-133496 NISSANMAXIMA319084LS\n\n\n	3423-129207 HONDAACCORD318716LS\n\n\n	3523-129901 FORDEXPLORER318828LS\n\n\n	3623-126302 BMW745i318473LS\n\n\n	3723-132803 CHEVROLETTRAILBLAZER319112LS\n\n\n	3823-128213 HONDAPILOT318607LS\n\n\n	3923-135799 MERCEDESCLK CLASS319238LS\n\n\n	4022-069714 KIASOUL266953LS\n\n\n	4123-130104 VOLKSWAGENPASSAT318728LS\n\n\n	4223-135221 NISSANKICKS319261LS\n\n\n	4323-128305 NISSANSENTRA318590LS\n\n\n	4421-173813 CHRYSLER200236220LS\n\n\n	4522-133107 ISUZUNPR BOX274240LS\n\n\n	4622-267193 FORDE350289474LS\n\n\n	4723-1258 98 DODGEDURANGON/ALS\n\n\n	4823-117298 FORD F150317338LS\n\n\n	4923-125910 HONDACIVIC318401LS\n\n\n	5023-132002 TOYOTASEQUOIA318955LS\n\n\n\n\n\n\n\nTERMS AND CONDITIONS\n\nCash Only – All Sales are Final\n$200.00 refundable cash deposit to bid\nRefunds are available anytime during auction\nAll cars must be paid for and picked up by 4pm on Thursday ( no exceptions )\nAdditional deposits are required on vehicle’s over $1000.00\nLien sale vehicles sold to the general public are sold as is with all vaults and defects\, you are required to pay all DMV back registration and obtain a smog certificate before receiving your title from the DMV\, sales tax for your purchase will be paid directly to the DMV upon submission of the lien sale packet you will receive at the conclusion of the auction. Out of state buyers\, check with your local DMV to be sure that they will accept California lien sale documents for registration in your state.
URL:https://jbauctioneers.net/event/otay-mesa-auto-auction-20230524/
LOCATION:Western Towing\, 738 Heritage Rd.\, San Diego\, CA\, 92154\, United States
END:VEVENT
END:VCALENDAR