BEGIN:VCALENDAR
VERSION:2.0
PRODID:-//Joe Bradley Auctioneers - ECPv6.15.20//NONSGML v1.0//EN
CALSCALE:GREGORIAN
METHOD:PUBLISH
X-WR-CALNAME:Joe Bradley Auctioneers
X-ORIGINAL-URL:https://jbauctioneers.net
X-WR-CALDESC:Events for Joe Bradley Auctioneers
REFRESH-INTERVAL;VALUE=DURATION:PT1H
X-Robots-Tag:noindex
X-PUBLISHED-TTL:PT1H
BEGIN:VTIMEZONE
TZID:America/Los_Angeles
BEGIN:DAYLIGHT
TZOFFSETFROM:-0800
TZOFFSETTO:-0700
TZNAME:PDT
DTSTART:20220313T100000
END:DAYLIGHT
BEGIN:STANDARD
TZOFFSETFROM:-0700
TZOFFSETTO:-0800
TZNAME:PST
DTSTART:20221106T090000
END:STANDARD
BEGIN:DAYLIGHT
TZOFFSETFROM:-0800
TZOFFSETTO:-0700
TZNAME:PDT
DTSTART:20230312T100000
END:DAYLIGHT
BEGIN:STANDARD
TZOFFSETFROM:-0700
TZOFFSETTO:-0800
TZNAME:PST
DTSTART:20231105T090000
END:STANDARD
BEGIN:DAYLIGHT
TZOFFSETFROM:-0800
TZOFFSETTO:-0700
TZNAME:PDT
DTSTART:20240310T100000
END:DAYLIGHT
BEGIN:STANDARD
TZOFFSETFROM:-0700
TZOFFSETTO:-0800
TZNAME:PST
DTSTART:20241103T090000
END:STANDARD
END:VTIMEZONE
BEGIN:VEVENT
DTSTART;TZID=America/Los_Angeles:20230614T123500
DTEND;TZID=America/Los_Angeles:20230614T123500
DTSTAMP:20260423T130537
CREATED:20230427T211509Z
LAST-MODIFIED:20230609T045511Z
UID:17065-1686746100-1686746100@jbauctioneers.net
SUMMARY:OTAY MESA - AUTO AUCTION
DESCRIPTION:Presented By: PUBLIC AUTO AUCTIONUp to 70 Lien Sale VehiclesWednesday June 7th  @ 12:35pm(Preview 12:00pm) Auctions held Wednesdays*** NEW LOCATION ***Otay Valley Rd & Heritage Rd\, Chula Vista(Look for signs to the new facility from this location\, actual site is up the hill on 738 Heritage Rd.)Phone: 619-694-7809For a map and directions\, click here Here are some photos of vehicles available at this week’s Western Towing Auto Auction.Click on any of the images below to see the larger picture.\n\n\n\n\nno images were found \n\n\n\nTo download a copy of the list in Adobe pdf format\, Click here.\n\n\n\n\n\n\n	NOCONTROLYEAR/MAKEMODELREF NOLS/T\n\n\n\n\n	123-129396 HONDACIVIC318743LS\n\n\n	221-316600 VOLKSWAGENGTI250485LS\n\n\n	321-358702 TOYOTAAVALONN/ALS\n\n\n	420-192402 MERCEDESC320199765LS\n\n\n	521-083908 PONTIACGRD PRIX227209LS\n\n\n	621-316811 MAZDA2250654LS\n\n\n	720-283905 NISSANALTIMA209076LS\n\n\n	823-132504 FORDEXPLORER319005LS\n\n\n	922-246603 SUBARULEGACY286672LS\n\n\n	1022-299805 HONDAACCORD293146LS\n\n\n	1122-267204 HYUNDAISANTA FE288456LS\n\n\n	1222-289017 TOYOTACOROLLA291589LS\n\n\n	1321-032412 FORDFIESTA222016LS\n\n\n	1423-132903 NISSANSENTRA318962LS\n\n\n	1522-114814 MERCEDESC250272134LS\n\n\n	1623-131899 MERCEDESML320318881LS\n\n\n	1721-127503 MERCEDESSL500232013LS\n\n\n	1822-225910 VOLKSWAGENTOUAREG284818LS\n\n\n	1923-130806 CHRYSLERPACIFICA318971LS\n\n\n	2023-133098 HONDAACCORD318988LS\n\n\n	2123-087805 DODGERAM 1500313476LS\n\n\n	2223-103108 VOLKSWAGENEOS315452LS\n\n\n	2323-085505 FORDRANGER312954LS\n\n\n	2422-361405 JEEPLIBERTY299621LS\n\n\n	2523-116708 NISSANSENTRA317129LS\n\n\n	2621-224704 MERCEDESE55241847LS\n\n\n	2721-167395 MERCURYSABLE235573LS\n\n\n	2823-092408 NISSANALTIMA313933LS\n\n\n	2921-166905 PONTIACG6235565LS\n\n\n	3023-121404 FORDRANGER317742LS\n\n\n	3123-131308 NISSANQUEST318884LS\n\n\n	3221-034804 DODGESTRATUS222147LS\n\n\n	3321-180706 HYUNDAISONATA236800LS\n\n\n	3421-346807 FORDMUSTANG253981LS\n\n\n	3521-317503 CHEVROLETTRAILBLAZER250588LS\n\n\n	3621-327901 HONDACIVIC251998LS\n\n\n	3723-041304 LEXUSES330307452LS\n\n\n	3823-102794 DODGEDAKOTA315214LS\n\n\n	3921-331510 MINICLUBMAN252316LS\n\n\n	4023-129403 SATURNVUE318832LS\n\n\n	4123-130104 VOLKSWAGENPASSAT318728LS\n\n\n	4223-092506 FORDEXPEDITION313931LS\n\n\n	4322-011707 MITSUBISHIOUTLANDER260387LS\n\n\n	4423-125405 HONDACIVIC318278LS\n\n\n	4523-105695 GMCSIERRA315326LS\n\n\n	4623-099484 CHEVROLETPICKUP314957LS\n\n\n	4723-130506 DODGEDAKOTA318878LS\n\n\n	4823-133716 TOYOTAPRIUS319106LS\n\n\n	4923-043508 MAZDA6307998LS\n\n\n	5022-083802 TOYOTASEQUOIA268469LS\n\n\n\n\n\n\n\nTERMS AND CONDITIONS\n\nCash Only – All Sales are Final\n$200.00 refundable cash deposit to bid\nRefunds are available anytime during auction\nAll cars must be paid for and picked up by 4pm on Thursday ( no exceptions )\nAdditional deposits are required on vehicle’s over $1000.00\nLien sale vehicles sold to the general public are sold as is with all vaults and defects\, you are required to pay all DMV back registration and obtain a smog certificate before receiving your title from the DMV\, sales tax for your purchase will be paid directly to the DMV upon submission of the lien sale packet you will receive at the conclusion of the auction. Out of state buyers\, check with your local DMV to be sure that they will accept California lien sale documents for registration in your state.
URL:https://jbauctioneers.net/event/otay-mesa-auto-auction-20230614/
LOCATION:Western Towing\, 738 Heritage Rd.\, San Diego\, CA\, 92154\, United States
END:VEVENT
END:VCALENDAR