BEGIN:VCALENDAR
VERSION:2.0
PRODID:-//Joe Bradley Auctioneers - ECPv6.15.20//NONSGML v1.0//EN
CALSCALE:GREGORIAN
METHOD:PUBLISH
X-ORIGINAL-URL:https://jbauctioneers.net
X-WR-CALDESC:Events for Joe Bradley Auctioneers
REFRESH-INTERVAL;VALUE=DURATION:PT1H
X-Robots-Tag:noindex
X-PUBLISHED-TTL:PT1H
BEGIN:VTIMEZONE
TZID:America/Los_Angeles
BEGIN:DAYLIGHT
TZOFFSETFROM:-0800
TZOFFSETTO:-0700
TZNAME:PDT
DTSTART:20220313T100000
END:DAYLIGHT
BEGIN:STANDARD
TZOFFSETFROM:-0700
TZOFFSETTO:-0800
TZNAME:PST
DTSTART:20221106T090000
END:STANDARD
BEGIN:DAYLIGHT
TZOFFSETFROM:-0800
TZOFFSETTO:-0700
TZNAME:PDT
DTSTART:20230312T100000
END:DAYLIGHT
BEGIN:STANDARD
TZOFFSETFROM:-0700
TZOFFSETTO:-0800
TZNAME:PST
DTSTART:20231105T090000
END:STANDARD
BEGIN:DAYLIGHT
TZOFFSETFROM:-0800
TZOFFSETTO:-0700
TZNAME:PDT
DTSTART:20240310T100000
END:DAYLIGHT
BEGIN:STANDARD
TZOFFSETFROM:-0700
TZOFFSETTO:-0800
TZNAME:PST
DTSTART:20241103T090000
END:STANDARD
END:VTIMEZONE
BEGIN:VEVENT
DTSTART;TZID=America/Los_Angeles:20230621T123500
DTEND;TZID=America/Los_Angeles:20230621T123500
DTSTAMP:20260423T130535
CREATED:20230427T211651Z
LAST-MODIFIED:20230616T134137Z
UID:17069-1687350900-1687350900@jbauctioneers.net
SUMMARY:OTAY MESA - AUTO AUCTION
DESCRIPTION:Presented By: PUBLIC AUTO AUCTIONUp to 70 Lien Sale VehiclesWednesday June 21st  @ 12:35pm(Preview 12:00pm) Auctions held Wednesdays*** NEW LOCATION ***Otay Valley Rd & Heritage Rd\, Chula Vista(Look for signs to the new facility from this location\, actual site is up the hill on 738 Heritage Rd.)Phone: 619-694-7809For a map and directions\, click here Here are some photos of vehicles available at this week’s Western Towing Auto Auction.Click on any of the images below to see the larger picture.\n\n\n\n\nno images were found \n\n\n\nTo download a copy of the list in Adobe pdf format\, Click here.\n\n\n\n\n\n\n	NOCONTROLYEAR/MAKEMODELREF NOLS/T\n\n\n\n\n	123-130911 MITSUBISHILANCER319104LS\n\n\n	223-152407 NISSANSENTRA321277LS\n\n\n	323-149609 NISSANALTIMA321005LS\n\n\n	423-152810 VOLKSWAGENJETTA321258LS\n\n\n	523-149706 VOLKSWAGENJETTA320993LS\n\n\n	623-151309 FORDFUSION321467LS\n\n\n	723-078803 FORDF150312094LS\n\n\n	823-146008 MAZDA3320684LS\n\n\n	923-151202 JEEPLIBERTY321461LS\n\n\n	1023-144295 FORDMUSTANG320261LS\n\n\n	1123-143998 HONDACIVIC320276LS\n\n\n	1223-154899 ACURATL321730LS\n\n\n	1323-109613 VOLKSWAGENPASSAT301497LS\n\n\n	1423-139001 HONDAACCORD319675LS\n\n\n	1523-136491 VOLVO240319637LS\n\n\n	1623-155597 TOYOTACAMRY321815LS\n\n\n	1723-118703 GMCYUKON317273LS\n\n\n	1823-136013 KIAOPTIMA319428LS\n\n\n	1923-154000 FORDRANGER321640LS\n\n\n	2023-106908 SATURNVUE315927LS\n\n\n	2123-151599 FORDTAURUS321612LS\n\n\n	2223-125296 TOYOTARAV4318135LS\n\n\n	2323-130405 HONDAACCORD318764LS\n\n\n	2423-139207 CHRYSLER300319685LS\n\n\n	2523-136897 TOYOTACOROLLA319483LS\n\n\n	2623-147109 SATURNOUTLOOK320698LS\n\n\n	2723-125714 NISSANSENTRA318158LS\n\n\n	2823-139312 NISSANALTIMA319690LS\n\n\n	2921-068096 JEEPGRD CHEROKEE225625LS\n\n\n	3022-142711 LEXUSIS250275310LS\n\n\n	3122-172014 HYUNDAIVELOSTER278877LS\n\n\n	32N/A08 TOYOTACAMRY314896TITLE\n\n\n	3322-331008 LEXUSIS296387LS\n\n\n	3423-012413 CADILLACCTS303533LS\n\n\n	3522-222012 AUDIA6284156LS\n\n\n	3623-106711 NISSANSENTRA315776LS\n\n\n	3722-221501 CHEVROLETSILVERADO284162LS\n\n\n	3822-093413 BMW328i269616LS\n\n\n	3922-138814 MERCEDESC-CLASS275025LS\n\n\n	4022-221402 CHEVROLETSUBURBAN284159LS\n\n\n	41N/A07 CHRYSLER300320510LS\n\n\n	4223-140694 FORDESCORT319660LS\n\n\n	4323-131195 NISSANPICKUP318879LS\n\n\n	4423-124608 NISSANROGUE318251LS\n\n\n	4523-151613 CADILLACATS321265LS\n\n\n	4623-140801 FORDRANGER319789LS\n\n\n	4723-144480 SUBARULEGACY320358LS\n\n\n	4823-137304 BMWX3319948LS\n\n\n	4923-129505 MERCEDESC-CLASS318757LS\n\n\n	5023-151099 GMCSUBURBAN321280LS\n\n\n\n\n\n\n\nTERMS AND CONDITIONS\n\nCash Only – All Sales are Final\n$200.00 refundable cash deposit to bid\nRefunds are available anytime during auction\nAll cars must be paid for and picked up by 4pm on Thursday ( no exceptions )\nAdditional deposits are required on vehicle’s over $1000.00\nLien sale vehicles sold to the general public are sold as is with all vaults and defects\, you are required to pay all DMV back registration and obtain a smog certificate before receiving your title from the DMV\, sales tax for your purchase will be paid directly to the DMV upon submission of the lien sale packet you will receive at the conclusion of the auction. Out of state buyers\, check with your local DMV to be sure that they will accept California lien sale documents for registration in your state.
URL:https://jbauctioneers.net/event/otay-mesa-auto-auction-20230621/
LOCATION:Western Towing\, 738 Heritage Rd.\, San Diego\, CA\, 92154\, United States
END:VEVENT
END:VCALENDAR