BEGIN:VCALENDAR
VERSION:2.0
PRODID:-//Joe Bradley Auctioneers - ECPv6.15.20//NONSGML v1.0//EN
CALSCALE:GREGORIAN
METHOD:PUBLISH
X-WR-CALNAME:Joe Bradley Auctioneers
X-ORIGINAL-URL:https://jbauctioneers.net
X-WR-CALDESC:Events for Joe Bradley Auctioneers
REFRESH-INTERVAL;VALUE=DURATION:PT1H
X-Robots-Tag:noindex
X-PUBLISHED-TTL:PT1H
BEGIN:VTIMEZONE
TZID:America/Los_Angeles
BEGIN:DAYLIGHT
TZOFFSETFROM:-0800
TZOFFSETTO:-0700
TZNAME:PDT
DTSTART:20220313T100000
END:DAYLIGHT
BEGIN:STANDARD
TZOFFSETFROM:-0700
TZOFFSETTO:-0800
TZNAME:PST
DTSTART:20221106T090000
END:STANDARD
BEGIN:DAYLIGHT
TZOFFSETFROM:-0800
TZOFFSETTO:-0700
TZNAME:PDT
DTSTART:20230312T100000
END:DAYLIGHT
BEGIN:STANDARD
TZOFFSETFROM:-0700
TZOFFSETTO:-0800
TZNAME:PST
DTSTART:20231105T090000
END:STANDARD
BEGIN:DAYLIGHT
TZOFFSETFROM:-0800
TZOFFSETTO:-0700
TZNAME:PDT
DTSTART:20240310T100000
END:DAYLIGHT
BEGIN:STANDARD
TZOFFSETFROM:-0700
TZOFFSETTO:-0800
TZNAME:PST
DTSTART:20241103T090000
END:STANDARD
END:VTIMEZONE
BEGIN:VEVENT
DTSTART;TZID=America/Los_Angeles:20230628T123500
DTEND;TZID=America/Los_Angeles:20230628T123500
DTSTAMP:20260423T113701
CREATED:20230603T123051Z
LAST-MODIFIED:20230626T160359Z
UID:17381-1687955700-1687955700@jbauctioneers.net
SUMMARY:OTAY MESA - AUTO AUCTION
DESCRIPTION:Presented By: PUBLIC AUTO AUCTIONUp to 70 Lien Sale VehiclesWednesday June 28th  @ 12:35pm(Preview 12:00pm) Auctions held Wednesdays*** NEW LOCATION ***Otay Valley Rd & Heritage Rd\, Chula Vista(Look for signs to the new facility from this location\, actual site is up the hill on 738 Heritage Rd.)Phone: 619-694-7809For a map and directions\, click here Here are some photos of vehicles available at this week’s Western Towing Auto Auction.Click on any of the images below to see the larger picture.\n\n\n\n\nno images were found \n\n\n\nTo download a copy of the list in Adobe pdf format\, Click here.\n\n\n\n\n\n\n	NOCONTROLYEAR/MAKEMODELREF NOLS/T\n\n\n\n\n	123-138808 CHEVROLETMALIBU319811LS\n\n\n	223-140304 HONDACIVIC319692LS\n\n\n	323-157610 AUDIA3321943LS\n\n\n	423-133307 LINCOLNTOWNCAR318870LS\n\n\n	523-155404 TOYOTAAVALON321904LS\n\n\n	623-147001 HONDAACCORD320653LS\n\n\n	723-121013 VOLKSWAGENPASSAT317579LS\n\n\n	823-139603 KIASORENTO319916LS\n\n\n	923-131707 SUBARUIMPREZA319149LS\n\n\n	1023-138708 HYUNDAISANTA FE320027LS\n\n\n	1123-135094 HONDAACCORD319183LS\n\n\n	1223-147502 BMWX5320542LS\n\n\n	1323-158706 INFINITIM35322188LS\n\n\n	1423-137208 BMW750il319481LS\n\n\n	1523-143813 KIAOPTIMA320258LS\n\n\n	1623-150106 MINI COOPER321016LS\n\n\n	1723-148494 TOYOTAPICKUP320909LS\n\n\n	1822-225910 VOLKSWAGENTOUAREG284818LS\n\n\n	1923-118906 FORDF150317341LS\n\n\n	20N/A03 HYUNDAISANTA FE324696TITLE \n\n\n	2123-152996 TOYOTACOROLLA321260LS\n\n\n	2223-105106 GMCENVOY315634LS\n\n\n	2323-139996 TOYOTACAMRY319787LS\n\n\n	2423-124203 BMWZ4318138LS\n\n\n	2523-146104 PONTIACGRD PRIX320547LS\n\n\n	2623-069807 HYUNDAIAZERA311476LS\n\n\n	2723-106400 LINCOLNCONTINENTAL315545LS\n\n\n	2823-138406 CHRYSLERPT CRUISER319803LS\n\n\n	2923-121315 MINI COOPERCOUNTRYMAN317582LS\n\n\n	3023-135908 FORDEXPLORER319354LS\n\n\n	3123-132408 NISSANSENTRA318968LS\n\n\n	3223-079512 HONDACIVIC312380TITLE \n\n\n	3323-120906 NISSANARMADA317578LS\n\n\n	3423-149203 BMW745li321028LS\n\n\n	3523-106503 BMW330i315549LS\n\n\n	3623-159799 LEXUSRX300322189LS\n\n\n	3722-305973 VOLKSWAGENBUG293614LS\n\n\n	3823-162404 INFINTIG35322553LS\n\n\n	3923-158300 TOYOTACAMRY322044LS\n\n\n	4023-158902 CHEVROLETTRAILBLAZER322280LS\n\n\n	4123-159004 PONTIACGRD PRIX322281LS\n\n\n	4223-154594 FORDMUSTANGN/ALS\n\n\n	4323-150405 FORDEXPLORER321167LS\n\n\n	4423-146293 TOYOTACAMRY320567LS\n\n\n	4523-129801 MERCEDESC230318718LS\n\n\n	4623-136912 NISSANSENTRA319465LS\n\n\n	4723-160001 FORDMUSTANG322200LS\n\n\n	4823-147798 PLYMOUTHGRD VOYAGER320457LS\n\n\n	4923-145902 HONDAACCORD320680LS\n\n\n	5023-146496 FORDEXPLORER320741LS\n\n\n\n\n\n\n\nTERMS AND CONDITIONS\n\nCash Only – All Sales are Final\n$200.00 refundable cash deposit to bid\nRefunds are available anytime during auction\nAll cars must be paid for and picked up by 4pm on Thursday ( no exceptions )\nAdditional deposits are required on vehicle’s over $1000.00\nLien sale vehicles sold to the general public are sold as is with all vaults and defects\, you are required to pay all DMV back registration and obtain a smog certificate before receiving your title from the DMV\, sales tax for your purchase will be paid directly to the DMV upon submission of the lien sale packet you will receive at the conclusion of the auction. Out of state buyers\, check with your local DMV to be sure that they will accept California lien sale documents for registration in your state.
URL:https://jbauctioneers.net/event/otay-mesa-auto-auction-20230628/
LOCATION:Western Towing\, 738 Heritage Rd.\, San Diego\, CA\, 92154\, United States
END:VEVENT
END:VCALENDAR