BEGIN:VCALENDAR
VERSION:2.0
PRODID:-//Joe Bradley Auctioneers - ECPv6.15.20//NONSGML v1.0//EN
CALSCALE:GREGORIAN
METHOD:PUBLISH
X-WR-CALNAME:Joe Bradley Auctioneers
X-ORIGINAL-URL:https://jbauctioneers.net
X-WR-CALDESC:Events for Joe Bradley Auctioneers
REFRESH-INTERVAL;VALUE=DURATION:PT1H
X-Robots-Tag:noindex
X-PUBLISHED-TTL:PT1H
BEGIN:VTIMEZONE
TZID:America/Los_Angeles
BEGIN:DAYLIGHT
TZOFFSETFROM:-0800
TZOFFSETTO:-0700
TZNAME:PDT
DTSTART:20220313T100000
END:DAYLIGHT
BEGIN:STANDARD
TZOFFSETFROM:-0700
TZOFFSETTO:-0800
TZNAME:PST
DTSTART:20221106T090000
END:STANDARD
BEGIN:DAYLIGHT
TZOFFSETFROM:-0800
TZOFFSETTO:-0700
TZNAME:PDT
DTSTART:20230312T100000
END:DAYLIGHT
BEGIN:STANDARD
TZOFFSETFROM:-0700
TZOFFSETTO:-0800
TZNAME:PST
DTSTART:20231105T090000
END:STANDARD
BEGIN:DAYLIGHT
TZOFFSETFROM:-0800
TZOFFSETTO:-0700
TZNAME:PDT
DTSTART:20240310T100000
END:DAYLIGHT
BEGIN:STANDARD
TZOFFSETFROM:-0700
TZOFFSETTO:-0800
TZNAME:PST
DTSTART:20241103T090000
END:STANDARD
END:VTIMEZONE
BEGIN:VEVENT
DTSTART;TZID=America/Los_Angeles:20230725T103000
DTEND;TZID=America/Los_Angeles:20230725T143000
DTSTAMP:20260423T113700
CREATED:20230626T155730Z
LAST-MODIFIED:20230722T183132Z
UID:17750-1690281000-1690295400@jbauctioneers.net
SUMMARY:OCEANSIDE - AUTO AUCTION
DESCRIPTION:Presented By:Auctions the 1st and 3rd Tuesdays of each monthPUBLIC AUTO AUCTIONUp to 80 Selected Vehicles\nTuesday July 25th @ 10:30am1060 Airport Rd. (in the Oceanside location towing yard)Oceanside 92058Phone. 760-722-6686For a map and directions\, click here\nHere are some photos of vehicles available at this week’s S&R Towing auction.Vehicles posted are subject to change without notice.Click on any of the images below to see the larger picture.*** MOTORHOME / TRAILER ***\n\n\n\n\nno images were found \n\n\n*** RUNNERS ***\n\n\n\n\nno images were found \n\n\n*** NON-RUNNERS ***\n\n\n\nno images were found \n\n\n\nTo download a copy of the list in Adobe pdf format\, Click here.\n\n\n\n\n\n\n\n	IMPOUND LOT #YearMakeModelEXP DATEPlateVINOdoSAL/T\n\n\n\n\n	10072812000ToyotaCelicaNPB3057JTDDR32T5Y0043731OOS\n\n\n	10386622000Toyota4Runner9EDT923 JT3GN86RXY0167132T\n\n\n	10148832013HondaCR-VCDVB935J6RM3H74DL035122\n\n\n	10144142007BMW3 Series6AJD191WBAVA33557KX75806\n\n\n	10221352001HondaCivic6UQW6741HGEM22941L093589\n\n\n	10359261993Chev Lumina9CCT0892G1WP14X1P9265716\n\n\n	10567372006HondaCR-V5TKC211JHLRD78986C017520\n\n\n	10121982019DodgeChallengerCN34R122C3CDZAG1KH723392\n\n\n	10310692013HyundaiGenesis Coupe8YIW979KMHHT6KD8DU111712\n\n\n	103689102014BMW3 Series7HMV813WBA3B1C51EK135503\n\n\n	102829111997OldsRegency3WBA5901G3HC52K6V4841679\n\n\n	93576122002BMW3 SeriesHYZ4163WBAEV53472KM01424\n\n\n	107203132005ToyotaCorolla5KFR503 1NXBR32E75Z381432\n\n\n	93512142007FordFocusBLS56861FAFP34N27W331169\n\n\n	81295152000ToyotaAvalonZHW766 4T1BF28B3YU007369\n\n\n	56071162005SCIONXA6WAA750 NO GOOD\n\n\n	105814172008HondaAccord6UTG0121HGCS22808A007916\n\n\n	96177181999FordF-350 Super Duty5X279781FTSX31F6XEB66223\n\n\n	107205192001ChevImpala4UQU7172G1WH55K519205520\n\n\n	101074202007ChevTrailBlazer7EWW253 1GNDT13S472143924\n\n\n	101180212003SubaruImprezaNO PLATEJF1GD29643G502842\n\n\n	10237422MitsEclipseNOPLATE4A3AC84HO2EO59255\n\n\n	104532232011InfinitiG37 Sedan6PGH433JN1CV6APXBM505135T\n\n\n	103201242003HondaAccord7XCN2171HGCM66573A072935\n\n\n	102515252004HondaAccord7LOD6881HGCM56444A161235SAL\n\n\n	103893262005VlksJetta7HUS9243VWSA69M95M058124\n\n\n	103865272004HyundaiACCENT5JBG002KMHCG35C84U300036\n\n\n	102320282012VlksPassat7GSN6801VWBP7A36CC034935\n\n\n	102324291999FordContour4HZK0681FAFP6638XK176499\n\n\n	102334302010HondaAccord6MYP0981HGCP2F81AA195122\n\n\n	104261312009PontiacG67CQS7541G2ZJ57K894248452\n\n\n	104107322006NissanSentraGBAY6193N1CB51D16L643073\n\n\n	10407533SubaruBratNO PLATEAG9L0364610000000\n\n\n	104269342008ChevMalibu1G1ZK577384205729\n\n\n	102148352008MazdaMazdaspeed3B3SRUJM1BK34L181821624\n\n\n	100974362007FordF-150RXT30221FTPW12547KC12314\n\n\n	103551372005AudiA4NOPLATEWAUAT48H65K007458\n\n\n	102322382000ToyotaCorolla8TUS1641NXBR12E5YZ417062\n\n\n	104103392008Chry PT Cruiser6HFT7073A8FY58B48T224398\n\n\n	101935401989HondaCivic2NEF5431HGED3653KA033149\n\n\n	107060411993FordE-15046618U2 1FTDE14Y7PHB91680\n\n\n	103627422003FordRANGER95738H11FTYR10U73PB57392T\n\n\n	104176432000NissanAltima4JSM519 1N4DL01D0YC142018T\n\n\n	105586442000HondaCivic4JSW6432HGEJ6671YH533283T\n\n\n	102864451997DodgeRAM 1500CPK5156 1B7HF13Y4VJ621669\n\n\n	100955462003FordF-1507B98260 1FTRX17W83NA12875\n\n\n	47\n\n\n	102307482012FordFocus2/18/20216UCW8431FAHP3E2XCL314192159988\n\n\n	102031492016DodgeDart2/2/20248CEY4201C3CDFBB0GD689757127940\n\n\n	102423502000BMW3 Series10/16/20234HSJ234WBABM3347YJN81691174797\n\n\n	103642512004ToyotaCamry2/10/204245FZT7824T1BE32KX4U309656185620\n\n\n	100798522003DodgeGrand Caravan6/22/20235CAY5851D4GP24303B294084223950\n\n\n	106155532013KiaOptima Hybrid12/2/20238DFK373KNAGM4AD6D5054629167986\n\n\n	77826542002ChevroletTrailBlazer3/24/20236MDH6881GNDT13S722281661158634\n\n\n	100317552007BMW5 Series1/20/20248UDA737WBANF73517CY17486207362\n\n\n	101037562007NissanAltima6/16/20238RQB4561N4AL21E67C211641173401\n\n\n	102785571999Toyota4Runner9/18/20234HHY362JT3GN86RXX0135389319547\n\n\n	80319582007FordF-1505/31/2021CHB-80581FTPW14V57KB66022147387\n\n\n	103996591998InfinitiQX412/28/20233XIY455JNRAR05Y2WW023942191519\n\n\n	99630602006NissanPathfinder8/24/20227VVH7675N1AR18W66C651242192926\n\n\n	102659612001GMCYukon3/8/20247JUE8991GKEC13T11R100098202064\n\n\n	103261621997DodgeRam Van4/8/20208BSK323 2B6HB21Y3VK598754\n\n\n	106979632012SciontC4/22/20238VFH629JTKJF5C70C3034797173559SAL\n\n\n	106983642004HondaOdyssey3/8/20228TFZ1545FNRL18884B105570214719\n\n\n	106982652008HyundaiELANTRAOOSEAT191KMHDU46D88U479646108111\n\n\n	106980662008Chev Cobalt5/28/20227EWT3791G1AK18F187299913\n\n\n	104417672005Chry 3003/12/20235MNK7632C3JA43R05H663899173071\n\n\n	101475681989Chev Chassis3/18/2023EF153DP1GBJP37W7K330877052627\n\n\n\n\n\n\n\n\n\nTERMS AND CONDITIONS\n\nBuyers fees: Dealers & Dismantlers $35.00\nGeneral Public $65.00\n$200.00 cash deposit required to bid\nAll vehicles must be paid for in full CASH ONLY at the conclusion of the auction\nAll vehicles must be removed by Friday following the auction\nLien sale vehicles sold to the general public are sold as is with all vaults and defects\, you are required to pay all DMV back registration and obtain a smog certificate before receiving your title from the DMV\, sales tax for your purchase will be paid directly to the DMV upon submission of the lien sale packet you will receive at the conclusion of the auction. Out of state buyers\, check with your local DMV to be sure that they will accept California lien sale documents for registration in your state.\nFor more info call direct 760-722-6686
URL:https://jbauctioneers.net/event/oceanside-auto-auction-20230725/
LOCATION:S&R Towing\, 1060 Airport Rd.\, Oceanside\, CA\, 92058\, United States
END:VEVENT
END:VCALENDAR